BEGIN:VCALENDAR
VERSION:2.0
PRODID:-//Kidsguide - ECPv6.15.20//NONSGML v1.0//EN
CALSCALE:GREGORIAN
METHOD:PUBLISH
X-WR-CALNAME:Kidsguide
X-ORIGINAL-URL:https://kidsguidemagazine.com
X-WR-CALDESC:Events for Kidsguide
REFRESH-INTERVAL;VALUE=DURATION:PT1H
X-Robots-Tag:noindex
X-PUBLISHED-TTL:PT1H
BEGIN:VTIMEZONE
TZID:America/Los_Angeles
BEGIN:DAYLIGHT
TZOFFSETFROM:-0800
TZOFFSETTO:-0700
TZNAME:PDT
DTSTART:20240310T100000
END:DAYLIGHT
BEGIN:STANDARD
TZOFFSETFROM:-0700
TZOFFSETTO:-0800
TZNAME:PST
DTSTART:20241103T090000
END:STANDARD
BEGIN:DAYLIGHT
TZOFFSETFROM:-0800
TZOFFSETTO:-0700
TZNAME:PDT
DTSTART:20250309T100000
END:DAYLIGHT
BEGIN:STANDARD
TZOFFSETFROM:-0700
TZOFFSETTO:-0800
TZNAME:PST
DTSTART:20251102T090000
END:STANDARD
BEGIN:DAYLIGHT
TZOFFSETFROM:-0800
TZOFFSETTO:-0700
TZNAME:PDT
DTSTART:20260308T100000
END:DAYLIGHT
BEGIN:STANDARD
TZOFFSETFROM:-0700
TZOFFSETTO:-0800
TZNAME:PST
DTSTART:20261101T090000
END:STANDARD
BEGIN:DAYLIGHT
TZOFFSETFROM:-0800
TZOFFSETTO:-0700
TZNAME:PDT
DTSTART:20270314T100000
END:DAYLIGHT
BEGIN:STANDARD
TZOFFSETFROM:-0700
TZOFFSETTO:-0800
TZNAME:PST
DTSTART:20271107T090000
END:STANDARD
END:VTIMEZONE
BEGIN:VEVENT
DTSTART;TZID=America/Los_Angeles:20260404T130000
DTEND;TZID=America/Los_Angeles:20260404T150000
DTSTAMP:20260424T094859
CREATED:20240228T180248Z
LAST-MODIFIED:20260322T054315Z
UID:10020041810-1775307600-1775314800@kidsguidemagazine.com
SUMMARY:Easter Egg Hunt & Celebration | Yanks Air Museum\, Chino
DESCRIPTION:Saturday\, April 4\, 2026 \nHunt for Easter eggs and celebrate the holiday at Yanks Air Museum. The egg hunt kicks off at 1:30pm sharp\, with Easter Bunny photo-ops and glitter tattoos running throughout the afternoon from 1pm to 3pm. \nActivities include: \n\nEgg hunt (starts 1:30pm)\nEaster Bunny photo-op\nGlitter tattoos\nFree parking\n\nTickets are $20 per adult and include admission for up to 3 children (ages 5–11). Kids (ages 4 and under) are always free. \n————— \nBefore You Go: Visit Yanks Air Museum‘s website for updates and details. This event is organized by Yanks Air Museum. Kidsguide is an independent community resource helping families discover fun events across Southern California. \nLooking for more family fun? Explore more family-friendly events on our blog\, browse our calendar\, check out limited-time exhibits and experiences\, or subscribe to our newsletter for weekly updates.
URL:https://kidsguidemagazine.com/event/easter-celebration-at-yanks-air-museum-in-chino/
LOCATION:Yanks Air Museum\, 15121 Stearman Drive\, Chino\, CA\, 91710
CATEGORIES:* Weekend Event,04: Easter
END:VEVENT
BEGIN:VEVENT
DTSTART;TZID=America/Los_Angeles:20251025T130000
DTEND;TZID=America/Los_Angeles:20251025T150000
DTSTAMP:20260424T094859
CREATED:20251021T205648Z
LAST-MODIFIED:20251022T031213Z
UID:10020044640-1761397200-1761404400@kidsguidemagazine.com
SUMMARY:Haunted Hangar at Yanks Air Museum
DESCRIPTION:Saturday\, October 25\, 2025 \nTake flight into Halloween fun at Yanks Air Museum’s Haunted Hangar Trick-or-Treat event. Families can enjoy a stress-free afternoon of candy collecting and festive activities surrounded by vintage aircraft. Kids in costume get free admission with a paid adult ticket (limit three per adult)\, and Yanks members enter free. \nAdmission: $20 per adult\, free  for kids in costume with paid adult.
URL:https://kidsguidemagazine.com/event/haunted-hangar-at-yanks-air-museum/
LOCATION:Yanks Air Museum\, 15121 Stearman Drive\, Chino\, CA\, 91710
CATEGORIES:* Editor's Picks!,10: Halloween Events
END:VEVENT
BEGIN:VEVENT
DTSTART;TZID=America/Los_Angeles:20251025T130000
DTEND;TZID=America/Los_Angeles:20251025T150000
DTSTAMP:20260424T094859
CREATED:20240912T171419Z
LAST-MODIFIED:20251006T200030Z
UID:10020042416-1761397200-1761404400@kidsguidemagazine.com
SUMMARY:Hangar Halloween at Yanks Air Museum in Chino
DESCRIPTION:Saturday\, October 25\, 2025 \nJoin Yanks for a fun trick or treat event and activities. Kids in costume receive free admission. \n 
URL:https://kidsguidemagazine.com/event/hangar-halloween-at-yanks-air-museum-in-chino/
LOCATION:Yanks Air Museum\, 15121 Stearman Drive\, Chino\, CA\, 91710
CATEGORIES:10: Halloween Events
END:VEVENT
END:VCALENDAR