BEGIN:VCALENDAR
VERSION:2.0
PRODID:-//Kidsguide - ECPv6.15.20//NONSGML v1.0//EN
CALSCALE:GREGORIAN
METHOD:PUBLISH
X-WR-CALNAME:Kidsguide
X-ORIGINAL-URL:https://kidsguidemagazine.com
X-WR-CALDESC:Events for Kidsguide
REFRESH-INTERVAL;VALUE=DURATION:PT1H
X-Robots-Tag:noindex
X-PUBLISHED-TTL:PT1H
BEGIN:VTIMEZONE
TZID:America/Los_Angeles
BEGIN:DAYLIGHT
TZOFFSETFROM:-0800
TZOFFSETTO:-0700
TZNAME:PDT
DTSTART:20250309T100000
END:DAYLIGHT
BEGIN:STANDARD
TZOFFSETFROM:-0700
TZOFFSETTO:-0800
TZNAME:PST
DTSTART:20251102T090000
END:STANDARD
BEGIN:DAYLIGHT
TZOFFSETFROM:-0800
TZOFFSETTO:-0700
TZNAME:PDT
DTSTART:20260308T100000
END:DAYLIGHT
BEGIN:STANDARD
TZOFFSETFROM:-0700
TZOFFSETTO:-0800
TZNAME:PST
DTSTART:20261101T090000
END:STANDARD
BEGIN:DAYLIGHT
TZOFFSETFROM:-0800
TZOFFSETTO:-0700
TZNAME:PDT
DTSTART:20270314T100000
END:DAYLIGHT
BEGIN:STANDARD
TZOFFSETFROM:-0700
TZOFFSETTO:-0800
TZNAME:PST
DTSTART:20271107T090000
END:STANDARD
END:VTIMEZONE
BEGIN:VEVENT
DTSTART;TZID=America/Los_Angeles:20260411T100000
DTEND;TZID=America/Los_Angeles:20260411T140000
DTSTAMP:20260423T052135
CREATED:20260327T182136Z
LAST-MODIFIED:20260327T182136Z
UID:10020046284-1775901600-1775916000@kidsguidemagazine.com
SUMMARY:National Pet Day Celebration | Vin Scully Centennial Park\, La Habra
DESCRIPTION:Saturday\, April 11\, 2026 \nCelebrate National Pet Day with an afternoon dedicated to animals and the people who love them at Vin Scully Centennial Park in La Habra. \nMeet adoptable animals looking for forever homes. Browse pet-focused vendors\, connect with local shelters and rescue organizations\, and learn about animal care and community resources. \nKids can also check out the Mobile Museum from The Children’s Museum at La Habra\, while families explore community games and activities\, watch a live dog training demonstration\, and enter raffles and giveaways. \nActivities include: \n\nPet adoption event (10am–12pm)\nLive dog training demonstration\nCommunity games and activities\nRaffles and giveaways\nMobile Museum from The Children’s Museum at La Habra\nInfo from local shelters and rescue organizations\nResources from La Habra Police Department Animal Control\nPet-focused vendors and community partners\n\nAdmission is free. \n————— \nBefore You Go: Visit City of La Habra Community Services‘s website for updates and details. This event is organized by the City of La Habra Community Services Department. Kidsguide is an independent community resource helping families discover fun events across Southern California. \nLooking for more family fun? Explore more family-friendly events on our blog\, browse our calendar\, check out limited-time exhibits and experiences\, or subscribe to our newsletter for weekly updates.
URL:https://kidsguidemagazine.com/event/national-pet-day-celebration-vin-scully-centennial-park-la-habra/
LOCATION:Vin Scully Centennial Park (La Habra)\, 1001 W. Las Lomas Drive\, La Habra\, CA\, 90631
CATEGORIES:* Free Events,* Weekend Event
END:VEVENT
END:VCALENDAR