BEGIN:VCALENDAR
VERSION:2.0
PRODID:-//Kidsguide - ECPv6.15.20//NONSGML v1.0//EN
CALSCALE:GREGORIAN
METHOD:PUBLISH
X-WR-CALNAME:Kidsguide
X-ORIGINAL-URL:https://kidsguidemagazine.com
X-WR-CALDESC:Events for Kidsguide
REFRESH-INTERVAL;VALUE=DURATION:PT1H
X-Robots-Tag:noindex
X-PUBLISHED-TTL:PT1H
BEGIN:VTIMEZONE
TZID:America/Los_Angeles
BEGIN:DAYLIGHT
TZOFFSETFROM:-0800
TZOFFSETTO:-0700
TZNAME:PDT
DTSTART:20240310T100000
END:DAYLIGHT
BEGIN:STANDARD
TZOFFSETFROM:-0700
TZOFFSETTO:-0800
TZNAME:PST
DTSTART:20241103T090000
END:STANDARD
BEGIN:DAYLIGHT
TZOFFSETFROM:-0800
TZOFFSETTO:-0700
TZNAME:PDT
DTSTART:20250309T100000
END:DAYLIGHT
BEGIN:STANDARD
TZOFFSETFROM:-0700
TZOFFSETTO:-0800
TZNAME:PST
DTSTART:20251102T090000
END:STANDARD
BEGIN:DAYLIGHT
TZOFFSETFROM:-0800
TZOFFSETTO:-0700
TZNAME:PDT
DTSTART:20260308T100000
END:DAYLIGHT
BEGIN:STANDARD
TZOFFSETFROM:-0700
TZOFFSETTO:-0800
TZNAME:PST
DTSTART:20261101T090000
END:STANDARD
END:VTIMEZONE
BEGIN:VEVENT
DTSTART;TZID=America/Los_Angeles:20250704T100000
DTEND;TZID=America/Los_Angeles:20250704T210000
DTSTAMP:20260423T215925
CREATED:20250618T174452Z
LAST-MODIFIED:20250618T174452Z
UID:10020043559-1751623200-1751662800@kidsguidemagazine.com
SUMMARY:4th of July in El Segundo
DESCRIPTION:Friday\, July 4th\, 2025 \nDaytime events (10am-3pm) include a group of contests like hula hoop\, a water balloon toss\, a watermelon eating contest\, and a pie eating contest. Enjoy the evening (5pm-9pm) with live music\, food booths\, and the fireworks. General admission $5\, children under 2 free.
URL:https://kidsguidemagazine.com/event/4th-of-july-in-el-segundo/
LOCATION:Stevenson Field – El Segundo\, 408 Eucalyptus Dr.\, El Segundo\, CA\, 90245
CATEGORIES:07: July 4th
END:VEVENT
END:VCALENDAR