BEGIN:VCALENDAR
VERSION:2.0
PRODID:-//Kidsguide - ECPv6.15.20//NONSGML v1.0//EN
CALSCALE:GREGORIAN
METHOD:PUBLISH
X-ORIGINAL-URL:https://kidsguidemagazine.com
X-WR-CALDESC:Events for Kidsguide
REFRESH-INTERVAL;VALUE=DURATION:PT1H
X-Robots-Tag:noindex
X-PUBLISHED-TTL:PT1H
BEGIN:VTIMEZONE
TZID:America/Los_Angeles
BEGIN:DAYLIGHT
TZOFFSETFROM:-0800
TZOFFSETTO:-0700
TZNAME:PDT
DTSTART:20230312T100000
END:DAYLIGHT
BEGIN:STANDARD
TZOFFSETFROM:-0700
TZOFFSETTO:-0800
TZNAME:PST
DTSTART:20231105T090000
END:STANDARD
BEGIN:DAYLIGHT
TZOFFSETFROM:-0800
TZOFFSETTO:-0700
TZNAME:PDT
DTSTART:20240310T100000
END:DAYLIGHT
BEGIN:STANDARD
TZOFFSETFROM:-0700
TZOFFSETTO:-0800
TZNAME:PST
DTSTART:20241103T090000
END:STANDARD
BEGIN:DAYLIGHT
TZOFFSETFROM:-0800
TZOFFSETTO:-0700
TZNAME:PDT
DTSTART:20250309T100000
END:DAYLIGHT
BEGIN:STANDARD
TZOFFSETFROM:-0700
TZOFFSETTO:-0800
TZNAME:PST
DTSTART:20251102T090000
END:STANDARD
BEGIN:DAYLIGHT
TZOFFSETFROM:-0800
TZOFFSETTO:-0700
TZNAME:PDT
DTSTART:20260308T100000
END:DAYLIGHT
BEGIN:STANDARD
TZOFFSETFROM:-0700
TZOFFSETTO:-0800
TZNAME:PST
DTSTART:20261101T090000
END:STANDARD
BEGIN:DAYLIGHT
TZOFFSETFROM:-0800
TZOFFSETTO:-0700
TZNAME:PDT
DTSTART:20270314T100000
END:DAYLIGHT
BEGIN:STANDARD
TZOFFSETFROM:-0700
TZOFFSETTO:-0800
TZNAME:PST
DTSTART:20271107T090000
END:STANDARD
END:VTIMEZONE
BEGIN:VEVENT
DTSTART;VALUE=DATE:20260221
DTEND;VALUE=DATE:20260223
DTSTAMP:20260421T165053
CREATED:20250116T220512Z
LAST-MODIFIED:20260127T184518Z
UID:10020041234-1771632000-1771804799@kidsguidemagazine.com
SUMMARY:Lunar New Year at San Diego Zoo
DESCRIPTION:February 21-22\, 2026 \nWelcome the Year of the Horse with a weekend of special activities celebrating Asian wildlife and culture. \nMeet wildlife care specialists to learn about tigers\, red pandas\, and other species\, and chat with conservationists working to protect them. Create festive crafts\, add a wish to the conservation wishing tree\, and snap a photo with Bamboo Panda. \nEnjoy unique Lunar New Year flavors at Hua Mei Café while exploring the Zoo’s vibrant exhibits.
URL:https://kidsguidemagazine.com/event/lunar-new-year-at-san-diego-zoo/
LOCATION:San Diego Zoo\, 920 Zoo Drive\, San Diego\, 92101
CATEGORIES:• Cultural Events,01: Lunar New Year
END:VEVENT
BEGIN:VEVENT
DTSTART;VALUE=DATE:20251004
DTEND;VALUE=DATE:20251027
DTSTAMP:20260421T165053
CREATED:20251007T183555Z
LAST-MODIFIED:20251007T183557Z
UID:10020033037-1759536000-1761523199@kidsguidemagazine.com
SUMMARY:HalGLOWeen at San Diego Zoo
DESCRIPTION:Fridays–Sundays\, October 4-26\, 2025 \nThe San Diego Zoo lights up the night with its HalGLOWeen celebration\, a glowing Halloween adventure filled with music\, acrobatics\, and animal encounters. \nDance along Front Street with the Boo Crew and DJ Front Street\, explore Python Path after dark\, and watch The Glow-Go’s singing pumpkin show at Wildlife Explorers Basecamp. \nKids can meet spooky (but friendly) creatures\, laugh along with Dr. Zoolittle’s Tricks & Treats\, and enjoy neon performances like The Spider’s W.E.B. and the Spooky Revue. \nKids (11 and under) free in October. \n 
URL:https://kidsguidemagazine.com/event/halgloween-at-san-diego-zoo-2/
LOCATION:San Diego Zoo\, 920 Zoo Drive\, San Diego\, 92101
CATEGORIES:* Editor's Picks!,• Immersive Experiences,10: Halloween Attractions
END:VEVENT
BEGIN:VEVENT
DTSTART;VALUE=DATE:20241214
DTEND;VALUE=DATE:20250106
DTSTAMP:20260421T165053
CREATED:20231127T220934Z
LAST-MODIFIED:20251209T213808Z
UID:10020041640-1734134400-1736121599@kidsguidemagazine.com
SUMMARY:Jungle Bells: Aurora at the San Diego Zoo
DESCRIPTION:December 19 – January 4\, 2026 \nThis annual holiday event will treat guests through a wonderland of twinkling lights\, live entertainment\, festive music\, and views of wildlife. Join in Reindeer Games\, visit Santa or his friendly helpers\, Dr. Harry Lion\, Churchill Polar Bear\, Sydney Koala and all their friends. Enjoy acrobatic elves and new this year\, their spectacular Holiday Light Treks. \nEvent included with general admission ticket. \n  \n 
URL:https://kidsguidemagazine.com/event/jungle-bells-aurora-at-the-san-diego-zoo/
LOCATION:San Diego Zoo\, 920 Zoo Drive\, San Diego\, 92101
CATEGORIES:* Editor's Picks!,• Nature & Outdoors,12: Holiday Attractions
END:VEVENT
END:VCALENDAR