BEGIN:VCALENDAR
VERSION:2.0
PRODID:-//Kidsguide - ECPv6.15.20//NONSGML v1.0//EN
CALSCALE:GREGORIAN
METHOD:PUBLISH
X-WR-CALNAME:Kidsguide
X-ORIGINAL-URL:https://kidsguidemagazine.com
X-WR-CALDESC:Events for Kidsguide
REFRESH-INTERVAL;VALUE=DURATION:PT1H
X-Robots-Tag:noindex
X-PUBLISHED-TTL:PT1H
BEGIN:VTIMEZONE
TZID:America/Los_Angeles
BEGIN:DAYLIGHT
TZOFFSETFROM:-0800
TZOFFSETTO:-0700
TZNAME:PDT
DTSTART:20250309T100000
END:DAYLIGHT
BEGIN:STANDARD
TZOFFSETFROM:-0700
TZOFFSETTO:-0800
TZNAME:PST
DTSTART:20251102T090000
END:STANDARD
BEGIN:DAYLIGHT
TZOFFSETFROM:-0800
TZOFFSETTO:-0700
TZNAME:PDT
DTSTART:20260308T100000
END:DAYLIGHT
BEGIN:STANDARD
TZOFFSETFROM:-0700
TZOFFSETTO:-0800
TZNAME:PST
DTSTART:20261101T090000
END:STANDARD
BEGIN:DAYLIGHT
TZOFFSETFROM:-0800
TZOFFSETTO:-0700
TZNAME:PDT
DTSTART:20270314T100000
END:DAYLIGHT
BEGIN:STANDARD
TZOFFSETFROM:-0700
TZOFFSETTO:-0800
TZNAME:PST
DTSTART:20271107T090000
END:STANDARD
END:VTIMEZONE
BEGIN:VEVENT
DTSTART;TZID=America/Los_Angeles:20260425T103000
DTEND;TZID=America/Los_Angeles:20260425T163000
DTSTAMP:20260420T225455
CREATED:20260421T003309Z
LAST-MODIFIED:20260421T003309Z
UID:10020046493-1777113000-1777134600@kidsguidemagazine.com
SUMMARY:Festival of Nations & Parade | Central Park & Walker Street\, La Palma
DESCRIPTION:Saturday\, April 25\, 2026 \nCelebrate culture and community at the La Palma Festival of Nations & Parade\, a full day of family-friendly fun and entertainment. \nStart the day with the hometown parade along Walker Street\, then head to Central Park for the festival featuring carnival rides\, games\, and cultural performances throughout the afternoon. Explore food trucks\, attractions\, and activities that highlight the diverse cultures of Southern California. \nFamilies can enjoy rides for all ages\, including options for younger children\, along with a petting zoo and interactive experiences. Activity wristbands are available for unlimited rides and games\, with discounted pre-sale options offered ahead of the event. \nAdmission is free. Activity wristbands are available for purchase for rides and games. \n————— \nBefore You Go: Visit the City of La Palma’s website for updates\, wristband details\, and event information. This event is organized by the City of La Palma. Kidsguide is an independent community resource helping families discover fun events across Southern California. \nLooking for more family fun? Explore more family-friendly events on our blog\, browse our calendar\, check out limited-time exhibits and experiences\, or subscribe to our newsletter for weekly updates. \n 
URL:https://kidsguidemagazine.com/event/festival-of-nations-parade-central-park-walker-street-la-palma/
LOCATION:Central Park – City of La Palma\, 7821 Walker Street\, La Palma\, CA\, 90623
CATEGORIES:* Free Events,* Weekend Event,• Festivals
END:VEVENT
END:VCALENDAR