BEGIN:VCALENDAR
VERSION:2.0
PRODID:-//Kidsguide - ECPv6.15.20//NONSGML v1.0//EN
CALSCALE:GREGORIAN
METHOD:PUBLISH
X-WR-CALNAME:Kidsguide
X-ORIGINAL-URL:https://kidsguidemagazine.com
X-WR-CALDESC:Events for Kidsguide
REFRESH-INTERVAL;VALUE=DURATION:PT1H
X-Robots-Tag:noindex
X-PUBLISHED-TTL:PT1H
BEGIN:VTIMEZONE
TZID:America/Los_Angeles
BEGIN:DAYLIGHT
TZOFFSETFROM:-0800
TZOFFSETTO:-0700
TZNAME:PDT
DTSTART:20240310T100000
END:DAYLIGHT
BEGIN:STANDARD
TZOFFSETFROM:-0700
TZOFFSETTO:-0800
TZNAME:PST
DTSTART:20241103T090000
END:STANDARD
BEGIN:DAYLIGHT
TZOFFSETFROM:-0800
TZOFFSETTO:-0700
TZNAME:PDT
DTSTART:20250309T100000
END:DAYLIGHT
BEGIN:STANDARD
TZOFFSETFROM:-0700
TZOFFSETTO:-0800
TZNAME:PST
DTSTART:20251102T090000
END:STANDARD
BEGIN:DAYLIGHT
TZOFFSETFROM:-0800
TZOFFSETTO:-0700
TZNAME:PDT
DTSTART:20260308T100000
END:DAYLIGHT
BEGIN:STANDARD
TZOFFSETFROM:-0700
TZOFFSETTO:-0800
TZNAME:PST
DTSTART:20261101T090000
END:STANDARD
END:VTIMEZONE
BEGIN:VEVENT
DTSTART;TZID=America/Los_Angeles:20250805T170000
DTEND;TZID=America/Los_Angeles:20250805T200000
DTSTAMP:20260421T174911
CREATED:20220715T201420Z
LAST-MODIFIED:20250717T224010Z
UID:10020038096-1754413200-1754424000@kidsguidemagazine.com
SUMMARY:Civic Expo & National Night Out in La Palma
DESCRIPTION:Tuesday\, August 5\, 2025 \nThis free\, all-ages event runs from 5–8 p.m. and features a helicopter display\, SWAT and K-9 demos\, traffic motorcycle skills\, mounted police horses\, games\, food trucks\, and the chance to meet detectives and officers from across the department. \n 
URL:https://kidsguidemagazine.com/event/national-night-out-in-la-palma/
LOCATION:Central Park – City of La Palma\, 7821 Walker Street\, La Palma\, CA\, 90623
CATEGORIES:* Free Events
END:VEVENT
END:VCALENDAR