BEGIN:VCALENDAR
VERSION:2.0
PRODID:-//Kidsguide - ECPv6.15.20//NONSGML v1.0//EN
CALSCALE:GREGORIAN
METHOD:PUBLISH
X-WR-CALNAME:Kidsguide
X-ORIGINAL-URL:https://kidsguidemagazine.com
X-WR-CALDESC:Events for Kidsguide
REFRESH-INTERVAL;VALUE=DURATION:PT1H
X-Robots-Tag:noindex
X-PUBLISHED-TTL:PT1H
BEGIN:VTIMEZONE
TZID:America/Los_Angeles
BEGIN:DAYLIGHT
TZOFFSETFROM:-0800
TZOFFSETTO:-0700
TZNAME:PDT
DTSTART:20250309T100000
END:DAYLIGHT
BEGIN:STANDARD
TZOFFSETFROM:-0700
TZOFFSETTO:-0800
TZNAME:PST
DTSTART:20251102T090000
END:STANDARD
BEGIN:DAYLIGHT
TZOFFSETFROM:-0800
TZOFFSETTO:-0700
TZNAME:PDT
DTSTART:20260308T100000
END:DAYLIGHT
BEGIN:STANDARD
TZOFFSETFROM:-0700
TZOFFSETTO:-0800
TZNAME:PST
DTSTART:20261101T090000
END:STANDARD
BEGIN:DAYLIGHT
TZOFFSETFROM:-0800
TZOFFSETTO:-0700
TZNAME:PDT
DTSTART:20270314T100000
END:DAYLIGHT
BEGIN:STANDARD
TZOFFSETFROM:-0700
TZOFFSETTO:-0800
TZNAME:PST
DTSTART:20271107T090000
END:STANDARD
END:VTIMEZONE
BEGIN:VEVENT
DTSTART;TZID=America/Los_Angeles:20260426T120000
DTEND;TZID=America/Los_Angeles:20260426T160000
DTSTAMP:20260421T102852
CREATED:20260421T044117Z
LAST-MODIFIED:20260421T044117Z
UID:10020046500-1777204800-1777219200@kidsguidemagazine.com
SUMMARY:Annual Kitten Shower & Open House | Kitten Rescue Sanctuary\, Atwater Village\, LA
DESCRIPTION:Sunday\, April 26\, 2026 \nCelebrate kitten season at the Annual Kitten Shower and Open House with Kitten Rescue. \nMeet baby kittens and spend time with resident cats while exploring the sanctuary. Watch live demonstrations on how to bottle feed orphaned kittens and take a behind-the-scenes tour to learn more about the rescue’s work. \nEnjoy light refreshments while browsing silent auction and raffle items\, all during a relaxed afternoon focused on connecting with the community and supporting animal care. \nActivities include: \n\nMeet baby kittens\nBottle feeding demos\nSanctuary tours\nSilent auction & raffle\nTime with resident cats\n\nAdmission is free. \n————— \nBefore You Go: Visit Kitten Rescue LA or Perry’s Place LA’s social media for updates and event details. This event is hosted at the Kitten Rescue Sanctuary. Kidsguide is an independent community resource helping families discover fun events across Southern California. \nLooking for more family fun? Explore more family-friendly events on our blog\, browse our calendar\, check out limited-time exhibits and experiences\, or subscribe to our newsletter for weekly updates. \n 
URL:https://kidsguidemagazine.com/event/annual-kitten-shower-open-house-kitten-rescue-sanctuary-atwater-village-la/
LOCATION:Kitten Rescue Sanctuary\, 3519 Casitas Ave.\, Los Angeles\, CA\, 90039
CATEGORIES:* Free Events,* Weekend Event
END:VEVENT
END:VCALENDAR