BEGIN:VCALENDAR
VERSION:2.0
PRODID:-//Kidsguide - ECPv6.15.20//NONSGML v1.0//EN
CALSCALE:GREGORIAN
METHOD:PUBLISH
X-WR-CALNAME:Kidsguide
X-ORIGINAL-URL:https://kidsguidemagazine.com
X-WR-CALDESC:Events for Kidsguide
REFRESH-INTERVAL;VALUE=DURATION:PT1H
X-Robots-Tag:noindex
X-PUBLISHED-TTL:PT1H
BEGIN:VTIMEZONE
TZID:America/Los_Angeles
BEGIN:DAYLIGHT
TZOFFSETFROM:-0800
TZOFFSETTO:-0700
TZNAME:PDT
DTSTART:20240310T100000
END:DAYLIGHT
BEGIN:STANDARD
TZOFFSETFROM:-0700
TZOFFSETTO:-0800
TZNAME:PST
DTSTART:20241103T090000
END:STANDARD
BEGIN:DAYLIGHT
TZOFFSETFROM:-0800
TZOFFSETTO:-0700
TZNAME:PDT
DTSTART:20250309T100000
END:DAYLIGHT
BEGIN:STANDARD
TZOFFSETFROM:-0700
TZOFFSETTO:-0800
TZNAME:PST
DTSTART:20251102T090000
END:STANDARD
BEGIN:DAYLIGHT
TZOFFSETFROM:-0800
TZOFFSETTO:-0700
TZNAME:PDT
DTSTART:20260308T100000
END:DAYLIGHT
BEGIN:STANDARD
TZOFFSETFROM:-0700
TZOFFSETTO:-0800
TZNAME:PST
DTSTART:20261101T090000
END:STANDARD
END:VTIMEZONE
BEGIN:VEVENT
DTSTART;TZID=America/Los_Angeles:20251009T183000
DTEND;TZID=America/Los_Angeles:20251009T200000
DTSTAMP:20260423T034921
CREATED:20250717T210033Z
LAST-MODIFIED:20250717T210033Z
UID:10020043859-1760034600-1760040000@kidsguidemagazine.com
SUMMARY:Nites on Pine in Los Alamitos
DESCRIPTION:A family-friendly evening series on Pine Street with live music\, food\, and activities for all ages. Each night features a musical theme\, a free kids zone\, social activities\, and creative vendors. Bring a chair and enjoy the community atmosphere. \nUpcoming dates are August 14\, September 11\, and October 9 from 6:30 p.m. to 8:00 p.m.
URL:https://kidsguidemagazine.com/event/nites-on-pine-in-los-alamitos/2025-10-09/
LOCATION:Florista & Pine St.\, Los Alamitos\, CA
CATEGORIES:* Free Events
END:VEVENT
BEGIN:VEVENT
DTSTART;TZID=America/Los_Angeles:20250911T183000
DTEND;TZID=America/Los_Angeles:20250911T200000
DTSTAMP:20260423T034921
CREATED:20250717T210033Z
LAST-MODIFIED:20250717T210033Z
UID:10020043858-1757615400-1757620800@kidsguidemagazine.com
SUMMARY:Nites on Pine in Los Alamitos
DESCRIPTION:A family-friendly evening series on Pine Street with live music\, food\, and activities for all ages. Each night features a musical theme\, a free kids zone\, social activities\, and creative vendors. Bring a chair and enjoy the community atmosphere. \nUpcoming dates are August 14\, September 11\, and October 9 from 6:30 p.m. to 8:00 p.m.
URL:https://kidsguidemagazine.com/event/nites-on-pine-in-los-alamitos/2025-09-11/
LOCATION:Florista & Pine St.\, Los Alamitos\, CA
CATEGORIES:* Free Events
END:VEVENT
BEGIN:VEVENT
DTSTART;TZID=America/Los_Angeles:20250814T183000
DTEND;TZID=America/Los_Angeles:20250814T200000
DTSTAMP:20260423T034921
CREATED:20250717T210033Z
LAST-MODIFIED:20250717T210033Z
UID:10020043857-1755196200-1755201600@kidsguidemagazine.com
SUMMARY:Nites on Pine in Los Alamitos
DESCRIPTION:A family-friendly evening series on Pine Street with live music\, food\, and activities for all ages. Each night features a musical theme\, a free kids zone\, social activities\, and creative vendors. Bring a chair and enjoy the community atmosphere. \nUpcoming dates are August 14\, September 11\, and October 9 from 6:30 p.m. to 8:00 p.m.
URL:https://kidsguidemagazine.com/event/nites-on-pine-in-los-alamitos/2025-08-14/
LOCATION:Florista & Pine St.\, Los Alamitos\, CA
CATEGORIES:* Free Events
END:VEVENT
END:VCALENDAR