BEGIN:VCALENDAR
VERSION:2.0
PRODID:-//Kidsguide - ECPv6.15.20//NONSGML v1.0//EN
CALSCALE:GREGORIAN
METHOD:PUBLISH
X-WR-CALNAME:Kidsguide
X-ORIGINAL-URL:https://kidsguidemagazine.com
X-WR-CALDESC:Events for Kidsguide
REFRESH-INTERVAL;VALUE=DURATION:PT1H
X-Robots-Tag:noindex
X-PUBLISHED-TTL:PT1H
BEGIN:VTIMEZONE
TZID:America/Los_Angeles
BEGIN:DAYLIGHT
TZOFFSETFROM:-0800
TZOFFSETTO:-0700
TZNAME:PDT
DTSTART:20250309T100000
END:DAYLIGHT
BEGIN:STANDARD
TZOFFSETFROM:-0700
TZOFFSETTO:-0800
TZNAME:PST
DTSTART:20251102T090000
END:STANDARD
BEGIN:DAYLIGHT
TZOFFSETFROM:-0800
TZOFFSETTO:-0700
TZNAME:PDT
DTSTART:20260308T100000
END:DAYLIGHT
BEGIN:STANDARD
TZOFFSETFROM:-0700
TZOFFSETTO:-0800
TZNAME:PST
DTSTART:20261101T090000
END:STANDARD
BEGIN:DAYLIGHT
TZOFFSETFROM:-0800
TZOFFSETTO:-0700
TZNAME:PDT
DTSTART:20270314T100000
END:DAYLIGHT
BEGIN:STANDARD
TZOFFSETFROM:-0700
TZOFFSETTO:-0800
TZNAME:PST
DTSTART:20271107T090000
END:STANDARD
END:VTIMEZONE
BEGIN:VEVENT
DTSTART;TZID=America/Los_Angeles:20260328T110000
DTEND;TZID=America/Los_Angeles:20260328T140000
DTSTAMP:20260423T015810
CREATED:20220406T195650Z
LAST-MODIFIED:20260321T084108Z
UID:10020037489-1774695600-1774706400@kidsguidemagazine.com
SUMMARY:Bunny Blast Eggstravaganza | El Toro Park\, Lake Forest
DESCRIPTION:Saturday\, March 28\, 2026 \nHop into spring at this egg-filled outdoor event at El Toro Park. Hit egg stations\, carnival games\, and crafts\, plus food trucks for the whole family. Wristbands are $10; kids (ages 2 and under) with a parent get in free. \nThis event is limited to the first 1\,000 participants and sells out almost every year — wristbands are available for advance purchase at the Lake Forest Sports Park. \nActivities include: \n\nEgg stations\nCarnival games\nCrafts\nFood trucks\n\n————— \nBefore You Go: Visit City of Lake Forest’s Instagram (@cityoflakeforestca) for updates and details. This event is organized by the City of Lake Forest. Kidsguide is an independent community resource helping families discover fun events across Southern California. \nLooking for more family fun? Explore more family-friendly events on our blog\, browse our calendar\, check out limited-time exhibits and experiences\, or subscribe to our newsletter for weekly updates.
URL:https://kidsguidemagazine.com/event/bunny-blast-eggstravaganza-in-lake-forest/
LOCATION:El Toro Park – Lake Forest\, 23701 Los Alisos Blvd.\, Lake Forest\, CA\, 92630
CATEGORIES:04: Easter
END:VEVENT
END:VCALENDAR