BEGIN:VCALENDAR
VERSION:2.0
PRODID:-//Kidsguide - ECPv6.15.20//NONSGML v1.0//EN
CALSCALE:GREGORIAN
METHOD:PUBLISH
X-ORIGINAL-URL:https://kidsguidemagazine.com
X-WR-CALDESC:Events for Kidsguide
REFRESH-INTERVAL;VALUE=DURATION:PT1H
X-Robots-Tag:noindex
X-PUBLISHED-TTL:PT1H
BEGIN:VTIMEZONE
TZID:America/Los_Angeles
BEGIN:DAYLIGHT
TZOFFSETFROM:-0800
TZOFFSETTO:-0700
TZNAME:PDT
DTSTART:20240310T100000
END:DAYLIGHT
BEGIN:STANDARD
TZOFFSETFROM:-0700
TZOFFSETTO:-0800
TZNAME:PST
DTSTART:20241103T090000
END:STANDARD
BEGIN:DAYLIGHT
TZOFFSETFROM:-0800
TZOFFSETTO:-0700
TZNAME:PDT
DTSTART:20250309T100000
END:DAYLIGHT
BEGIN:STANDARD
TZOFFSETFROM:-0700
TZOFFSETTO:-0800
TZNAME:PST
DTSTART:20251102T090000
END:STANDARD
BEGIN:DAYLIGHT
TZOFFSETFROM:-0800
TZOFFSETTO:-0700
TZNAME:PDT
DTSTART:20260308T100000
END:DAYLIGHT
BEGIN:STANDARD
TZOFFSETFROM:-0700
TZOFFSETTO:-0800
TZNAME:PST
DTSTART:20261101T090000
END:STANDARD
END:VTIMEZONE
BEGIN:VEVENT
DTSTART;VALUE=DATE:20250712
DTEND;VALUE=DATE:20250714
DTSTAMP:20260422T232351
CREATED:20220613T164339Z
LAST-MODIFIED:20250701T195402Z
UID:10020039357-1752278400-1752451199@kidsguidemagazine.com
SUMMARY:Lotus Festival in Los Angeles
DESCRIPTION:July 12-13\, 2025 \nCelebrate Asian and Pacific Islander cultures with live music\, dance\, and cultural performances across two stages. \nWatch dragon boat races on the lake\, explore food vendors serving up regional favorites\, and check out community booths\, boutique shopping\, and a beer and wine garden. \nIlluminated paper lanterns are available for purchase to participate in the Lights of Dreams Festival. \nThis year’s festival honors South Korea and takes place during peak lotus bloom season. \n 
URL:https://kidsguidemagazine.com/event/41st-lotus-festival-in-los-angeles/
LOCATION:Echo Park Lake\, 751 Echo Park Ave.\, Los Angeles\, CA\, 90026\, United States
CATEGORIES:* Editor's Picks!,* Free Events,• Cultural Events,• Festivals
ATTACH;FMTTYPE=image/jpeg:https://kidsguidemagazine.com/wp-content/uploads/2022/06/la-lotus-festival.jpg
END:VEVENT
END:VCALENDAR