BEGIN:VCALENDAR
VERSION:2.0
PRODID:-//Kidsguide - ECPv6.15.20//NONSGML v1.0//EN
CALSCALE:GREGORIAN
METHOD:PUBLISH
X-ORIGINAL-URL:https://kidsguidemagazine.com
X-WR-CALDESC:Events for Kidsguide
REFRESH-INTERVAL;VALUE=DURATION:PT1H
X-Robots-Tag:noindex
X-PUBLISHED-TTL:PT1H
BEGIN:VTIMEZONE
TZID:America/Los_Angeles
BEGIN:DAYLIGHT
TZOFFSETFROM:-0800
TZOFFSETTO:-0700
TZNAME:PDT
DTSTART:20240310T100000
END:DAYLIGHT
BEGIN:STANDARD
TZOFFSETFROM:-0700
TZOFFSETTO:-0800
TZNAME:PST
DTSTART:20241103T090000
END:STANDARD
BEGIN:DAYLIGHT
TZOFFSETFROM:-0800
TZOFFSETTO:-0700
TZNAME:PDT
DTSTART:20250309T100000
END:DAYLIGHT
BEGIN:STANDARD
TZOFFSETFROM:-0700
TZOFFSETTO:-0800
TZNAME:PST
DTSTART:20251102T090000
END:STANDARD
BEGIN:DAYLIGHT
TZOFFSETFROM:-0800
TZOFFSETTO:-0700
TZNAME:PDT
DTSTART:20260308T100000
END:DAYLIGHT
BEGIN:STANDARD
TZOFFSETFROM:-0700
TZOFFSETTO:-0800
TZNAME:PST
DTSTART:20261101T090000
END:STANDARD
END:VTIMEZONE
BEGIN:VEVENT
DTSTART;VALUE=DATE:20250808
DTEND;VALUE=DATE:20250809
DTSTAMP:20260423T094334
CREATED:20250807T170156Z
LAST-MODIFIED:20250807T170156Z
UID:10020044162-1754611200-1754697599@kidsguidemagazine.com
SUMMARY:Disney Jr. Let's Play at Disney California Adventure
DESCRIPTION:Friday\, August 8\, 2025 \nPreschoolers and their families can spend the day singing\, dancing\, and creating at this one-day celebration of all things Disney Jr. The event features interactive shows\, hands-on crafts\, and character appearances—perfect for young Disney fans. \nCatch special performances on the Hollywood Backlot Stage\, join arts and crafts\, and meet favorite characters throughout the park. \nPerformances include: \n\nDisney Jr. Let’s Play! Block Party – High-energy street celebration\nConfection Purrfection with the SuperKitties – Cupcake-making stage show\nDisney Jr. Let’s Play Live! – Sing-along with Disney Jr. characters\nMickey Mouse Clubhouse LIVE! – Interactive show with Mickey and friends\n\nAdditional experiences include: \n\nArts and crafts near the Hollywood Backlot Stage\nAnimation Academy drawing sessions with Disney Jr. characters\nCharacter greetings throughout the park\nThemed photo opportunity near the Brownstone Wall\n\nIncluded with park admission. Showtimes and activities vary throughout the day. \n 
URL:https://kidsguidemagazine.com/event/disney-jr-lets-play-at-disney-california-adventure/
LOCATION:Disney California Adventure Park\, Anaheim\, CA\, 92802
CATEGORIES:* Editor's Picks!
END:VEVENT
END:VCALENDAR