BEGIN:VCALENDAR
VERSION:2.0
PRODID:-//Kidsguide - ECPv6.15.20//NONSGML v1.0//EN
CALSCALE:GREGORIAN
METHOD:PUBLISH
X-ORIGINAL-URL:https://kidsguidemagazine.com
X-WR-CALDESC:Events for Kidsguide
REFRESH-INTERVAL;VALUE=DURATION:PT1H
X-Robots-Tag:noindex
X-PUBLISHED-TTL:PT1H
BEGIN:VTIMEZONE
TZID:America/Los_Angeles
BEGIN:DAYLIGHT
TZOFFSETFROM:-0800
TZOFFSETTO:-0700
TZNAME:PDT
DTSTART:20250309T100000
END:DAYLIGHT
BEGIN:STANDARD
TZOFFSETFROM:-0700
TZOFFSETTO:-0800
TZNAME:PST
DTSTART:20251102T090000
END:STANDARD
BEGIN:DAYLIGHT
TZOFFSETFROM:-0800
TZOFFSETTO:-0700
TZNAME:PDT
DTSTART:20260308T100000
END:DAYLIGHT
BEGIN:STANDARD
TZOFFSETFROM:-0700
TZOFFSETTO:-0800
TZNAME:PST
DTSTART:20261101T090000
END:STANDARD
BEGIN:DAYLIGHT
TZOFFSETFROM:-0800
TZOFFSETTO:-0700
TZNAME:PDT
DTSTART:20270314T100000
END:DAYLIGHT
BEGIN:STANDARD
TZOFFSETFROM:-0700
TZOFFSETTO:-0800
TZNAME:PST
DTSTART:20271107T090000
END:STANDARD
END:VTIMEZONE
BEGIN:VEVENT
DTSTART;TZID=America/Los_Angeles:20260404T093000
DTEND;TZID=America/Los_Angeles:20260404T223000
DTSTAMP:20260421T091629
CREATED:20260327T023600Z
LAST-MODIFIED:20260327T023600Z
UID:10020046276-1775295000-1775341800@kidsguidemagazine.com
SUMMARY:Bunnies on the Bay | Belmont Shore\, Long Beach
DESCRIPTION:Saturday\, April 4\, 2026 \nSuit up in a bunny costume and join a free\, 0.4-mile fun run along the bay in Belmont Shore. \nInflatable bunny costumes are highly encouraged — waddle\, sprint\, or bunny hop your way along the route. There’s no timing and no winners\, just big floppy ears and a silly good time. Expect photo ops and fun surprises along the way. \nThe run starts at Claremont Boat Launch (5300 E Ocean) at the beach pedestrian path\, proceeds across Ocean and onto the sand to 2nd Street\, and finishes at 2nd and Bay Shore. \nWhat to expect: \n\nFree 0.4-mile fun run\nBunny costume contest (inflatables encouraged!)\nPhoto ops along the route\nFun surprises\n\n————— \nBefore You Go: Visit Belmont Shore‘s website for updates and details. This event is organized by Belmont Shore Business Association. Kidsguide is an independent community resource helping families discover fun events across Southern California. \nLooking for more family fun? Explore more family-friendly events on our blog\, browse our calendar\, check out limited-time exhibits and experiences\, or subscribe to our newsletter for weekly updates.
URL:https://kidsguidemagazine.com/event/bunnies-on-the-bay-belmont-shore-long-beach/
LOCATION:Claremont Boat Launch (Long Beach)\, 5300 E. Ocean Blvd.\, Long Beach\, CA\, 90803
CATEGORIES:* Editor's Picks!,* Free Events,* Weekend Event,04: Easter
END:VEVENT
END:VCALENDAR