BEGIN:VCALENDAR
VERSION:2.0
PRODID:-//Kidsguide - ECPv6.15.20//NONSGML v1.0//EN
CALSCALE:GREGORIAN
METHOD:PUBLISH
X-WR-CALNAME:Kidsguide
X-ORIGINAL-URL:https://kidsguidemagazine.com
X-WR-CALDESC:Events for Kidsguide
REFRESH-INTERVAL;VALUE=DURATION:PT1H
X-Robots-Tag:noindex
X-PUBLISHED-TTL:PT1H
BEGIN:VTIMEZONE
TZID:America/Los_Angeles
BEGIN:DAYLIGHT
TZOFFSETFROM:-0800
TZOFFSETTO:-0700
TZNAME:PDT
DTSTART:20250309T100000
END:DAYLIGHT
BEGIN:STANDARD
TZOFFSETFROM:-0700
TZOFFSETTO:-0800
TZNAME:PST
DTSTART:20251102T090000
END:STANDARD
BEGIN:DAYLIGHT
TZOFFSETFROM:-0800
TZOFFSETTO:-0700
TZNAME:PDT
DTSTART:20260308T100000
END:DAYLIGHT
BEGIN:STANDARD
TZOFFSETFROM:-0700
TZOFFSETTO:-0800
TZNAME:PST
DTSTART:20261101T090000
END:STANDARD
BEGIN:DAYLIGHT
TZOFFSETFROM:-0800
TZOFFSETTO:-0700
TZNAME:PDT
DTSTART:20270314T100000
END:DAYLIGHT
BEGIN:STANDARD
TZOFFSETFROM:-0700
TZOFFSETTO:-0800
TZNAME:PST
DTSTART:20271107T090000
END:STANDARD
END:VTIMEZONE
BEGIN:VEVENT
DTSTART;TZID=America/Los_Angeles:20260328T110000
DTEND;TZID=America/Los_Angeles:20260328T110000
DTSTAMP:20260421T163540
CREATED:20260316T224452Z
LAST-MODIFIED:20260316T224452Z
UID:10020046217-1774695600-1774695600@kidsguidemagazine.com
SUMMARY:Citrus Festival | California Citrus State Historic Park\, Riverside
DESCRIPTION:Saturday\, March 28\, 2026 \nThe Annual Citrus Festival at California Citrus State Historic Park celebrates Riverside’s citrus heritage with a day of family-friendly activities\, food\, and entertainment. Visitors can explore the park while learning about the history and importance of citrus in Southern California. \nThe event features live entertainment\, craft vendors\, food booths\, educational exhibits\, and cooking demonstrations. Families can also enjoy hands-on activities including painting\, kid-focused workshops\, and a children’s theater experience. \nA highlight of the festival is the citrus tasting experience\, where guests can sample a variety of citrus fruits ranging from sweet and sour to rare and unusual varieties. \nEvent is free. \n\nWhat activities can kids do at the festival?\nKids can participate in theater workshops\, painting activities\, and other hands-on crafts throughout the event. \nWhat is the citrus tasting?\nVisitors can sample a range of citrus fruits including sweet\, sour\, rare\, and classic varieties. \nWill there be food and entertainment?\nYes\, the festival includes live entertainment along with food vendors and cooking demonstrations. \n\nBefore You Go: Visit California Citrus State Historic Park for event updates and details. Kidsguide is an independent community resource helping families discover fun events across Southern California. \nLooking for more family fun? Explore more family-friendly events on our blog\, browse our calendar\, check out limited-time exhibits and experiences\, or subscribe to our newsletter for weekly updates. \n 
URL:https://kidsguidemagazine.com/event/citrus-festival-california-citrus-state-historic-park-riverside/
LOCATION:Citrus Park Riverside\, 9400 Dufferin Ave.\, Riverside\, CA
CATEGORIES:* Free Events,• Nature & Outdoors
END:VEVENT
END:VCALENDAR