BEGIN:VCALENDAR
VERSION:2.0
PRODID:-//Kidsguide - ECPv6.15.20//NONSGML v1.0//EN
CALSCALE:GREGORIAN
METHOD:PUBLISH
X-WR-CALNAME:Kidsguide
X-ORIGINAL-URL:https://kidsguidemagazine.com
X-WR-CALDESC:Events for Kidsguide
REFRESH-INTERVAL;VALUE=DURATION:PT1H
X-Robots-Tag:noindex
X-PUBLISHED-TTL:PT1H
BEGIN:VTIMEZONE
TZID:America/Los_Angeles
BEGIN:DAYLIGHT
TZOFFSETFROM:-0800
TZOFFSETTO:-0700
TZNAME:PDT
DTSTART:20250309T100000
END:DAYLIGHT
BEGIN:STANDARD
TZOFFSETFROM:-0700
TZOFFSETTO:-0800
TZNAME:PST
DTSTART:20251102T090000
END:STANDARD
BEGIN:DAYLIGHT
TZOFFSETFROM:-0800
TZOFFSETTO:-0700
TZNAME:PDT
DTSTART:20260308T100000
END:DAYLIGHT
BEGIN:STANDARD
TZOFFSETFROM:-0700
TZOFFSETTO:-0800
TZNAME:PST
DTSTART:20261101T090000
END:STANDARD
BEGIN:DAYLIGHT
TZOFFSETFROM:-0800
TZOFFSETTO:-0700
TZNAME:PDT
DTSTART:20270314T100000
END:DAYLIGHT
BEGIN:STANDARD
TZOFFSETFROM:-0700
TZOFFSETTO:-0800
TZNAME:PST
DTSTART:20271107T090000
END:STANDARD
END:VTIMEZONE
BEGIN:VEVENT
DTSTART;VALUE=DATE:20260228
DTEND;VALUE=DATE:20260302
DTSTAMP:20260421T230433
CREATED:20250109T223326Z
LAST-MODIFIED:20260202T203240Z
UID:10020042655-1772236800-1772409599@kidsguidemagazine.com
SUMMARY:LA Chinatown Firecracker Run & Festival
DESCRIPTION:February 28 – March 1\, 2026 \nThis long-running Lunar New Year tradition returns to Chinatown Plaza with a full weekend of run\, walk\, bike\, and family events celebrating the Year of the Horse. The Firecracker is known as one of the largest and oldest Lunar New Year run/walk events in the country\, combining fitness activities with cultural celebration. \nParticipants can take part in multiple race options\, including 5K and 10K runs\, a 1K Kiddie Run\, a PAW’er Dog Walk\, and 20- and 50-mile bike rides. Registered participants receive a commemorative race bib\, finisher’s medal\, event t-shirt\, and goodie bag. \nThe weekend also includes a Lunar New Year opening ceremony with lion dancers and the lighting of 100\,000 firecrackers\, plus a two-day Firecracker Festival open to the public with live entertainment\, vendors\, exhibitors\, and kids’ activities. \nEvent highlights: \n\n50- & 20-mile bike rides\nPAW’er dog walk\nLantern Paw Festival\n5K & 10K run/walk\n1K Kiddie Run\nFree public festival\n\nEvents take place throughout the weekend with staggered start times. Festival activities are free to the public\, while races and rides require registration. \n 
URL:https://kidsguidemagazine.com/event/la-chinatown-firecracker-run-festival/
LOCATION:Chinatown Los Angeles\, 943-951 N. Broadway\, Los Angeles
CATEGORIES:• Cultural Events,• Festivals,01: Lunar New Year
ATTACH;FMTTYPE=image/jpeg:https://kidsguidemagazine.com/wp-content/uploads/2025/01/LA-Chinatown-Firecracker-Starting-Line_photo-by-Bak-Jong-scaled.webp
END:VEVENT
END:VCALENDAR