BEGIN:VCALENDAR
VERSION:2.0
PRODID:-//Kidsguide - ECPv6.15.20//NONSGML v1.0//EN
CALSCALE:GREGORIAN
METHOD:PUBLISH
X-ORIGINAL-URL:https://kidsguidemagazine.com
X-WR-CALDESC:Events for Kidsguide
REFRESH-INTERVAL;VALUE=DURATION:PT1H
X-Robots-Tag:noindex
X-PUBLISHED-TTL:PT1H
BEGIN:VTIMEZONE
TZID:America/Los_Angeles
BEGIN:DAYLIGHT
TZOFFSETFROM:-0800
TZOFFSETTO:-0700
TZNAME:PDT
DTSTART:20250309T100000
END:DAYLIGHT
BEGIN:STANDARD
TZOFFSETFROM:-0700
TZOFFSETTO:-0800
TZNAME:PST
DTSTART:20251102T090000
END:STANDARD
BEGIN:DAYLIGHT
TZOFFSETFROM:-0800
TZOFFSETTO:-0700
TZNAME:PDT
DTSTART:20260308T100000
END:DAYLIGHT
BEGIN:STANDARD
TZOFFSETFROM:-0700
TZOFFSETTO:-0800
TZNAME:PST
DTSTART:20261101T090000
END:STANDARD
BEGIN:DAYLIGHT
TZOFFSETFROM:-0800
TZOFFSETTO:-0700
TZNAME:PDT
DTSTART:20270314T100000
END:DAYLIGHT
BEGIN:STANDARD
TZOFFSETFROM:-0700
TZOFFSETTO:-0800
TZNAME:PST
DTSTART:20271107T090000
END:STANDARD
END:VTIMEZONE
BEGIN:VEVENT
DTSTART;VALUE=DATE:20260510
DTEND;VALUE=DATE:20260511
DTSTAMP:20260422T165133
CREATED:20260206T045629Z
LAST-MODIFIED:20260305T020546Z
UID:10020046174-1778371200-1778457599@kidsguidemagazine.com
SUMMARY:$5 Play Day | The Children's Museum at La Habra
DESCRIPTION:Sundays\, February – December\, 2026 \nThe Children’s Museum at La Habra hosts its first $5 Play Day with full access to all exhibits. \nRide the carousel\, explore the Dino Garden\, and hop aboard the historic train car. All exhibits are open for discovery\, imagination\, and hands-on fun for just $5 per person. \nEvent highlights: \n\nFull access to all exhibits\nCarousel rides\nDino Garden\nHistoric train car\n\nAdmission is $5 per person (ages 2 and up). Tickets available at visit.lhcm.org. \n————— \nHow much does $5 Play Day cost?\n$5 per person for ages 2 and up. \nWhat time does $5 Play Day run?\n1:00pm to 5:00pm. \nDo you need to reserve tickets in advance for $5 Play Day?\nTickets are available at visit.lhcm.org—reserving in advance is recommended. \nWhat exhibits are included in the $5 admission?\nFull access to all exhibits including the carousel\, Dino Garden\, and historic train car. \nIs $5 Play Day good for all ages?\nYes\, this is a family-friendly event. Admission is $5 for ages 2 and up. \n————— \nBefore You Go: Visit The Children’s Museum at La Habra’s Instagram for event details and their website for more information about the museum. Reserve tickets at visit.lhcm.org. This event is organized by The Children’s Museum at La Habra. Kidsguide is an independent community resource helping families discover fun events across Southern California. \nLooking for more family fun? Explore more family-friendly events on our blog\, browse our calendar\, check out limited-time exhibits and experiences\, or subscribe to our newsletter for weekly updates. \n 
URL:https://kidsguidemagazine.com/event/5-play-day-the-childrens-museum-at-la-habra/2026-05-10/
LOCATION:The Children’s Museum at La Habra\, 301 S Euclid St.\, La Habra\, CA\, 90631
CATEGORIES:* Editor's Picks!
END:VEVENT
BEGIN:VEVENT
DTSTART;VALUE=DATE:20260614
DTEND;VALUE=DATE:20260615
DTSTAMP:20260422T165133
CREATED:20260206T045629Z
LAST-MODIFIED:20260305T020546Z
UID:10020046175-1781395200-1781481599@kidsguidemagazine.com
SUMMARY:$5 Play Day | The Children's Museum at La Habra
DESCRIPTION:Sundays\, February – December\, 2026 \nThe Children’s Museum at La Habra hosts its first $5 Play Day with full access to all exhibits. \nRide the carousel\, explore the Dino Garden\, and hop aboard the historic train car. All exhibits are open for discovery\, imagination\, and hands-on fun for just $5 per person. \nEvent highlights: \n\nFull access to all exhibits\nCarousel rides\nDino Garden\nHistoric train car\n\nAdmission is $5 per person (ages 2 and up). Tickets available at visit.lhcm.org. \n————— \nHow much does $5 Play Day cost?\n$5 per person for ages 2 and up. \nWhat time does $5 Play Day run?\n1:00pm to 5:00pm. \nDo you need to reserve tickets in advance for $5 Play Day?\nTickets are available at visit.lhcm.org—reserving in advance is recommended. \nWhat exhibits are included in the $5 admission?\nFull access to all exhibits including the carousel\, Dino Garden\, and historic train car. \nIs $5 Play Day good for all ages?\nYes\, this is a family-friendly event. Admission is $5 for ages 2 and up. \n————— \nBefore You Go: Visit The Children’s Museum at La Habra’s Instagram for event details and their website for more information about the museum. Reserve tickets at visit.lhcm.org. This event is organized by The Children’s Museum at La Habra. Kidsguide is an independent community resource helping families discover fun events across Southern California. \nLooking for more family fun? Explore more family-friendly events on our blog\, browse our calendar\, check out limited-time exhibits and experiences\, or subscribe to our newsletter for weekly updates. \n 
URL:https://kidsguidemagazine.com/event/5-play-day-the-childrens-museum-at-la-habra/2026-06-14/
LOCATION:The Children’s Museum at La Habra\, 301 S Euclid St.\, La Habra\, CA\, 90631
CATEGORIES:* Editor's Picks!
END:VEVENT
BEGIN:VEVENT
DTSTART;VALUE=DATE:20260712
DTEND;VALUE=DATE:20260713
DTSTAMP:20260422T165133
CREATED:20260206T045629Z
LAST-MODIFIED:20260305T020546Z
UID:10020046176-1783814400-1783900799@kidsguidemagazine.com
SUMMARY:$5 Play Day | The Children's Museum at La Habra
DESCRIPTION:Sundays\, February – December\, 2026 \nThe Children’s Museum at La Habra hosts its first $5 Play Day with full access to all exhibits. \nRide the carousel\, explore the Dino Garden\, and hop aboard the historic train car. All exhibits are open for discovery\, imagination\, and hands-on fun for just $5 per person. \nEvent highlights: \n\nFull access to all exhibits\nCarousel rides\nDino Garden\nHistoric train car\n\nAdmission is $5 per person (ages 2 and up). Tickets available at visit.lhcm.org. \n————— \nHow much does $5 Play Day cost?\n$5 per person for ages 2 and up. \nWhat time does $5 Play Day run?\n1:00pm to 5:00pm. \nDo you need to reserve tickets in advance for $5 Play Day?\nTickets are available at visit.lhcm.org—reserving in advance is recommended. \nWhat exhibits are included in the $5 admission?\nFull access to all exhibits including the carousel\, Dino Garden\, and historic train car. \nIs $5 Play Day good for all ages?\nYes\, this is a family-friendly event. Admission is $5 for ages 2 and up. \n————— \nBefore You Go: Visit The Children’s Museum at La Habra’s Instagram for event details and their website for more information about the museum. Reserve tickets at visit.lhcm.org. This event is organized by The Children’s Museum at La Habra. Kidsguide is an independent community resource helping families discover fun events across Southern California. \nLooking for more family fun? Explore more family-friendly events on our blog\, browse our calendar\, check out limited-time exhibits and experiences\, or subscribe to our newsletter for weekly updates. \n 
URL:https://kidsguidemagazine.com/event/5-play-day-the-childrens-museum-at-la-habra/2026-07-12/
LOCATION:The Children’s Museum at La Habra\, 301 S Euclid St.\, La Habra\, CA\, 90631
CATEGORIES:* Editor's Picks!
END:VEVENT
BEGIN:VEVENT
DTSTART;VALUE=DATE:20260809
DTEND;VALUE=DATE:20260810
DTSTAMP:20260422T165133
CREATED:20260206T045629Z
LAST-MODIFIED:20260305T020546Z
UID:10020046177-1786233600-1786319999@kidsguidemagazine.com
SUMMARY:$5 Play Day | The Children's Museum at La Habra
DESCRIPTION:Sundays\, February – December\, 2026 \nThe Children’s Museum at La Habra hosts its first $5 Play Day with full access to all exhibits. \nRide the carousel\, explore the Dino Garden\, and hop aboard the historic train car. All exhibits are open for discovery\, imagination\, and hands-on fun for just $5 per person. \nEvent highlights: \n\nFull access to all exhibits\nCarousel rides\nDino Garden\nHistoric train car\n\nAdmission is $5 per person (ages 2 and up). Tickets available at visit.lhcm.org. \n————— \nHow much does $5 Play Day cost?\n$5 per person for ages 2 and up. \nWhat time does $5 Play Day run?\n1:00pm to 5:00pm. \nDo you need to reserve tickets in advance for $5 Play Day?\nTickets are available at visit.lhcm.org—reserving in advance is recommended. \nWhat exhibits are included in the $5 admission?\nFull access to all exhibits including the carousel\, Dino Garden\, and historic train car. \nIs $5 Play Day good for all ages?\nYes\, this is a family-friendly event. Admission is $5 for ages 2 and up. \n————— \nBefore You Go: Visit The Children’s Museum at La Habra’s Instagram for event details and their website for more information about the museum. Reserve tickets at visit.lhcm.org. This event is organized by The Children’s Museum at La Habra. Kidsguide is an independent community resource helping families discover fun events across Southern California. \nLooking for more family fun? Explore more family-friendly events on our blog\, browse our calendar\, check out limited-time exhibits and experiences\, or subscribe to our newsletter for weekly updates. \n 
URL:https://kidsguidemagazine.com/event/5-play-day-the-childrens-museum-at-la-habra/2026-08-09/
LOCATION:The Children’s Museum at La Habra\, 301 S Euclid St.\, La Habra\, CA\, 90631
CATEGORIES:* Editor's Picks!
END:VEVENT
BEGIN:VEVENT
DTSTART;VALUE=DATE:20260913
DTEND;VALUE=DATE:20260914
DTSTAMP:20260422T165133
CREATED:20260206T045629Z
LAST-MODIFIED:20260305T020546Z
UID:10020046178-1789257600-1789343999@kidsguidemagazine.com
SUMMARY:$5 Play Day | The Children's Museum at La Habra
DESCRIPTION:Sundays\, February – December\, 2026 \nThe Children’s Museum at La Habra hosts its first $5 Play Day with full access to all exhibits. \nRide the carousel\, explore the Dino Garden\, and hop aboard the historic train car. All exhibits are open for discovery\, imagination\, and hands-on fun for just $5 per person. \nEvent highlights: \n\nFull access to all exhibits\nCarousel rides\nDino Garden\nHistoric train car\n\nAdmission is $5 per person (ages 2 and up). Tickets available at visit.lhcm.org. \n————— \nHow much does $5 Play Day cost?\n$5 per person for ages 2 and up. \nWhat time does $5 Play Day run?\n1:00pm to 5:00pm. \nDo you need to reserve tickets in advance for $5 Play Day?\nTickets are available at visit.lhcm.org—reserving in advance is recommended. \nWhat exhibits are included in the $5 admission?\nFull access to all exhibits including the carousel\, Dino Garden\, and historic train car. \nIs $5 Play Day good for all ages?\nYes\, this is a family-friendly event. Admission is $5 for ages 2 and up. \n————— \nBefore You Go: Visit The Children’s Museum at La Habra’s Instagram for event details and their website for more information about the museum. Reserve tickets at visit.lhcm.org. This event is organized by The Children’s Museum at La Habra. Kidsguide is an independent community resource helping families discover fun events across Southern California. \nLooking for more family fun? Explore more family-friendly events on our blog\, browse our calendar\, check out limited-time exhibits and experiences\, or subscribe to our newsletter for weekly updates. \n 
URL:https://kidsguidemagazine.com/event/5-play-day-the-childrens-museum-at-la-habra/2026-09-13/
LOCATION:The Children’s Museum at La Habra\, 301 S Euclid St.\, La Habra\, CA\, 90631
CATEGORIES:* Editor's Picks!
END:VEVENT
BEGIN:VEVENT
DTSTART;VALUE=DATE:20261011
DTEND;VALUE=DATE:20261012
DTSTAMP:20260422T165133
CREATED:20260206T045629Z
LAST-MODIFIED:20260305T020546Z
UID:10020046179-1791676800-1791763199@kidsguidemagazine.com
SUMMARY:$5 Play Day | The Children's Museum at La Habra
DESCRIPTION:Sundays\, February – December\, 2026 \nThe Children’s Museum at La Habra hosts its first $5 Play Day with full access to all exhibits. \nRide the carousel\, explore the Dino Garden\, and hop aboard the historic train car. All exhibits are open for discovery\, imagination\, and hands-on fun for just $5 per person. \nEvent highlights: \n\nFull access to all exhibits\nCarousel rides\nDino Garden\nHistoric train car\n\nAdmission is $5 per person (ages 2 and up). Tickets available at visit.lhcm.org. \n————— \nHow much does $5 Play Day cost?\n$5 per person for ages 2 and up. \nWhat time does $5 Play Day run?\n1:00pm to 5:00pm. \nDo you need to reserve tickets in advance for $5 Play Day?\nTickets are available at visit.lhcm.org—reserving in advance is recommended. \nWhat exhibits are included in the $5 admission?\nFull access to all exhibits including the carousel\, Dino Garden\, and historic train car. \nIs $5 Play Day good for all ages?\nYes\, this is a family-friendly event. Admission is $5 for ages 2 and up. \n————— \nBefore You Go: Visit The Children’s Museum at La Habra’s Instagram for event details and their website for more information about the museum. Reserve tickets at visit.lhcm.org. This event is organized by The Children’s Museum at La Habra. Kidsguide is an independent community resource helping families discover fun events across Southern California. \nLooking for more family fun? Explore more family-friendly events on our blog\, browse our calendar\, check out limited-time exhibits and experiences\, or subscribe to our newsletter for weekly updates. \n 
URL:https://kidsguidemagazine.com/event/5-play-day-the-childrens-museum-at-la-habra/2026-10-11/
LOCATION:The Children’s Museum at La Habra\, 301 S Euclid St.\, La Habra\, CA\, 90631
CATEGORIES:* Editor's Picks!
END:VEVENT
BEGIN:VEVENT
DTSTART;VALUE=DATE:20261108
DTEND;VALUE=DATE:20261109
DTSTAMP:20260422T165133
CREATED:20260206T045629Z
LAST-MODIFIED:20260305T020546Z
UID:10020046180-1794096000-1794182399@kidsguidemagazine.com
SUMMARY:$5 Play Day | The Children's Museum at La Habra
DESCRIPTION:Sundays\, February – December\, 2026 \nThe Children’s Museum at La Habra hosts its first $5 Play Day with full access to all exhibits. \nRide the carousel\, explore the Dino Garden\, and hop aboard the historic train car. All exhibits are open for discovery\, imagination\, and hands-on fun for just $5 per person. \nEvent highlights: \n\nFull access to all exhibits\nCarousel rides\nDino Garden\nHistoric train car\n\nAdmission is $5 per person (ages 2 and up). Tickets available at visit.lhcm.org. \n————— \nHow much does $5 Play Day cost?\n$5 per person for ages 2 and up. \nWhat time does $5 Play Day run?\n1:00pm to 5:00pm. \nDo you need to reserve tickets in advance for $5 Play Day?\nTickets are available at visit.lhcm.org—reserving in advance is recommended. \nWhat exhibits are included in the $5 admission?\nFull access to all exhibits including the carousel\, Dino Garden\, and historic train car. \nIs $5 Play Day good for all ages?\nYes\, this is a family-friendly event. Admission is $5 for ages 2 and up. \n————— \nBefore You Go: Visit The Children’s Museum at La Habra’s Instagram for event details and their website for more information about the museum. Reserve tickets at visit.lhcm.org. This event is organized by The Children’s Museum at La Habra. Kidsguide is an independent community resource helping families discover fun events across Southern California. \nLooking for more family fun? Explore more family-friendly events on our blog\, browse our calendar\, check out limited-time exhibits and experiences\, or subscribe to our newsletter for weekly updates. \n 
URL:https://kidsguidemagazine.com/event/5-play-day-the-childrens-museum-at-la-habra/2026-11-08/
LOCATION:The Children’s Museum at La Habra\, 301 S Euclid St.\, La Habra\, CA\, 90631
CATEGORIES:* Editor's Picks!
END:VEVENT
BEGIN:VEVENT
DTSTART;VALUE=DATE:20261213
DTEND;VALUE=DATE:20261214
DTSTAMP:20260422T165133
CREATED:20260206T045629Z
LAST-MODIFIED:20260305T020546Z
UID:10020046181-1797120000-1797206399@kidsguidemagazine.com
SUMMARY:$5 Play Day | The Children's Museum at La Habra
DESCRIPTION:Sundays\, February – December\, 2026 \nThe Children’s Museum at La Habra hosts its first $5 Play Day with full access to all exhibits. \nRide the carousel\, explore the Dino Garden\, and hop aboard the historic train car. All exhibits are open for discovery\, imagination\, and hands-on fun for just $5 per person. \nEvent highlights: \n\nFull access to all exhibits\nCarousel rides\nDino Garden\nHistoric train car\n\nAdmission is $5 per person (ages 2 and up). Tickets available at visit.lhcm.org. \n————— \nHow much does $5 Play Day cost?\n$5 per person for ages 2 and up. \nWhat time does $5 Play Day run?\n1:00pm to 5:00pm. \nDo you need to reserve tickets in advance for $5 Play Day?\nTickets are available at visit.lhcm.org—reserving in advance is recommended. \nWhat exhibits are included in the $5 admission?\nFull access to all exhibits including the carousel\, Dino Garden\, and historic train car. \nIs $5 Play Day good for all ages?\nYes\, this is a family-friendly event. Admission is $5 for ages 2 and up. \n————— \nBefore You Go: Visit The Children’s Museum at La Habra’s Instagram for event details and their website for more information about the museum. Reserve tickets at visit.lhcm.org. This event is organized by The Children’s Museum at La Habra. Kidsguide is an independent community resource helping families discover fun events across Southern California. \nLooking for more family fun? Explore more family-friendly events on our blog\, browse our calendar\, check out limited-time exhibits and experiences\, or subscribe to our newsletter for weekly updates. \n 
URL:https://kidsguidemagazine.com/event/5-play-day-the-childrens-museum-at-la-habra/2026-12-13/
LOCATION:The Children’s Museum at La Habra\, 301 S Euclid St.\, La Habra\, CA\, 90631
CATEGORIES:* Editor's Picks!
END:VEVENT
END:VCALENDAR