BEGIN:VCALENDAR
VERSION:2.0
PRODID:-//Kidsguide - ECPv6.15.20//NONSGML v1.0//EN
CALSCALE:GREGORIAN
METHOD:PUBLISH
X-WR-CALNAME:Kidsguide
X-ORIGINAL-URL:https://kidsguidemagazine.com
X-WR-CALDESC:Events for Kidsguide
REFRESH-INTERVAL;VALUE=DURATION:PT1H
X-Robots-Tag:noindex
X-PUBLISHED-TTL:PT1H
BEGIN:VTIMEZONE
TZID:America/Los_Angeles
BEGIN:DAYLIGHT
TZOFFSETFROM:-0800
TZOFFSETTO:-0700
TZNAME:PDT
DTSTART:20240310T100000
END:DAYLIGHT
BEGIN:STANDARD
TZOFFSETFROM:-0700
TZOFFSETTO:-0800
TZNAME:PST
DTSTART:20241103T090000
END:STANDARD
BEGIN:DAYLIGHT
TZOFFSETFROM:-0800
TZOFFSETTO:-0700
TZNAME:PDT
DTSTART:20250309T100000
END:DAYLIGHT
BEGIN:STANDARD
TZOFFSETFROM:-0700
TZOFFSETTO:-0800
TZNAME:PST
DTSTART:20251102T090000
END:STANDARD
BEGIN:DAYLIGHT
TZOFFSETFROM:-0800
TZOFFSETTO:-0700
TZNAME:PDT
DTSTART:20260308T100000
END:DAYLIGHT
BEGIN:STANDARD
TZOFFSETFROM:-0700
TZOFFSETTO:-0800
TZNAME:PST
DTSTART:20261101T090000
END:STANDARD
END:VTIMEZONE
BEGIN:VEVENT
DTSTART;TZID=America/Los_Angeles:20251031T180000
DTEND;TZID=America/Los_Angeles:20251031T200000
DTSTAMP:20260423T015833
CREATED:20251021T200908Z
LAST-MODIFIED:20251021T201220Z
UID:10020044637-1761933600-1761940800@kidsguidemagazine.com
SUMMARY:Halloween Spooktacular in Hawaiian Gardens
DESCRIPTION:Friday\, October 31\, 2025 \nCelebrate Halloween with a cultural twist at the City of Hawaiian Gardens’ Halloween Spooktacular: Día de los Muertos Edition. Enjoy trick-or-treating\, games\, scare zones\, and a community ofrenda honoring loved ones. Don’t miss the costume contest for extra festive fun. \nEvent is free.
URL:https://kidsguidemagazine.com/event/10017598561/
LOCATION:C. Robert Lee Activity Center – Hawaiian Gardens\, 21815 Pioneer Blvd.\, Hawaiian Gardens\, CA\, 90716
CATEGORIES:* Free Events,10: Dia de los Muertos,10: Halloween Events
END:VEVENT
END:VCALENDAR