BEGIN:VCALENDAR
VERSION:2.0
PRODID:-//Kidsguide - ECPv6.15.20//NONSGML v1.0//EN
CALSCALE:GREGORIAN
METHOD:PUBLISH
X-WR-CALNAME:Kidsguide
X-ORIGINAL-URL:https://kidsguidemagazine.com
X-WR-CALDESC:Events for Kidsguide
REFRESH-INTERVAL;VALUE=DURATION:PT1H
X-Robots-Tag:noindex
X-PUBLISHED-TTL:PT1H
BEGIN:VTIMEZONE
TZID:America/Los_Angeles
BEGIN:DAYLIGHT
TZOFFSETFROM:-0800
TZOFFSETTO:-0700
TZNAME:PDT
DTSTART:20240310T100000
END:DAYLIGHT
BEGIN:STANDARD
TZOFFSETFROM:-0700
TZOFFSETTO:-0800
TZNAME:PST
DTSTART:20241103T090000
END:STANDARD
BEGIN:DAYLIGHT
TZOFFSETFROM:-0800
TZOFFSETTO:-0700
TZNAME:PDT
DTSTART:20250309T100000
END:DAYLIGHT
BEGIN:STANDARD
TZOFFSETFROM:-0700
TZOFFSETTO:-0800
TZNAME:PST
DTSTART:20251102T090000
END:STANDARD
BEGIN:DAYLIGHT
TZOFFSETFROM:-0800
TZOFFSETTO:-0700
TZNAME:PDT
DTSTART:20260308T100000
END:DAYLIGHT
BEGIN:STANDARD
TZOFFSETFROM:-0700
TZOFFSETTO:-0800
TZNAME:PST
DTSTART:20261101T090000
END:STANDARD
END:VTIMEZONE
BEGIN:VEVENT
DTSTART;VALUE=DATE:20250530
DTEND;VALUE=DATE:20250602
DTSTAMP:20260425T142734
CREATED:20250528T195638Z
LAST-MODIFIED:20250529T230525Z
UID:10020042956-1748563200-1748822399@kidsguidemagazine.com
SUMMARY:WeHo Pride Street Fair
DESCRIPTION:May 30 – June 1\, 2025 \nWest Hollywood’s legendary Pride celebration returns with a full lineup of free and ticketed events honoring LGBTQ+ joy\, history\, and community. \nThe WeHo Pride Street Fair will take over Santa Monica Blvd with exhibitors\, local vendors\, and live performances on the community stage. \nPride Weekend also features the WeHo Pride Parade\, the OUTLOUD music festival in the Rainbow District and more. Expect colorful celebrations\, community programming\, and nonstop entertainment all weekend long. \nStreet fair runs along Santa Monica Blvd. between Hancock and La Peer Dr.
URL:https://kidsguidemagazine.com/event/weho-pride-street-fair/
LOCATION:Weho
CATEGORIES:• Festivals
END:VEVENT
END:VCALENDAR