BEGIN:VCALENDAR
VERSION:2.0
PRODID:-//Kidsguide - ECPv6.15.20//NONSGML v1.0//EN
CALSCALE:GREGORIAN
METHOD:PUBLISH
X-WR-CALNAME:Kidsguide
X-ORIGINAL-URL:https://kidsguidemagazine.com
X-WR-CALDESC:Events for Kidsguide
REFRESH-INTERVAL;VALUE=DURATION:PT1H
X-Robots-Tag:noindex
X-PUBLISHED-TTL:PT1H
BEGIN:VTIMEZONE
TZID:America/Los_Angeles
BEGIN:DAYLIGHT
TZOFFSETFROM:-0800
TZOFFSETTO:-0700
TZNAME:PDT
DTSTART:20250309T100000
END:DAYLIGHT
BEGIN:STANDARD
TZOFFSETFROM:-0700
TZOFFSETTO:-0800
TZNAME:PST
DTSTART:20251102T090000
END:STANDARD
BEGIN:DAYLIGHT
TZOFFSETFROM:-0800
TZOFFSETTO:-0700
TZNAME:PDT
DTSTART:20260308T100000
END:DAYLIGHT
BEGIN:STANDARD
TZOFFSETFROM:-0700
TZOFFSETTO:-0800
TZNAME:PST
DTSTART:20261101T090000
END:STANDARD
BEGIN:DAYLIGHT
TZOFFSETFROM:-0800
TZOFFSETTO:-0700
TZNAME:PDT
DTSTART:20270314T100000
END:DAYLIGHT
BEGIN:STANDARD
TZOFFSETFROM:-0700
TZOFFSETTO:-0800
TZNAME:PST
DTSTART:20271107T090000
END:STANDARD
END:VTIMEZONE
BEGIN:VEVENT
DTSTART;TZID=America/Los_Angeles:20260314T110000
DTEND;TZID=America/Los_Angeles:20260314T150000
DTSTAMP:20260422T195811
CREATED:20260309T231027Z
LAST-MODIFIED:20260309T231027Z
UID:10020046195-1773486000-1773500400@kidsguidemagazine.com
SUMMARY:Walk ‘n Roll Festival | Jesse Brewer Jr. Park at Exposition Park\, Los Angeles
DESCRIPTION:March 14\, 2026\n11:00 am – 3:00 pm \nThe Walk ‘n Roll Festival returns for its 14th anniversary celebration and fundraiser supporting the Adopt-a-Bike program\, which collects\, repairs\, and redistributes bikes to community members who need them most. \nThis family-friendly event celebrates safer and healthier communities with a variety of bike and mobility-focused activities. Kids can test their skills on a bike skills course\, receive free bike helmets\, and get free bike tune-ups while families explore hands-on mobility arts and crafts. \nThe festival also features skateboard demonstrations\, e-bike demos\, music from a live DJ\, a group walk exploring Exposition Park\, and a gear marketplace. Guests can enter prize drawings for a chance to win a new Prevelo bike\, gently used bikes\, bike racks\, swag bags\, and more. \nAdmission is free. \n\nIs the event free?\nYes. Admission is free. \nWhere is the event located?\nJesse Brewer Jr. Park at Exposition Park in Los Angeles\, California. \nDo tickets or reservations require advance booking?\nRegistration is available online\, but admission to the event is free. \n\nBefore You Go: Visit Walk ‘n Roll Festival for registration and event details. Kidsguide is an independent community resource helping families discover fun events across Southern California. \nLooking for more family fun? Explore more family-friendly events on our blog\, browse our calendar\, check out limited-time exhibits and experiences\, or subscribe to our newsletter for weekly updates. \n 
URL:https://kidsguidemagazine.com/event/walk-n-roll-festival-jesse-brewer-jr-park-at-exposition-park-los-angeles/
LOCATION:Expostion Park\, 900 Exposition Blvd.\, Los Angeles\, CA\, 90007
CATEGORIES:* Free Events
END:VEVENT
END:VCALENDAR