BEGIN:VCALENDAR
VERSION:2.0
PRODID:-//Kidsguide - ECPv6.15.20//NONSGML v1.0//EN
CALSCALE:GREGORIAN
METHOD:PUBLISH
X-WR-CALNAME:Kidsguide
X-ORIGINAL-URL:https://kidsguidemagazine.com
X-WR-CALDESC:Events for Kidsguide
REFRESH-INTERVAL;VALUE=DURATION:PT1H
X-Robots-Tag:noindex
X-PUBLISHED-TTL:PT1H
BEGIN:VTIMEZONE
TZID:America/Los_Angeles
BEGIN:DAYLIGHT
TZOFFSETFROM:-0800
TZOFFSETTO:-0700
TZNAME:PDT
DTSTART:20250309T100000
END:DAYLIGHT
BEGIN:STANDARD
TZOFFSETFROM:-0700
TZOFFSETTO:-0800
TZNAME:PST
DTSTART:20251102T090000
END:STANDARD
BEGIN:DAYLIGHT
TZOFFSETFROM:-0800
TZOFFSETTO:-0700
TZNAME:PDT
DTSTART:20260308T100000
END:DAYLIGHT
BEGIN:STANDARD
TZOFFSETFROM:-0700
TZOFFSETTO:-0800
TZNAME:PST
DTSTART:20261101T090000
END:STANDARD
BEGIN:DAYLIGHT
TZOFFSETFROM:-0800
TZOFFSETTO:-0700
TZNAME:PDT
DTSTART:20270314T100000
END:DAYLIGHT
BEGIN:STANDARD
TZOFFSETFROM:-0700
TZOFFSETTO:-0800
TZNAME:PST
DTSTART:20271107T090000
END:STANDARD
END:VTIMEZONE
BEGIN:VEVENT
DTSTART;TZID=America/Los_Angeles:20260425T120000
DTEND;TZID=America/Los_Angeles:20260425T160000
DTSTAMP:20260421T053230
CREATED:20260421T042900Z
LAST-MODIFIED:20260421T042900Z
UID:10020046496-1777118400-1777132800@kidsguidemagazine.com
SUMMARY:Long Beach Cambodian Heritage Celebration | 2nd & PCH\, Long Beach
DESCRIPTION:Saturday\, April 25\, 2026 \nCelebrate Cambodian Heritage Month with a cultural celebration at 2nd & PCH in Long Beach. \nExperience Cambodian culture through live dance and music performances while exploring food\, crafts\, and family-friendly activities. The event highlights traditions\, history\, and the vibrant contributions of the Cambodian community in Southern California. \nHosted by Long Beach Phnom Penh Sister Cities\, this gathering offers a welcoming space for families to learn\, connect\, and celebrate together. \n————— \nBefore You Go: Visit Long Beach Phnom Penh Sister Cities’ social media or website for updates and event details. This event is organized by Long Beach Phnom Penh Sister Cities. Kidsguide is an independent community resource helping families discover fun events across Southern California. \nLooking for more family fun? Explore more family-friendly events on our blog\, browse our calendar\, check out limited-time exhibits and experiences\, or subscribe to our newsletter for weekly updates. \n 
URL:https://kidsguidemagazine.com/event/long-beach-cambodian-heritage-celebration-2nd-pch-long-beach/
LOCATION:2nd & PCH\, 6400 E. Pacific Coast Highway\, Long Beach\, 90803
CATEGORIES:* Free Events,* Weekend Event,• Cultural Events
END:VEVENT
END:VCALENDAR