BEGIN:VCALENDAR
VERSION:2.0
PRODID:-//Kidsguide - ECPv6.15.20//NONSGML v1.0//EN
CALSCALE:GREGORIAN
METHOD:PUBLISH
X-ORIGINAL-URL:https://kidsguidemagazine.com
X-WR-CALDESC:Events for Kidsguide
REFRESH-INTERVAL;VALUE=DURATION:PT1H
X-Robots-Tag:noindex
X-PUBLISHED-TTL:PT1H
BEGIN:VTIMEZONE
TZID:America/Los_Angeles
BEGIN:DAYLIGHT
TZOFFSETFROM:-0800
TZOFFSETTO:-0700
TZNAME:PDT
DTSTART:20250309T100000
END:DAYLIGHT
BEGIN:STANDARD
TZOFFSETFROM:-0700
TZOFFSETTO:-0800
TZNAME:PST
DTSTART:20251102T090000
END:STANDARD
BEGIN:DAYLIGHT
TZOFFSETFROM:-0800
TZOFFSETTO:-0700
TZNAME:PDT
DTSTART:20260308T100000
END:DAYLIGHT
BEGIN:STANDARD
TZOFFSETFROM:-0700
TZOFFSETTO:-0800
TZNAME:PST
DTSTART:20261101T090000
END:STANDARD
BEGIN:DAYLIGHT
TZOFFSETFROM:-0800
TZOFFSETTO:-0700
TZNAME:PDT
DTSTART:20270314T100000
END:DAYLIGHT
BEGIN:STANDARD
TZOFFSETFROM:-0700
TZOFFSETTO:-0800
TZNAME:PST
DTSTART:20271107T090000
END:STANDARD
END:VTIMEZONE
BEGIN:VEVENT
DTSTART;TZID=America/Los_Angeles:20260221T120000
DTEND;TZID=America/Los_Angeles:20260221T180000
DTSTAMP:20260424T165729
CREATED:20260217T192126Z
LAST-MODIFIED:20260217T192138Z
UID:10020045897-1771675200-1771696800@kidsguidemagazine.com
SUMMARY:Simply Crafted Markets: Puppy Love Pop Up | The Hangar at LBX\, Long Beach
DESCRIPTION:Saturday\, February 21\, 2026\n12:00 PM – 6:00 PM \nSimply Crafted Markets presents Puppy Love Pop Up at The Hangar at LBX — a pet-friendly community market centered around adoptable pups and local vendors. \nGuests can adopt\, foster\, or simply cuddle dogs through Ozzie & Friends Pet Adoptions while shopping from 50 vendors offering pet apparel\, treats\, permanent jewelry\, fresh flowers\, crystals\, sports apparel\, and more. Lunch options are available inside The Hangar. \nEvent is free. \n————— \nWhat is the Puppy Love Pop Up?\nIt is a pet-friendly vendor market featuring dog adoptions and 50 local vendors. \nCan I bring my dog?\nYes. The event is pet friendly. \nIs there an admission fee?\nEvent is free. \n————— \nBefore You Go: This event is hosted by Simply Crafted Markets. For updates or vendor details\, check the official event page prior to attending. Kidsguide is an independent community resource helping families discover local events. \nLooking for more family fun? Explore more family-friendly events on our blog\, browse our calendar\, check out limited-time exhibits and experiences\, or subscribe to our newsletter for weekly updates.
URL:https://kidsguidemagazine.com/event/simply-crafted-markets-puppy-love-pop-up-the-hangar-at-lbx-long-beach/
LOCATION:Long Beach Exchange (LBX)\, Long Beach
CATEGORIES:* Free Events
END:VEVENT
END:VCALENDAR