BEGIN:VCALENDAR
VERSION:2.0
PRODID:-//Kidsguide - ECPv6.15.20//NONSGML v1.0//EN
CALSCALE:GREGORIAN
METHOD:PUBLISH
X-ORIGINAL-URL:https://kidsguidemagazine.com
X-WR-CALDESC:Events for Kidsguide
REFRESH-INTERVAL;VALUE=DURATION:PT1H
X-Robots-Tag:noindex
X-PUBLISHED-TTL:PT1H
BEGIN:VTIMEZONE
TZID:America/Los_Angeles
BEGIN:DAYLIGHT
TZOFFSETFROM:-0800
TZOFFSETTO:-0700
TZNAME:PDT
DTSTART:20250309T100000
END:DAYLIGHT
BEGIN:STANDARD
TZOFFSETFROM:-0700
TZOFFSETTO:-0800
TZNAME:PST
DTSTART:20251102T090000
END:STANDARD
BEGIN:DAYLIGHT
TZOFFSETFROM:-0800
TZOFFSETTO:-0700
TZNAME:PDT
DTSTART:20260308T100000
END:DAYLIGHT
BEGIN:STANDARD
TZOFFSETFROM:-0700
TZOFFSETTO:-0800
TZNAME:PST
DTSTART:20261101T090000
END:STANDARD
BEGIN:DAYLIGHT
TZOFFSETFROM:-0800
TZOFFSETTO:-0700
TZNAME:PDT
DTSTART:20270314T100000
END:DAYLIGHT
BEGIN:STANDARD
TZOFFSETFROM:-0700
TZOFFSETTO:-0800
TZNAME:PST
DTSTART:20271107T090000
END:STANDARD
END:VTIMEZONE
BEGIN:VEVENT
DTSTART;TZID=America/Los_Angeles:20260425T120000
DTEND;TZID=America/Los_Angeles:20260425T160000
DTSTAMP:20260421T053117
CREATED:20260421T043208Z
LAST-MODIFIED:20260421T043208Z
UID:10020046497-1777118400-1777132800@kidsguidemagazine.com
SUMMARY:Pedal for the Planet Playdate | ROW DTLA\, Los Angeles
DESCRIPTION:Saturday\, April 25\, 2026 \nCelebrate Earth Day with a bike-friendly outdoor playdate at ROW DTLA. \nBring bikes and scooters to cruise through the space while stopping at interactive stations featuring art\, nature\, and hands-on activities. Kids can explore the event on wheels while discovering creative experiences throughout the afternoon. \nEnjoy a mix of complimentary and paid activations\, including a natural dye station\, butterfly pop-up\, live chalk mural\, and DIY crafts like building binoculars\, decorating totes\, and making recycled nature crowns. The event also features music from a live DJ and additional pop-up experiences across the venue. \nActivities include: \n\nBike & scooter roam\nNatural dye station\nButterfly pop-up\nLive chalk mural\nDIY crafts & activities\n\nAdmission is free. Some activations require an additional fee. Helmets and parent supervision are required for riders. \n————— \nBefore You Go: Visit ROW DTLA’s website or social media for updates and activation details. This event is hosted by ROW DTLA and Playdate. Kidsguide is an independent community resource helping families discover fun events across Southern California. \nLooking for more family fun? Explore more family-friendly events on our blog\, browse our calendar\, check out limited-time exhibits and experiences\, or subscribe to our newsletter for weekly updates. \n 
URL:https://kidsguidemagazine.com/event/pedal-for-the-planet-playdate-row-dtla-los-angeles/
LOCATION:ROW DTLA\, 777 S. Alameda St.\, Los Angeles\, CA\, 90021
CATEGORIES:* Free Events,* Weekend Event,04: Earth Day
END:VEVENT
END:VCALENDAR