BEGIN:VCALENDAR
VERSION:2.0
PRODID:-//Kidsguide - ECPv6.15.20//NONSGML v1.0//EN
CALSCALE:GREGORIAN
METHOD:PUBLISH
X-WR-CALNAME:Kidsguide
X-ORIGINAL-URL:https://kidsguidemagazine.com
X-WR-CALDESC:Events for Kidsguide
REFRESH-INTERVAL;VALUE=DURATION:PT1H
X-Robots-Tag:noindex
X-PUBLISHED-TTL:PT1H
BEGIN:VTIMEZONE
TZID:America/Los_Angeles
BEGIN:DAYLIGHT
TZOFFSETFROM:-0800
TZOFFSETTO:-0700
TZNAME:PDT
DTSTART:20250309T100000
END:DAYLIGHT
BEGIN:STANDARD
TZOFFSETFROM:-0700
TZOFFSETTO:-0800
TZNAME:PST
DTSTART:20251102T090000
END:STANDARD
BEGIN:DAYLIGHT
TZOFFSETFROM:-0800
TZOFFSETTO:-0700
TZNAME:PDT
DTSTART:20260308T100000
END:DAYLIGHT
BEGIN:STANDARD
TZOFFSETFROM:-0700
TZOFFSETTO:-0800
TZNAME:PST
DTSTART:20261101T090000
END:STANDARD
BEGIN:DAYLIGHT
TZOFFSETFROM:-0800
TZOFFSETTO:-0700
TZNAME:PDT
DTSTART:20270314T100000
END:DAYLIGHT
BEGIN:STANDARD
TZOFFSETFROM:-0700
TZOFFSETTO:-0800
TZNAME:PST
DTSTART:20271107T090000
END:STANDARD
END:VTIMEZONE
BEGIN:VEVENT
DTSTART;VALUE=DATE:20260425
DTEND;VALUE=DATE:20260427
DTSTAMP:20260420T011258
CREATED:20260417T234900Z
LAST-MODIFIED:20260417T234900Z
UID:10020046487-1777075200-1777247999@kidsguidemagazine.com
SUMMARY:Panda Fest | Waterfront Park\, San Diego
DESCRIPTION:April 25–26\, 2026 \nExplore food\, culture\, and entertainment from across Asia at Panda Fest\, a large outdoor festival in San Diego. \nDiscover over 300 Asian street food options from countries like China\, Japan\, Korea\, Thailand\, and Vietnam\, with dishes ranging from dumplings and sushi to spicy street eats and desserts. Enjoy live performances throughout the day\, including lion dances\, K-pop\, and traditional cultural acts. \nBrowse a market fair featuring 50+ specialty products\, handmade crafts\, and cultural goods\, and experience live demonstrations like sugar painting and paper cutting. Don’t miss the 15-foot inflatable panda and themed treats available throughout the festival. \nAdmission details are not mentioned—check the event website for ticket information. \n————— \nBefore You Go: Visit Panda Fest’s website or social media for updates and ticket details. This event is organized by Panda Fest. Kidsguide is an independent community resource helping families discover fun events across Southern California. \nLooking for more family fun? Explore more family-friendly events on our blog\, browse our calendar\, check out limited-time exhibits and experiences\, or subscribe to our newsletter for weekly updates. \n 
URL:https://kidsguidemagazine.com/event/panda-fest-waterfront-park-san-diego/
LOCATION:Waterfront Park – San Diego\, 1600 Pacific Hwy.\, San Diego\, CA\, 92101
CATEGORIES:* Weekend Event,• Festivals
END:VEVENT
END:VCALENDAR