BEGIN:VCALENDAR
VERSION:2.0
PRODID:-//Kidsguide - ECPv6.15.20//NONSGML v1.0//EN
CALSCALE:GREGORIAN
METHOD:PUBLISH
X-ORIGINAL-URL:https://kidsguidemagazine.com
X-WR-CALDESC:Events for Kidsguide
REFRESH-INTERVAL;VALUE=DURATION:PT1H
X-Robots-Tag:noindex
X-PUBLISHED-TTL:PT1H
BEGIN:VTIMEZONE
TZID:America/Los_Angeles
BEGIN:DAYLIGHT
TZOFFSETFROM:-0800
TZOFFSETTO:-0700
TZNAME:PDT
DTSTART:20250309T100000
END:DAYLIGHT
BEGIN:STANDARD
TZOFFSETFROM:-0700
TZOFFSETTO:-0800
TZNAME:PST
DTSTART:20251102T090000
END:STANDARD
BEGIN:DAYLIGHT
TZOFFSETFROM:-0800
TZOFFSETTO:-0700
TZNAME:PDT
DTSTART:20260308T100000
END:DAYLIGHT
BEGIN:STANDARD
TZOFFSETFROM:-0700
TZOFFSETTO:-0800
TZNAME:PST
DTSTART:20261101T090000
END:STANDARD
BEGIN:DAYLIGHT
TZOFFSETFROM:-0800
TZOFFSETTO:-0700
TZNAME:PDT
DTSTART:20270314T100000
END:DAYLIGHT
BEGIN:STANDARD
TZOFFSETFROM:-0700
TZOFFSETTO:-0800
TZNAME:PST
DTSTART:20271107T090000
END:STANDARD
END:VTIMEZONE
BEGIN:VEVENT
DTSTART;TZID=America/Los_Angeles:20260426T080000
DTEND;TZID=America/Los_Angeles:20260426T080000
DTSTAMP:20260421T053251
CREATED:20260421T052328Z
LAST-MODIFIED:20260421T052328Z
UID:10020046504-1777190400-1777190400@kidsguidemagazine.com
SUMMARY:Earthchella Clean Up | Elysian Park\, Los Angeles
DESCRIPTION:Sunday\, April 26\, 2026 \nJoin a large-scale community cleanup at Elysian Park focused on protecting local wildlife and keeping outdoor spaces clean. \nWork alongside hikers\, outdoor groups\, and volunteers to collect trash and restore the park during a hands-on cleanup effort. After the cleanup\, stick around for food\, games\, giveaways\, and time to connect with others who care about the outdoors. \nStart the morning with coffee and pastries before heading out to make a visible impact in one of Los Angeles’ popular recreation areas. \n————— \nBefore You Go: Visit On Trail With Inc.’s social media or event page for updates and meeting details. This event is organized by On Trail With Inc. Kidsguide is an independent community resource helping families discover fun events across Southern California. \nLooking for more family fun? Explore more family-friendly events on our blog\, browse our calendar\, check out limited-time exhibits and experiences\, or subscribe to our newsletter for weekly updates. \n 
URL:https://kidsguidemagazine.com/event/earthchella-clean-up-elysian-park-los-angeles/
LOCATION:Elysian Park\, 2010 Stadium Way\, Los Angeles
CATEGORIES:* Free Events,* Weekend Event,• Nature & Outdoors,04: Earth Day
END:VEVENT
END:VCALENDAR