BEGIN:VCALENDAR
VERSION:2.0
PRODID:-//Kidsguide - ECPv6.15.20//NONSGML v1.0//EN
CALSCALE:GREGORIAN
METHOD:PUBLISH
X-ORIGINAL-URL:https://kidsguidemagazine.com
X-WR-CALDESC:Events for Kidsguide
REFRESH-INTERVAL;VALUE=DURATION:PT1H
X-Robots-Tag:noindex
X-PUBLISHED-TTL:PT1H
BEGIN:VTIMEZONE
TZID:America/Los_Angeles
BEGIN:DAYLIGHT
TZOFFSETFROM:-0800
TZOFFSETTO:-0700
TZNAME:PDT
DTSTART:20240310T100000
END:DAYLIGHT
BEGIN:STANDARD
TZOFFSETFROM:-0700
TZOFFSETTO:-0800
TZNAME:PST
DTSTART:20241103T090000
END:STANDARD
BEGIN:DAYLIGHT
TZOFFSETFROM:-0800
TZOFFSETTO:-0700
TZNAME:PDT
DTSTART:20250309T100000
END:DAYLIGHT
BEGIN:STANDARD
TZOFFSETFROM:-0700
TZOFFSETTO:-0800
TZNAME:PST
DTSTART:20251102T090000
END:STANDARD
BEGIN:DAYLIGHT
TZOFFSETFROM:-0800
TZOFFSETTO:-0700
TZNAME:PDT
DTSTART:20260308T100000
END:DAYLIGHT
BEGIN:STANDARD
TZOFFSETFROM:-0700
TZOFFSETTO:-0800
TZNAME:PST
DTSTART:20261101T090000
END:STANDARD
END:VTIMEZONE
BEGIN:VEVENT
DTSTART;VALUE=DATE:20250412
DTEND;VALUE=DATE:20250414
DTSTAMP:20260423T115705
CREATED:20230331T002756Z
LAST-MODIFIED:20250410T173021Z
UID:10020040387-1744416000-1744588799@kidsguidemagazine.com
SUMMARY:SoCal Air Show at March Air Reserve Base
DESCRIPTION:April 12-13\, 2025 \nThe Southern California Airshow is one of the largest multi-day events in the region with tens of thousands of spectators each day. See aerial performances from the U.S. Air Force Thunderbirds\, C-17\, Canadian Skyhawks Parachute Team\, F-18F Super Hornet\, and more. \n 
URL:https://kidsguidemagazine.com/event/socal-air-show-at-march-air-reserve-base/
LOCATION:March Air Reserve Base\, Riverside\, CA
CATEGORIES:* Editor's Picks!,* Free Events
END:VEVENT
END:VCALENDAR