BEGIN:VCALENDAR
VERSION:2.0
PRODID:-//Kidsguide - ECPv6.15.20//NONSGML v1.0//EN
CALSCALE:GREGORIAN
METHOD:PUBLISH
X-WR-CALNAME:Kidsguide
X-ORIGINAL-URL:https://kidsguidemagazine.com
X-WR-CALDESC:Events for Kidsguide
REFRESH-INTERVAL;VALUE=DURATION:PT1H
X-Robots-Tag:noindex
X-PUBLISHED-TTL:PT1H
BEGIN:VTIMEZONE
TZID:America/Los_Angeles
BEGIN:DAYLIGHT
TZOFFSETFROM:-0800
TZOFFSETTO:-0700
TZNAME:PDT
DTSTART:20250309T100000
END:DAYLIGHT
BEGIN:STANDARD
TZOFFSETFROM:-0700
TZOFFSETTO:-0800
TZNAME:PST
DTSTART:20251102T090000
END:STANDARD
BEGIN:DAYLIGHT
TZOFFSETFROM:-0800
TZOFFSETTO:-0700
TZNAME:PDT
DTSTART:20260308T100000
END:DAYLIGHT
BEGIN:STANDARD
TZOFFSETFROM:-0700
TZOFFSETTO:-0800
TZNAME:PST
DTSTART:20261101T090000
END:STANDARD
BEGIN:DAYLIGHT
TZOFFSETFROM:-0800
TZOFFSETTO:-0700
TZNAME:PDT
DTSTART:20270314T100000
END:DAYLIGHT
BEGIN:STANDARD
TZOFFSETFROM:-0700
TZOFFSETTO:-0800
TZNAME:PST
DTSTART:20271107T090000
END:STANDARD
END:VTIMEZONE
BEGIN:VEVENT
DTSTART;TZID=America/Los_Angeles:20260425T100000
DTEND;TZID=America/Los_Angeles:20260425T170000
DTSTAMP:20260421T012251
CREATED:20260421T030904Z
LAST-MODIFIED:20260421T030904Z
UID:10020046494-1777111200-1777136400@kidsguidemagazine.com
SUMMARY:Long Beach Pet Fair | Long Beach Exchange – The Hangar\, Long Beach
DESCRIPTION:Saturday\, April 25\, 2026 \nSpend the day with fellow animal lovers at the 4th Annual Long Beach Pet Fair. \nMeet adoptable pets and connect with local animal rescues\, shelters\, and pet-focused organizations. Browse craft vendors\, shop from local businesses\, and explore a variety of booths dedicated to animal care and advocacy. \nThis family-friendly event offers a fun and welcoming space to learn\, shop\, and support pets in need while celebrating the local pet-loving community. \nAdmission details are not mentioned—contact the organizer for more information. Well-socialized and vaccinated pets are welcome if kept in carriers\, strollers\, or on a leash (maximum 6 ft). \n————— \nBefore You Go: Visit the event’s website or social media for updates and details. This event is hosted at Long Beach Exchange. Kidsguide is an independent community resource helping families discover fun events across Southern California. \nLooking for more family fun? Explore more family-friendly events on our blog\, browse our calendar\, check out limited-time exhibits and experiences\, or subscribe to our newsletter for weekly updates. \n 
URL:https://kidsguidemagazine.com/event/long-beach-pet-fair-long-beach-exchange-the-hangar-long-beach/
LOCATION:Long Beach Exchange (LBX)\, Long Beach
CATEGORIES:* Free Events,* Weekend Event
END:VEVENT
END:VCALENDAR