BEGIN:VCALENDAR
VERSION:2.0
PRODID:-//Kidsguide - ECPv6.15.20//NONSGML v1.0//EN
CALSCALE:GREGORIAN
METHOD:PUBLISH
X-ORIGINAL-URL:https://kidsguidemagazine.com
X-WR-CALDESC:Events for Kidsguide
REFRESH-INTERVAL;VALUE=DURATION:PT1H
X-Robots-Tag:noindex
X-PUBLISHED-TTL:PT1H
BEGIN:VTIMEZONE
TZID:America/Los_Angeles
BEGIN:DAYLIGHT
TZOFFSETFROM:-0800
TZOFFSETTO:-0700
TZNAME:PDT
DTSTART:20240310T100000
END:DAYLIGHT
BEGIN:STANDARD
TZOFFSETFROM:-0700
TZOFFSETTO:-0800
TZNAME:PST
DTSTART:20241103T090000
END:STANDARD
BEGIN:DAYLIGHT
TZOFFSETFROM:-0800
TZOFFSETTO:-0700
TZNAME:PDT
DTSTART:20250309T100000
END:DAYLIGHT
BEGIN:STANDARD
TZOFFSETFROM:-0700
TZOFFSETTO:-0800
TZNAME:PST
DTSTART:20251102T090000
END:STANDARD
BEGIN:DAYLIGHT
TZOFFSETFROM:-0800
TZOFFSETTO:-0700
TZNAME:PDT
DTSTART:20260308T100000
END:DAYLIGHT
BEGIN:STANDARD
TZOFFSETFROM:-0700
TZOFFSETTO:-0800
TZNAME:PST
DTSTART:20261101T090000
END:STANDARD
END:VTIMEZONE
BEGIN:VEVENT
DTSTART;TZID=America/Los_Angeles:20250401T150000
DTEND;TZID=America/Los_Angeles:20250401T150000
DTSTAMP:20260421T105021
CREATED:20240227T233942Z
LAST-MODIFIED:20250218T214418Z
UID:10020041807-1743519600-1743519600@kidsguidemagazine.com
SUMMARY:iLUMINATE at Cerritos Center of the Performing Arts
DESCRIPTION:Tuesday\, April 1\, 2025 \nGo on a mesmerizing journey with iLuminate\, a groundbreaking spectacle where technology and dance intertwine! \nHailed as “the best new act in America!” during its America’s Got Talent run in 2011\, this unique show blends dance and software engineering\, producing an exhilarating performance. \nAs the lights dim\, dancers adorned in custom LED suits transport you to another dimension\, delivering dynamic routines and illusions set to an eclectic musical backdrop from rock to pop to hip-hop. \n  \n \n 
URL:https://kidsguidemagazine.com/event/iluminate-at-cerritos-center-of-the-performing-arts/
LOCATION:Cerritos Center for the Performing Arts\, 18000 Park Plaza Dr.\, Cerritos\, CA\, 90703
CATEGORIES:• Shows & Performances
END:VEVENT
END:VCALENDAR