BEGIN:VCALENDAR
VERSION:2.0
PRODID:-//Kidsguide - ECPv6.15.20//NONSGML v1.0//EN
CALSCALE:GREGORIAN
METHOD:PUBLISH
X-WR-CALNAME:Kidsguide
X-ORIGINAL-URL:https://kidsguidemagazine.com
X-WR-CALDESC:Events for Kidsguide
REFRESH-INTERVAL;VALUE=DURATION:PT1H
X-Robots-Tag:noindex
X-PUBLISHED-TTL:PT1H
BEGIN:VTIMEZONE
TZID:America/Los_Angeles
BEGIN:DAYLIGHT
TZOFFSETFROM:-0800
TZOFFSETTO:-0700
TZNAME:PDT
DTSTART:20240310T100000
END:DAYLIGHT
BEGIN:STANDARD
TZOFFSETFROM:-0700
TZOFFSETTO:-0800
TZNAME:PST
DTSTART:20241103T090000
END:STANDARD
BEGIN:DAYLIGHT
TZOFFSETFROM:-0800
TZOFFSETTO:-0700
TZNAME:PDT
DTSTART:20250309T100000
END:DAYLIGHT
BEGIN:STANDARD
TZOFFSETFROM:-0700
TZOFFSETTO:-0800
TZNAME:PST
DTSTART:20251102T090000
END:STANDARD
BEGIN:DAYLIGHT
TZOFFSETFROM:-0800
TZOFFSETTO:-0700
TZNAME:PDT
DTSTART:20260308T100000
END:DAYLIGHT
BEGIN:STANDARD
TZOFFSETFROM:-0700
TZOFFSETTO:-0800
TZNAME:PST
DTSTART:20261101T090000
END:STANDARD
BEGIN:DAYLIGHT
TZOFFSETFROM:-0800
TZOFFSETTO:-0700
TZNAME:PDT
DTSTART:20270314T100000
END:DAYLIGHT
BEGIN:STANDARD
TZOFFSETFROM:-0700
TZOFFSETTO:-0800
TZNAME:PST
DTSTART:20271107T090000
END:STANDARD
END:VTIMEZONE
BEGIN:VEVENT
DTSTART;VALUE=DATE:20260404
DTEND;VALUE=DATE:20260406
DTSTAMP:20260422T035221
CREATED:20220407T181244Z
LAST-MODIFIED:20260318T080855Z
UID:10020046250-1775260800-1775433599@kidsguidemagazine.com
SUMMARY:Spring Fling & Egg Hunt at Gilchrist Farm in Santa Clarita
DESCRIPTION:March 21-22\, 28-29 & April 4\, 2026 \nGilchrist Farm in Santa Clarita hosts its annual Spring Fling & Egg Hunt across three weekends in March and April. Baby animals — goats\, chicks\, piglets\, and more — are on hand for the celebration\, along with a chick zone where kids can touch and learn about chicks and ducklings. \nEgg hunts run at 10am\, 12pm\, and 2pm and are divided into four age and ability groups: ages 3 and under\, ages 4–7\, ages 8–10\, and a Challenge Course for ages 11 and up. Adults accompany children at no cost and do not need tickets. Pig races take place at 11am and 3pm. \nActivities include: \n\nEgg hunts by age group (three daily time slots)\nBaby animal and farm visits\nPhotos with the Easter Bunny or real bunnies\nPony and horseback rides\nFarm train and wagon rides\nGiant slide and straw bale maze\nFarm crafts\nArchery and axe throwing\nGem mining\, gold panning\, and pioneer arts\nPig races\n\nA Full Day Wristband ($65\, $55 for same-family add-on) includes an egg hunt\, unlimited farm visit\, maze\, and slide\, plus a wagon ride\, farm train ride\, and three activity choices. Individual tickets are also available à la carte. \n————— \nBefore You Go: Visit Gilchrist Farm‘s website for tickets\, details\, and updates. This event is organized by Gilchrist Farm. Kidsguide is an independent community resource helping families discover fun events across Southern California. \nLooking for more family fun? Explore more family-friendly events on our blog\, browse our calendar\, check out limited-time exhibits and experiences\, or subscribe to our newsletter for weekly updates.
URL:https://kidsguidemagazine.com/event/spring-fling-egg-hunt-at-gilchrist-farm-in-santa-clarita/2026-04-04/
LOCATION:Gilchrist Farm\, 30116 Bouquet Canyon Road\, Santa Clarita\, CA\, 91390
CATEGORIES:* Editor's Picks!,04: Easter
END:VEVENT
BEGIN:VEVENT
DTSTART;VALUE=DATE:20260328
DTEND;VALUE=DATE:20260330
DTSTAMP:20260422T035221
CREATED:20220407T181244Z
LAST-MODIFIED:20260318T080855Z
UID:10020046249-1774656000-1774828799@kidsguidemagazine.com
SUMMARY:Spring Fling & Egg Hunt at Gilchrist Farm in Santa Clarita
DESCRIPTION:March 21-22\, 28-29 & April 4\, 2026 \nGilchrist Farm in Santa Clarita hosts its annual Spring Fling & Egg Hunt across three weekends in March and April. Baby animals — goats\, chicks\, piglets\, and more — are on hand for the celebration\, along with a chick zone where kids can touch and learn about chicks and ducklings. \nEgg hunts run at 10am\, 12pm\, and 2pm and are divided into four age and ability groups: ages 3 and under\, ages 4–7\, ages 8–10\, and a Challenge Course for ages 11 and up. Adults accompany children at no cost and do not need tickets. Pig races take place at 11am and 3pm. \nActivities include: \n\nEgg hunts by age group (three daily time slots)\nBaby animal and farm visits\nPhotos with the Easter Bunny or real bunnies\nPony and horseback rides\nFarm train and wagon rides\nGiant slide and straw bale maze\nFarm crafts\nArchery and axe throwing\nGem mining\, gold panning\, and pioneer arts\nPig races\n\nA Full Day Wristband ($65\, $55 for same-family add-on) includes an egg hunt\, unlimited farm visit\, maze\, and slide\, plus a wagon ride\, farm train ride\, and three activity choices. Individual tickets are also available à la carte. \n————— \nBefore You Go: Visit Gilchrist Farm‘s website for tickets\, details\, and updates. This event is organized by Gilchrist Farm. Kidsguide is an independent community resource helping families discover fun events across Southern California. \nLooking for more family fun? Explore more family-friendly events on our blog\, browse our calendar\, check out limited-time exhibits and experiences\, or subscribe to our newsletter for weekly updates.
URL:https://kidsguidemagazine.com/event/spring-fling-egg-hunt-at-gilchrist-farm-in-santa-clarita/2026-03-28/
LOCATION:Gilchrist Farm\, 30116 Bouquet Canyon Road\, Santa Clarita\, CA\, 91390
CATEGORIES:* Editor's Picks!,04: Easter
END:VEVENT
BEGIN:VEVENT
DTSTART;VALUE=DATE:20260321
DTEND;VALUE=DATE:20260323
DTSTAMP:20260422T035221
CREATED:20220407T181244Z
LAST-MODIFIED:20260318T080855Z
UID:10020046244-1774051200-1774223999@kidsguidemagazine.com
SUMMARY:Spring Fling & Egg Hunt at Gilchrist Farm in Santa Clarita
DESCRIPTION:March 21-22\, 28-29 & April 4\, 2026 \nGilchrist Farm in Santa Clarita hosts its annual Spring Fling & Egg Hunt across three weekends in March and April. Baby animals — goats\, chicks\, piglets\, and more — are on hand for the celebration\, along with a chick zone where kids can touch and learn about chicks and ducklings. \nEgg hunts run at 10am\, 12pm\, and 2pm and are divided into four age and ability groups: ages 3 and under\, ages 4–7\, ages 8–10\, and a Challenge Course for ages 11 and up. Adults accompany children at no cost and do not need tickets. Pig races take place at 11am and 3pm. \nActivities include: \n\nEgg hunts by age group (three daily time slots)\nBaby animal and farm visits\nPhotos with the Easter Bunny or real bunnies\nPony and horseback rides\nFarm train and wagon rides\nGiant slide and straw bale maze\nFarm crafts\nArchery and axe throwing\nGem mining\, gold panning\, and pioneer arts\nPig races\n\nA Full Day Wristband ($65\, $55 for same-family add-on) includes an egg hunt\, unlimited farm visit\, maze\, and slide\, plus a wagon ride\, farm train ride\, and three activity choices. Individual tickets are also available à la carte. \n————— \nBefore You Go: Visit Gilchrist Farm‘s website for tickets\, details\, and updates. This event is organized by Gilchrist Farm. Kidsguide is an independent community resource helping families discover fun events across Southern California. \nLooking for more family fun? Explore more family-friendly events on our blog\, browse our calendar\, check out limited-time exhibits and experiences\, or subscribe to our newsletter for weekly updates.
URL:https://kidsguidemagazine.com/event/spring-fling-egg-hunt-at-gilchrist-farm-in-santa-clarita/2026-03-21/
LOCATION:Gilchrist Farm\, 30116 Bouquet Canyon Road\, Santa Clarita\, CA\, 91390
CATEGORIES:* Editor's Picks!,04: Easter
END:VEVENT
BEGIN:VEVENT
DTSTART;VALUE=DATE:20260214
DTEND;VALUE=DATE:20260216
DTSTAMP:20260422T035221
CREATED:20250128T051631Z
LAST-MODIFIED:20260210T224038Z
UID:10020042684-1771027200-1771199999@kidsguidemagazine.com
SUMMARY:Valentine's Weekend | Gilchrist Farm\, Santa Clarita
DESCRIPTION:February 14-15\, 2026 \nGilchrist Farm hosts a Valentine’s Weekend celebration with special farm activities and themed extras from 9 am to 2 pm. \nEnjoy regular farm visit activities including pony rides\, horse rides\, farm animal visits\, wagon rides\, farm train\, archery\, axe throwing\, and Valentine-themed gemstone mining at The Gilchrist Mining Company. Special Valentine extras include themed crafts\, pioneer arts\, print photo opportunities\, and treats for sale. Pet and pose with pigs\, goats\, cows\, horses\, and ponies\, brush a pony\, feed the ducks\, and meet the tortoises. \nActivities include: \n\nPony and horse rides\nFarm animal visits (pigs\, goats\, cows\, horses\, ponies\, ducks\, tortoises)\nWagon rides and farm train\nArchery and axe throwing\nValentine-themed gemstone mining\nValentine craft making\nPioneer arts\nPrint photo opportunities\n\nNo reservations needed for family activities. Activities are priced individually and purchased onsite. A separate Couple’s Dinner is available on February 14 only from 3-6 pm for $100 per couple with advance reservations required. \n\nDo you need reservations for Gilchrist Farm Valentine’s Celebration? \nNo reservations needed for family activities from 9 am to 2 pm. Purchase activities onsite. The Couple’s Dinner on February 14 requires advance reservations. \nWhat time does the Valentine’s Celebration at Gilchrist Farm start? \nFamily activities run from 9 am to 2 pm on both Saturday and Sunday. \nWhat is the Valentine-themed gemstone mining? \nA special Valentine-themed gemstone mining experience at The Gilchrist Mining Company where visitors can search for gems. \nCan you ride horses at Gilchrist Farm? \nYes\, both pony rides and horse rides are available during the Valentine’s Weekend celebration. \nIs the Gilchrist Farm Valentine’s Celebration good for all ages? \nYes\, the event features family activities including animal visits\, crafts\, and rides suitable for various ages. \n\nBefore You Go: Visit Gilchrist Farm’s website or social media for updates\, location details\, and pricing information. This event is organized by Gilchrist Farm. Kidsguide is an independent community resource helping families discover fun events across Southern California. \nLooking for more family fun? Explore more family-friendly events on our blog\, browse our calendar\, check out limited-time exhibits and experiences\, or subscribe to our newsletter for weekly updates. \n 
URL:https://kidsguidemagazine.com/event/valentines-weekend-at-gilchrist-farm/
LOCATION:Gilchrist Farm\, 30116 Bouquet Canyon Road\, Santa Clarita\, CA\, 91390
CATEGORIES:02: Valentine's Day
END:VEVENT
BEGIN:VEVENT
DTSTART;VALUE=DATE:20250525
DTEND;VALUE=DATE:20250527
DTSTAMP:20260422T035221
CREATED:20230428T031102Z
LAST-MODIFIED:20250430T214131Z
UID:10020040593-1748131200-1748303999@kidsguidemagazine.com
SUMMARY:Family Camp Out at Gilchrist Farm
DESCRIPTION:May 25-26\, 2025 \nGet a chance for the whole family to enjoy a camp out (in your own tent) at the Gilchrist Farm and enjoy all of the activities of summer camp! Ride horses\, milk goats\, make candles\, gather eggs\, pet cows\, feed pigs\, sleep under the stars and wake up with the roosters! \nEnjoy a full barbecue Sunday night and a farm-fresh breakfast Monday morning. \nAppropriate for all ages. Adult must accompany child for the duration of the event. \n 
URL:https://kidsguidemagazine.com/event/family-camp-out-at-gilchrist-farm/
LOCATION:Gilchrist Farm\, 30116 Bouquet Canyon Road\, Santa Clarita\, CA\, 91390
CATEGORIES:• Nature & Outdoors,05: Memorial Weekend
END:VEVENT
END:VCALENDAR