BEGIN:VCALENDAR
VERSION:2.0
PRODID:-//Kidsguide - ECPv6.15.20//NONSGML v1.0//EN
CALSCALE:GREGORIAN
METHOD:PUBLISH
X-WR-CALNAME:Kidsguide
X-ORIGINAL-URL:https://kidsguidemagazine.com
X-WR-CALDESC:Events for Kidsguide
REFRESH-INTERVAL;VALUE=DURATION:PT1H
X-Robots-Tag:noindex
X-PUBLISHED-TTL:PT1H
BEGIN:VTIMEZONE
TZID:America/Los_Angeles
BEGIN:DAYLIGHT
TZOFFSETFROM:-0800
TZOFFSETTO:-0700
TZNAME:PDT
DTSTART:20240310T100000
END:DAYLIGHT
BEGIN:STANDARD
TZOFFSETFROM:-0700
TZOFFSETTO:-0800
TZNAME:PST
DTSTART:20241103T090000
END:STANDARD
BEGIN:DAYLIGHT
TZOFFSETFROM:-0800
TZOFFSETTO:-0700
TZNAME:PDT
DTSTART:20250309T100000
END:DAYLIGHT
BEGIN:STANDARD
TZOFFSETFROM:-0700
TZOFFSETTO:-0800
TZNAME:PST
DTSTART:20251102T090000
END:STANDARD
BEGIN:DAYLIGHT
TZOFFSETFROM:-0800
TZOFFSETTO:-0700
TZNAME:PDT
DTSTART:20260308T100000
END:DAYLIGHT
BEGIN:STANDARD
TZOFFSETFROM:-0700
TZOFFSETTO:-0800
TZNAME:PST
DTSTART:20261101T090000
END:STANDARD
END:VTIMEZONE
BEGIN:VEVENT
DTSTART;TZID=America/Los_Angeles:20251102T120000
DTEND;TZID=America/Los_Angeles:20251102T200000
DTSTAMP:20260424T014545
CREATED:20231025T201038Z
LAST-MODIFIED:20251104T183143Z
UID:10020041279-1762084800-1762113600@kidsguidemagazine.com
SUMMARY:Exploring Your Universe at UCLA
DESCRIPTION:Sunday\, November 2\, 2025 \nExploring Your Universe (EYU) is an all-ages science festival at the UCLA Court of Sciences and the largest science outreach event at UCLA. EYU will be hosting science booths and science talks with subjects ranging from astronomy\, biology\, geology\, chemistry\, sustainability\, psychology\, and more. \nAll activities are interactive experiences led by experts and scientists and geared for all ages (K-12+). \nFree to attend and participate. \n 
URL:https://kidsguidemagazine.com/event/exploring-your-universe-at-ucla/
LOCATION:University of California\, Los Angeles (UCLA)\, 340 Bruin Walk\, Los Angeles\, CA\, 90095
CATEGORIES:* Free Events
END:VEVENT
END:VCALENDAR