BEGIN:VCALENDAR
VERSION:2.0
PRODID:-//Kidsguide - ECPv6.15.20//NONSGML v1.0//EN
CALSCALE:GREGORIAN
METHOD:PUBLISH
X-WR-CALNAME:Kidsguide
X-ORIGINAL-URL:https://kidsguidemagazine.com
X-WR-CALDESC:Events for Kidsguide
REFRESH-INTERVAL;VALUE=DURATION:PT1H
X-Robots-Tag:noindex
X-PUBLISHED-TTL:PT1H
BEGIN:VTIMEZONE
TZID:America/Los_Angeles
BEGIN:DAYLIGHT
TZOFFSETFROM:-0800
TZOFFSETTO:-0700
TZNAME:PDT
DTSTART:20250309T100000
END:DAYLIGHT
BEGIN:STANDARD
TZOFFSETFROM:-0700
TZOFFSETTO:-0800
TZNAME:PST
DTSTART:20251102T090000
END:STANDARD
BEGIN:DAYLIGHT
TZOFFSETFROM:-0800
TZOFFSETTO:-0700
TZNAME:PDT
DTSTART:20260308T100000
END:DAYLIGHT
BEGIN:STANDARD
TZOFFSETFROM:-0700
TZOFFSETTO:-0800
TZNAME:PST
DTSTART:20261101T090000
END:STANDARD
BEGIN:DAYLIGHT
TZOFFSETFROM:-0800
TZOFFSETTO:-0700
TZNAME:PDT
DTSTART:20270314T100000
END:DAYLIGHT
BEGIN:STANDARD
TZOFFSETFROM:-0700
TZOFFSETTO:-0800
TZNAME:PST
DTSTART:20271107T090000
END:STANDARD
END:VTIMEZONE
BEGIN:VEVENT
DTSTART;TZID=America/Los_Angeles:20260418T090000
DTEND;TZID=America/Los_Angeles:20260418T170000
DTSTAMP:20260423T061148
CREATED:20260414T211740Z
LAST-MODIFIED:20260414T211740Z
UID:10020046463-1776502800-1776531600@kidsguidemagazine.com
SUMMARY:Mariachi Music Festival | Downey High School\, Downey
DESCRIPTION:Saturday\, April 18\, 2026 \nCelebrate culture and music at Downey Unified’s Mariachi Music Festival. \nEnjoy a full day of live performances from middle school through college mariachi groups across Southern California\, along with traditional Folklorico dance performances. The festival highlights student talent and cultural expression in a lively stadium setting. \nFamilies can relax\, listen to music\, and grab food from local food trucks while watching performances throughout the day. \nAdmission is free. \n————— \nBefore You Go: Visit Downey Unified’s website to RSVP and view the full program. This event is presented by Downey Unified Mariachi. Kidsguide is an independent community resource helping families discover fun events across Southern California. \nLooking for more family fun? Explore more family-friendly events on our blog\, browse our calendar\, check out limited-time exhibits and experiences\, or subscribe to our newsletter for weekly updates. \n 
URL:https://kidsguidemagazine.com/event/mariachi-music-festival-downey-high-school-downey/
LOCATION:Downey High School\, 11040 Brookshire Ave.\, Downey\, CA\, 90241
CATEGORIES:* Free Events,* Weekend Event
END:VEVENT
END:VCALENDAR