BEGIN:VCALENDAR
VERSION:2.0
PRODID:-//Kidsguide - ECPv6.15.20//NONSGML v1.0//EN
CALSCALE:GREGORIAN
METHOD:PUBLISH
X-WR-CALNAME:Kidsguide
X-ORIGINAL-URL:https://kidsguidemagazine.com
X-WR-CALDESC:Events for Kidsguide
REFRESH-INTERVAL;VALUE=DURATION:PT1H
X-Robots-Tag:noindex
X-PUBLISHED-TTL:PT1H
BEGIN:VTIMEZONE
TZID:America/Los_Angeles
BEGIN:DAYLIGHT
TZOFFSETFROM:-0800
TZOFFSETTO:-0700
TZNAME:PDT
DTSTART:20250309T100000
END:DAYLIGHT
BEGIN:STANDARD
TZOFFSETFROM:-0700
TZOFFSETTO:-0800
TZNAME:PST
DTSTART:20251102T090000
END:STANDARD
BEGIN:DAYLIGHT
TZOFFSETFROM:-0800
TZOFFSETTO:-0700
TZNAME:PDT
DTSTART:20260308T100000
END:DAYLIGHT
BEGIN:STANDARD
TZOFFSETFROM:-0700
TZOFFSETTO:-0800
TZNAME:PST
DTSTART:20261101T090000
END:STANDARD
BEGIN:DAYLIGHT
TZOFFSETFROM:-0800
TZOFFSETTO:-0700
TZNAME:PDT
DTSTART:20270314T100000
END:DAYLIGHT
BEGIN:STANDARD
TZOFFSETFROM:-0700
TZOFFSETTO:-0800
TZNAME:PST
DTSTART:20271107T090000
END:STANDARD
END:VTIMEZONE
BEGIN:VEVENT
DTSTART;TZID=America/Los_Angeles:20260405T140000
DTEND;TZID=America/Los_Angeles:20260405T160000
DTSTAMP:20260422T200151
CREATED:20260327T022221Z
LAST-MODIFIED:20260327T022221Z
UID:10020046274-1775397600-1775404800@kidsguidemagazine.com
SUMMARY:Easter Celebration | Cottage Industries\, Garden Grove
DESCRIPTION:Sunday\, April 5\, 2025 \nCelebrate Easter with a free\, family-friendly afternoon featuring an egg hunt\, Easter Bunny photos\, and egg painting. \nThe Easter Egg Hunt runs from 2pm–2:30pm\, followed by an Easter Bunny Photo Op from 2:30pm–3:30pm. An Egg Painting Workshop runs throughout the afternoon from 2pm–4pm. All activities are free and first come\, first served. \nActivities include: \n\nEaster Egg Hunt (2pm–2:30pm)\nEaster Bunny Photo Op (2:30pm–3:30pm)\nEgg Painting Workshop (2pm–4pm)\n\nAll activities are free and first come\, first served. \n————— \nBefore You Go: Visit Cottage Industries’ Instagram (@thecottageindustries) for updates and details. This event is organized by Cottage Industries. Kidsguide is an independent community resource helping families discover fun events across Southern California. \nLooking for more family fun? Explore more family-friendly events on our blog\, browse our calendar\, check out limited-time exhibits and experiences\, or subscribe to our newsletter for weekly updates. \n  \n 
URL:https://kidsguidemagazine.com/event/easter-celebration-cottage-industries-garden-grove/
LOCATION:Cottage Industries\, 12934 8th St.\, Garden Grove\, CA\, 92840
CATEGORIES:* Free Events,* Weekend Event,04: Easter
END:VEVENT
BEGIN:VEVENT
DTSTART;TZID=America/Los_Angeles:20260221T130000
DTEND;TZID=America/Los_Angeles:20260221T160000
DTSTAMP:20260422T200151
CREATED:20260211T182451Z
LAST-MODIFIED:20260211T182451Z
UID:10020045877-1771678800-1771689600@kidsguidemagazine.com
SUMMARY:Lunar New Year Celebration | The Cottage Industries\, Garden Grove
DESCRIPTION:Saturday\, February 21\, 2026 \nThe Cottage Industries in Garden Grove hosts a Lunar New Year celebration filled with performances\, crafts\, and family activities. \nWatch a Lion Dance performance by Tyun Yee Tong and stop by for a kids crafting workshop led by Odd Art by Donna. Listen to storytime hosted by Baby Snack Time Book and explore vendors including Anjoobi selling stickers and stationery. Add a wish to the Lunar Wishing Tree and snap photos throughout the afternoon. The event runs from 1 pm to 4 pm\, with dining available all day at Smoke Queen BBQ and drinks at Junbi Garden Grove. \nEvent highlights: \n\nLion Dance at 1 PM\nKids crafting workshop\nStorytime at 1:30 PM\nLunar Wishing Tree\nPhoto ops & vendors\n\nAdmission details are not mentioned in the announcement. \n————— \nWhat time is the Lunar New Year Celebration at The Cottage Industries?\nThe event takes place from 1 pm to 4 pm on Saturday\, February 21\, 2026. \nWill there be a Lion Dance at The Cottage Industries?\nYes. A Lion Dance performance by Tyun Yee Tong is scheduled for 1 pm. \nAre there activities for kids at The Cottage Industries Lunar New Year event?\nYes. Kids can participate in a crafting workshop from 1–4 pm and enjoy storytime at 1:30 pm. \nWhere is The Cottage Industries located?\nThe Cottage Industries is located at 12934 8th Street in Garden Grove\, CA. \nIs food available during the Lunar New Year celebration?\nYes. Smoke Queen BBQ and Junbi Garden Grove will be open all day for food and drinks. \n————— \nBefore You Go: Visit The Cottage Industries’ Instagram (@thecottageindustries) for updates and details. This event is organized by The Cottage Industries. Kidsguide is an independent community resource helping families discover fun events across Southern California. \nLooking for more family fun? Explore more family-friendly events on our blog\, browse our calendar\, check out limited-time exhibits and experiences\, or subscribe to our newsletter for weekly updates. \n 
URL:https://kidsguidemagazine.com/event/lunar-new-year-celebration-the-cottage-industries-garden-grove/
LOCATION:Cottage Industries\, 12934 8th St.\, Garden Grove\, CA\, 92840
CATEGORIES:• Cultural Events,01: Lunar New Year
END:VEVENT
END:VCALENDAR