BEGIN:VCALENDAR
VERSION:2.0
PRODID:-//Kidsguide - ECPv6.15.20//NONSGML v1.0//EN
CALSCALE:GREGORIAN
METHOD:PUBLISH
X-ORIGINAL-URL:https://kidsguidemagazine.com
X-WR-CALDESC:Events for Kidsguide
REFRESH-INTERVAL;VALUE=DURATION:PT1H
X-Robots-Tag:noindex
X-PUBLISHED-TTL:PT1H
BEGIN:VTIMEZONE
TZID:America/Los_Angeles
BEGIN:DAYLIGHT
TZOFFSETFROM:-0800
TZOFFSETTO:-0700
TZNAME:PDT
DTSTART:20240310T100000
END:DAYLIGHT
BEGIN:STANDARD
TZOFFSETFROM:-0700
TZOFFSETTO:-0800
TZNAME:PST
DTSTART:20241103T090000
END:STANDARD
BEGIN:DAYLIGHT
TZOFFSETFROM:-0800
TZOFFSETTO:-0700
TZNAME:PDT
DTSTART:20250309T100000
END:DAYLIGHT
BEGIN:STANDARD
TZOFFSETFROM:-0700
TZOFFSETTO:-0800
TZNAME:PST
DTSTART:20251102T090000
END:STANDARD
BEGIN:DAYLIGHT
TZOFFSETFROM:-0800
TZOFFSETTO:-0700
TZNAME:PDT
DTSTART:20260308T100000
END:DAYLIGHT
BEGIN:STANDARD
TZOFFSETFROM:-0700
TZOFFSETTO:-0800
TZNAME:PST
DTSTART:20261101T090000
END:STANDARD
BEGIN:DAYLIGHT
TZOFFSETFROM:-0800
TZOFFSETTO:-0700
TZNAME:PDT
DTSTART:20270314T100000
END:DAYLIGHT
BEGIN:STANDARD
TZOFFSETFROM:-0700
TZOFFSETTO:-0800
TZNAME:PST
DTSTART:20271107T090000
END:STANDARD
END:VTIMEZONE
BEGIN:VEVENT
DTSTART;TZID=America/Los_Angeles:20260404T100000
DTEND;TZID=America/Los_Angeles:20260404T120000
DTSTAMP:20260422T224749
CREATED:20220407T172905Z
LAST-MODIFIED:20260322T050135Z
UID:10020039068-1775296800-1775304000@kidsguidemagazine.com
SUMMARY:Egg-Citement Hunt | Hurless Barton Park\, Yorba Linda
DESCRIPTION:Saturday\, April 4\, 2026 \nHunt for eggs and enjoy crafts\, games\, face painting\, a petting zoo\, and photos with the Easter Bunny at Hurless Barton Park. \nAdmission is free and pre-registration is not required. Plan to arrive early — the egg hunt begins at 10am sharp. \n————— \nBefore You Go: Visit City of Yorba Linda‘s website for updates and details. This event is organized by the City of Yorba Linda. Kidsguide is an independent community resource helping families discover fun events across Southern California. \nLooking for more family fun? Explore more family-friendly events on our blog\, browse our calendar\, check out limited-time exhibits and experiences\, or subscribe to our newsletter for weekly updates.
URL:https://kidsguidemagazine.com/event/egg-citement-hunt-in-yorba-linda/
LOCATION:Hurless Barton Park – Yorba Linda\, 4579 Casa Loma Ave.\, Yorba Linda\, CA\, 92886
CATEGORIES:* Free Events,* Weekend Event,04: Easter
END:VEVENT
BEGIN:VEVENT
DTSTART;TZID=America/Los_Angeles:20260403T193000
DTEND;TZID=America/Los_Angeles:20260403T203000
DTSTAMP:20260422T224749
CREATED:20220407T172300Z
LAST-MODIFIED:20260322T045853Z
UID:10020039067-1775244600-1775248200@kidsguidemagazine.com
SUMMARY:Flashlight Egg Hunt | Thomas Lasorda Jr. Field House\, Yorba Linda
DESCRIPTION:Friday\, April 3\, 2026 \nJoin a nighttime egg hunt for kids (ages 7–13) at Thomas Lasorda Jr. Field House in Yorba Linda. \nHunt across two separate hunt areas starting at 7:30pm. Music\, games\, and activities are also part of the evening. Pre-registration is required\, and kids are encouraged to bring a basket\, flashlight\, and running shoes. \nPre-registration is required. Admission is $10 per person. \n————— \nBefore You Go: Visit the City of Yorba Linda’s website for updates and registration details. This event is organized by the City of Yorba Linda. Kidsguide is an independent community resource helping families discover fun events across Southern California. \nLooking for more family fun? Explore more family-friendly events on our blog\, browse our calendar\, check out limited-time exhibits and experiences\, or subscribe to our newsletter for weekly updates.
URL:https://kidsguidemagazine.com/event/flashlight-egg-hunt-in-yorba-linda/
LOCATION:Thomas Lasorda Field House\, 4701 Casa Loma Ave.\, Yorba Linda\, CA\, 92886
CATEGORIES:04: Easter
END:VEVENT
BEGIN:VEVENT
DTSTART;TZID=America/Los_Angeles:20250823T170000
DTEND;TZID=America/Los_Angeles:20250823T200000
DTSTAMP:20260422T224749
CREATED:20250814T052517Z
LAST-MODIFIED:20250814T052517Z
UID:10020044260-1755968400-1755979200@kidsguidemagazine.com
SUMMARY:Chalk Art Festival in Yorba Linda
DESCRIPTION:Saturday\, August 23\, 2025 \nJoin the City of Yorba Linda for the annual Chalk Art Festival featuring creative displays from professional chalk artists\, a giant chalk mural to color\, music\, food trucks\, games and more. \n 
URL:https://kidsguidemagazine.com/event/chalk-art-festival-in-yorba-linda/
LOCATION:Yorba Linda Cultural Arts Center\, 4802 Lakeview Ave.\, Yorba Linda\, CA\, 92866
CATEGORIES:* Free Events
END:VEVENT
BEGIN:VEVENT
DTSTART;TZID=America/Los_Angeles:20250704T170000
DTEND;TZID=America/Los_Angeles:20250704T170000
DTSTAMP:20260422T224749
CREATED:20250619T182347Z
LAST-MODIFIED:20250619T182347Z
UID:10020043660-1751648400-1751648400@kidsguidemagazine.com
SUMMARY:4th of July Spectacular in Yorba Linda
DESCRIPTION:Friday\, July 4\, 2025 \nThe 4th of July Spectacular Event will include food vendors\, family activities\, kids zone\, live music\, and a spectacular firework show. \nFree admission\, starts 5pm\, fireworks at 9pm.
URL:https://kidsguidemagazine.com/event/4th-of-july-spectacular-in-yorba-linda/
LOCATION:Veterans Park – Yorba Linda\, 4756 Valley View Ave.\, Yorba Linda\, CA\, 92886
CATEGORIES:* Free Events,07: July 4th
END:VEVENT
END:VCALENDAR