BEGIN:VCALENDAR
VERSION:2.0
PRODID:-//Kidsguide - ECPv6.15.20//NONSGML v1.0//EN
CALSCALE:GREGORIAN
METHOD:PUBLISH
X-ORIGINAL-URL:https://kidsguidemagazine.com
X-WR-CALDESC:Events for Kidsguide
REFRESH-INTERVAL;VALUE=DURATION:PT1H
X-Robots-Tag:noindex
X-PUBLISHED-TTL:PT1H
BEGIN:VTIMEZONE
TZID:America/Los_Angeles
BEGIN:DAYLIGHT
TZOFFSETFROM:-0800
TZOFFSETTO:-0700
TZNAME:PDT
DTSTART:20250309T100000
END:DAYLIGHT
BEGIN:STANDARD
TZOFFSETFROM:-0700
TZOFFSETTO:-0800
TZNAME:PST
DTSTART:20251102T090000
END:STANDARD
BEGIN:DAYLIGHT
TZOFFSETFROM:-0800
TZOFFSETTO:-0700
TZNAME:PDT
DTSTART:20260308T100000
END:DAYLIGHT
BEGIN:STANDARD
TZOFFSETFROM:-0700
TZOFFSETTO:-0800
TZNAME:PST
DTSTART:20261101T090000
END:STANDARD
BEGIN:DAYLIGHT
TZOFFSETFROM:-0800
TZOFFSETTO:-0700
TZNAME:PDT
DTSTART:20270314T100000
END:DAYLIGHT
BEGIN:STANDARD
TZOFFSETFROM:-0700
TZOFFSETTO:-0800
TZNAME:PST
DTSTART:20271107T090000
END:STANDARD
END:VTIMEZONE
BEGIN:VEVENT
DTSTART;TZID=America/Los_Angeles:20260425T120000
DTEND;TZID=America/Los_Angeles:20260425T170000
DTSTAMP:20260420T032656
CREATED:20260417T182845Z
LAST-MODIFIED:20260417T182845Z
UID:10020046483-1777118400-1777136400@kidsguidemagazine.com
SUMMARY:Spring Fest | Chinese American Museum\, LA
DESCRIPTION:Saturday\, April 25\, 2026 \nCelebrate the Year of the Horse at the annual Spring Festival hosted by the Chinese American Museum and El Pueblo de Los Angeles Historical Monument. \nKick off AAPI Heritage Month with a full day of multicultural performances and family-friendly activities. Enjoy traditional dance\, music\, and cultural showcases from a wide range of performers representing diverse communities. \nExplore hands-on crafts including paper lanterns\, jade magnets\, and playful paper dragons\, along with interactive activities designed for kids. Community partners will also be on-site sharing resources and engaging experiences throughout the event. \nAdmission is free and no registration is required. \n————— \nBefore You Go: Visit the Chinese American Museum or El Pueblo Historical Monument’s website for updates and event details. This event is organized by the Chinese American Museum and El Pueblo de Los Angeles Historical Monument. Kidsguide is an independent community resource helping families discover fun events across Southern California. \nLooking for more family fun? Explore more family-friendly events on our blog\, browse our calendar\, check out limited-time exhibits and experiences\, or subscribe to our newsletter for weekly updates. \n 
URL:https://kidsguidemagazine.com/event/spring-fest-chinese-american-museum-la/
LOCATION:Chinese American Museum\, 425 North Los Angeles St.\, Los Angeles\, 90012
CATEGORIES:* Free Events,* Weekend Event,• Cultural Events
END:VEVENT
END:VCALENDAR