BEGIN:VCALENDAR
VERSION:2.0
PRODID:-//Kidsguide - ECPv6.15.20//NONSGML v1.0//EN
CALSCALE:GREGORIAN
METHOD:PUBLISH
X-WR-CALNAME:Kidsguide
X-ORIGINAL-URL:https://kidsguidemagazine.com
X-WR-CALDESC:Events for Kidsguide
REFRESH-INTERVAL;VALUE=DURATION:PT1H
X-Robots-Tag:noindex
X-PUBLISHED-TTL:PT1H
BEGIN:VTIMEZONE
TZID:America/Los_Angeles
BEGIN:DAYLIGHT
TZOFFSETFROM:-0800
TZOFFSETTO:-0700
TZNAME:PDT
DTSTART:20250309T100000
END:DAYLIGHT
BEGIN:STANDARD
TZOFFSETFROM:-0700
TZOFFSETTO:-0800
TZNAME:PST
DTSTART:20251102T090000
END:STANDARD
BEGIN:DAYLIGHT
TZOFFSETFROM:-0800
TZOFFSETTO:-0700
TZNAME:PDT
DTSTART:20260308T100000
END:DAYLIGHT
BEGIN:STANDARD
TZOFFSETFROM:-0700
TZOFFSETTO:-0800
TZNAME:PST
DTSTART:20261101T090000
END:STANDARD
BEGIN:DAYLIGHT
TZOFFSETFROM:-0800
TZOFFSETTO:-0700
TZNAME:PDT
DTSTART:20270314T100000
END:DAYLIGHT
BEGIN:STANDARD
TZOFFSETFROM:-0700
TZOFFSETTO:-0800
TZNAME:PST
DTSTART:20271107T090000
END:STANDARD
END:VTIMEZONE
BEGIN:VEVENT
DTSTART;TZID=America/Los_Angeles:20260425T100000
DTEND;TZID=America/Los_Angeles:20260425T120000
DTSTAMP:20260423T004120
CREATED:20260421T201020Z
LAST-MODIFIED:20260421T201020Z
UID:10020046510-1777111200-1777118400@kidsguidemagazine.com
SUMMARY:Bluey & Bingo Meet & Greet | Check N' Play\, Brea Mall
DESCRIPTION:Saturday\, April 25\, 2026 \nMeet Bluey and Bingo during this special character meet and greet designed for little fans. \nFamilies can stop by to say hello\, snap photos\, and enjoy a playful experience with these beloved characters. This limited-capacity event offers a chance for kids to interact up close and create memorable moments. \nActivities include: \n\nMeet & greet with Bluey & Bingo\nPhoto opportunities\nFamily-friendly interaction\n\nReservations are required. Spots are limited. \n————— \nBefore You Go: Visit the event link to reserve your spot and view location details. This event is hosted by Clubhouse Characters. Kidsguide is an independent community resource helping families discover fun events across Southern California. \nLooking for more family fun? Explore more family-friendly events on our blog\, browse our calendar\, check out limited-time exhibits and experiences\, or subscribe to our newsletter for weekly updates. \n 
URL:https://kidsguidemagazine.com/event/bluey-bingo-meet-greet-check-n-play-brea-mall/
LOCATION:Brea Mall\, 1065 Brea Mall\, Brea\, CA\, 92821
CATEGORIES:* Weekend Event
END:VEVENT
END:VCALENDAR