BEGIN:VCALENDAR
VERSION:2.0
PRODID:-//Kidsguide - ECPv6.15.20//NONSGML v1.0//EN
CALSCALE:GREGORIAN
METHOD:PUBLISH
X-ORIGINAL-URL:https://kidsguidemagazine.com
X-WR-CALDESC:Events for Kidsguide
REFRESH-INTERVAL;VALUE=DURATION:PT1H
X-Robots-Tag:noindex
X-PUBLISHED-TTL:PT1H
BEGIN:VTIMEZONE
TZID:America/Los_Angeles
BEGIN:DAYLIGHT
TZOFFSETFROM:-0800
TZOFFSETTO:-0700
TZNAME:PDT
DTSTART:20250309T100000
END:DAYLIGHT
BEGIN:STANDARD
TZOFFSETFROM:-0700
TZOFFSETTO:-0800
TZNAME:PST
DTSTART:20251102T090000
END:STANDARD
BEGIN:DAYLIGHT
TZOFFSETFROM:-0800
TZOFFSETTO:-0700
TZNAME:PDT
DTSTART:20260308T100000
END:DAYLIGHT
BEGIN:STANDARD
TZOFFSETFROM:-0700
TZOFFSETTO:-0800
TZNAME:PST
DTSTART:20261101T090000
END:STANDARD
BEGIN:DAYLIGHT
TZOFFSETFROM:-0800
TZOFFSETTO:-0700
TZNAME:PDT
DTSTART:20270314T100000
END:DAYLIGHT
BEGIN:STANDARD
TZOFFSETFROM:-0700
TZOFFSETTO:-0800
TZNAME:PST
DTSTART:20271107T090000
END:STANDARD
END:VTIMEZONE
BEGIN:VEVENT
DTSTART;VALUE=DATE:20260411
DTEND;VALUE=DATE:20260413
DTSTAMP:20260422T234726
CREATED:20260327T180738Z
LAST-MODIFIED:20260327T181647Z
UID:10020046283-1775865600-1776038399@kidsguidemagazine.com
SUMMARY:Orange County Pet & Reptile Expo | OC Fair & Event Center
DESCRIPTION:April 11–12\, 2026 \nExplore two expos under one roof at the Orange County Pet & Reptile Expo — a weekend event featuring both a reptile expo and a pet expo at the OC Fair & Event Center. \nBrowse reptiles and meet cats\, dogs\, and small pets are available for adoption. \nCatch live animal shows\, featuring close-up encounters with a Patagonian cavy mara\, North American opossum\, alligator\, and more. A terrarium building workshop is also offered. \nSnap a free souvenir e-photo with fun props\, interact with reptiles and pets throughout the day\, and get automatically entered in door prize giveaways. \nEvent highlights: \n\nReptile expo with snakes\, lizards\, geckos\, frogs\, tarantulas & more\nPet expo with animals available for adoption\nLive animal shows from Forever Wild (12pm & 2pm)\nTerrarium building workshop (11:30am)\nAll-day reptile & pet encounters\nFree souvenir e-photo\nDoor prize giveaways\n\nTickets start at $12.99 for kids (ages 4–12) and $17.99 for adults and kids (ages 13 and older). Kids (ages 3 and under) are free. Two-day passes\, a family 4-pack\, and a hands-on terrarium building workshop upgrade are available online only. \n————— \nBefore You Go: Visit CVRE’s website for updates and details. This event is organized by Central Valley Reptile Expo. Kidsguide is an independent community resource helping families discover fun events across Southern California. \nLooking for more family fun? Explore more family-friendly events on our blog\, browse our calendar\, check out limited-time exhibits and experiences\, or subscribe to our newsletter for weekly updates.
URL:https://kidsguidemagazine.com/event/orange-county-pet-reptile-expo-oc-fair-event-center-costa-mesa/
LOCATION:OC Fair & Event Center\, 88 Fair Drive\, Costa Mesa\, CA\, 92626
CATEGORIES:* Weekend Event,• Festivals,• Nature & Outdoors,04: Earth Day
END:VEVENT
END:VCALENDAR