BEGIN:VCALENDAR
VERSION:2.0
PRODID:-//Kidsguide - ECPv6.15.20//NONSGML v1.0//EN
CALSCALE:GREGORIAN
METHOD:PUBLISH
X-WR-CALNAME:Kidsguide
X-ORIGINAL-URL:https://kidsguidemagazine.com
X-WR-CALDESC:Events for Kidsguide
REFRESH-INTERVAL;VALUE=DURATION:PT1H
X-Robots-Tag:noindex
X-PUBLISHED-TTL:PT1H
BEGIN:VTIMEZONE
TZID:America/Los_Angeles
BEGIN:DAYLIGHT
TZOFFSETFROM:-0800
TZOFFSETTO:-0700
TZNAME:PDT
DTSTART:20250309T100000
END:DAYLIGHT
BEGIN:STANDARD
TZOFFSETFROM:-0700
TZOFFSETTO:-0800
TZNAME:PST
DTSTART:20251102T090000
END:STANDARD
BEGIN:DAYLIGHT
TZOFFSETFROM:-0800
TZOFFSETTO:-0700
TZNAME:PDT
DTSTART:20260308T100000
END:DAYLIGHT
BEGIN:STANDARD
TZOFFSETFROM:-0700
TZOFFSETTO:-0800
TZNAME:PST
DTSTART:20261101T090000
END:STANDARD
BEGIN:DAYLIGHT
TZOFFSETFROM:-0800
TZOFFSETTO:-0700
TZNAME:PDT
DTSTART:20270314T100000
END:DAYLIGHT
BEGIN:STANDARD
TZOFFSETFROM:-0700
TZOFFSETTO:-0800
TZNAME:PST
DTSTART:20271107T090000
END:STANDARD
END:VTIMEZONE
BEGIN:VEVENT
DTSTART;VALUE=DATE:20260404
DTEND;VALUE=DATE:20260405
DTSTAMP:20260424T043431
CREATED:20220402T162007Z
LAST-MODIFIED:20260403T000913Z
UID:10020039015-1775260800-1775347199@kidsguidemagazine.com
SUMMARY:Cambodia Town Parade & Culture Festival | Long Beach
DESCRIPTION:Saturday\, April 4\, 2026 \nCelebrate Cambodian culture with a full day of parade festivities\, vendors\, performances\, and more in Long Beach. \nThe day begins at 9am with an opening ceremony and traditional blessing at Anaheim & Orange. The parade follows at 10am\, traveling along Anaheim St and Alamitos Ave and ending at Long Beach City College — catch the announcers booth at Alamitos & 15th\, where every group will be introduced. \nThe culture festival at LBCC starting at 12pm features nearly 100 vendors selling food\, crafts\, clothing\, jewelry\, and more. Watch Cambodian classical and folk dances\, martial arts\, and live music\, plus performances from Hmong\, Latino\, and South Asian community groups. \nHighlights include: \n\nOpening ceremony and traditional blessing at 9am\nParade along Anaheim St and Alamitos Ave at 10am\nNearly 100 vendors (food\, crafts\, clothing\, jewelry\, and more)\nCambodian classical and folk dances\, martial arts\, and live music\nPerformances from Hmong\, Latino\, and South Asian community groups\n\n  \n\n————— \nBefore You Go: Visit Cambodia Town’s Facebook event page for updates and details. This event is organized by Cambodia Town. Kidsguide is an independent community resource helping families discover fun events across Southern California. \nLooking for more family fun? Explore more family-friendly events on our blog\, browse our calendar\, check out limited-time exhibits and experiences\, or subscribe to our newsletter for weekly updates. \n 
URL:https://kidsguidemagazine.com/event/cambodia-town-parade-and-cultural-festival/
LOCATION:Long Beach City College – Pacific Coast Campus\, 1305 E Pacific Coast Hwy.\, Long Beach
CATEGORIES:* Free Events,• Cultural Events
END:VEVENT
END:VCALENDAR