BEGIN:VCALENDAR
VERSION:2.0
PRODID:-//Kidsguide - ECPv6.15.20//NONSGML v1.0//EN
CALSCALE:GREGORIAN
METHOD:PUBLISH
X-WR-CALNAME:Kidsguide
X-ORIGINAL-URL:https://kidsguidemagazine.com
X-WR-CALDESC:Events for Kidsguide
REFRESH-INTERVAL;VALUE=DURATION:PT1H
X-Robots-Tag:noindex
X-PUBLISHED-TTL:PT1H
BEGIN:VTIMEZONE
TZID:America/Los_Angeles
BEGIN:DAYLIGHT
TZOFFSETFROM:-0800
TZOFFSETTO:-0700
TZNAME:PDT
DTSTART:20240310T100000
END:DAYLIGHT
BEGIN:STANDARD
TZOFFSETFROM:-0700
TZOFFSETTO:-0800
TZNAME:PST
DTSTART:20241103T090000
END:STANDARD
BEGIN:DAYLIGHT
TZOFFSETFROM:-0800
TZOFFSETTO:-0700
TZNAME:PDT
DTSTART:20250309T100000
END:DAYLIGHT
BEGIN:STANDARD
TZOFFSETFROM:-0700
TZOFFSETTO:-0800
TZNAME:PST
DTSTART:20251102T090000
END:STANDARD
BEGIN:DAYLIGHT
TZOFFSETFROM:-0800
TZOFFSETTO:-0700
TZNAME:PDT
DTSTART:20260308T100000
END:DAYLIGHT
BEGIN:STANDARD
TZOFFSETFROM:-0700
TZOFFSETTO:-0800
TZNAME:PST
DTSTART:20261101T090000
END:STANDARD
BEGIN:DAYLIGHT
TZOFFSETFROM:-0800
TZOFFSETTO:-0700
TZNAME:PDT
DTSTART:20270314T100000
END:DAYLIGHT
BEGIN:STANDARD
TZOFFSETFROM:-0700
TZOFFSETTO:-0800
TZNAME:PST
DTSTART:20271107T090000
END:STANDARD
END:VTIMEZONE
BEGIN:VEVENT
DTSTART;TZID=America/Los_Angeles:20260222T140000
DTEND;TZID=America/Los_Angeles:20260222T163000
DTSTAMP:20260425T072658
CREATED:20260127T181833Z
LAST-MODIFIED:20260127T181833Z
UID:10020045617-1771768800-1771777800@kidsguidemagazine.com
SUMMARY:Family Club Experience: Bass in Space | Sound Nightclub\, Hollywood
DESCRIPTION:Sunday\, February 22\, 2026 \nBlast off for a space-themed family rave as Big Fish Little Fish SoCal transforms Sound Nightclub into an intergalactic dance party for parents and kids. \nFamilies can experience an authentic club atmosphere – disco lights\, balloons\, a multi-sensory dancefloor\, and a live set from international DJ ALRT\, all at safe sound levels designed for little ears. \nKids can craft space crowns\, explore a toddler play zone\, enjoy baby-only ball pits\, and help end the party with the signature parachute finale. Adults can grab drinks from the full bar and snacks for the family\, with costumes encouraged (think aliens\, astronauts\, galaxy glam). \nDesigned for ages 0–8\, but open to all\, this daytime event blends rave culture with family fun.
URL:https://kidsguidemagazine.com/event/family-club-experience-bass-in-space-sound-nightclub-hollywood/
LOCATION:SOUND Nightclub\, 1642 N. Las Palmas Ave.\, Los Angeles\, Ca\, 90028
CATEGORIES:* Editor's Picks!
END:VEVENT
BEGIN:VEVENT
DTSTART;TZID=America/Los_Angeles:20251109T140000
DTEND;TZID=America/Los_Angeles:20251109T163000
DTSTAMP:20260425T072658
CREATED:20251029T211006Z
LAST-MODIFIED:20251029T211006Z
UID:10020044712-1762696800-1762705800@kidsguidemagazine.com
SUMMARY:Family Rave: Launch Party in Pomona
DESCRIPTION:Sunday\, November 9\, 2025 \nBig Fish Little Fish brings an afternoon of house beats\, lights\, and family fun with two local DJs spinning dance-floor favorites. Designed for families with children ages 0–8\, this high-energy event features a multi-sensory dance floor\, crafting area\, and baby chill zone—plus a full bar and food available for purchase. Expect a true rave atmosphere with hundreds of dancing families\, colorful lights\, and a community vibe where parents and kids dance together. \nAll attendees\, including babies\, need a ticket (free “babes in arms” tickets available). Strollers not permitted on the dance floor. Adult-only groups are not allowed.
URL:https://kidsguidemagazine.com/event/family-rave-launch-party-in-pomona/
LOCATION:Maxximo Banquet Hall\, 395 S Thomas St.\, Pomona\, CA\, 91766
END:VEVENT
BEGIN:VEVENT
DTSTART;TZID=America/Los_Angeles:20251026T140000
DTEND;TZID=America/Los_Angeles:20251026T163000
DTSTAMP:20260425T072658
CREATED:20251021T170142Z
LAST-MODIFIED:20251021T170142Z
UID:10020044626-1761487200-1761496200@kidsguidemagazine.com
SUMMARY:Family Rave: Spooky Beats ’n Treats in Long Beach
DESCRIPTION:Sunday\, October 26\, 2025 \nGet ready to dance with your little monsters at Family Rave: Spooky Beats ’n Treats! This award-winning event from Big Fish Little Fish brings an authentic club experience to families with house music\, colorful lights\, and a multi-sensory dance floor designed for kids 0–8. \nEnjoy live DJ sets\, crafting stations\, a Baby Chill area\, and a festive “HOLLOWEEN” dress-up theme. \nFood and drinks will be available for purchase\, and parents are encouraged to join in on the fun.
URL:https://kidsguidemagazine.com/event/family-rave-spooky-beats-n-treats-in-long-beach/
LOCATION:ALTAR Brewing Society\, 230 Pine Ave.\, Long Beach\, CA\, 90802
CATEGORIES:* Editor's Picks!,10: Halloween Events
END:VEVENT
BEGIN:VEVENT
DTSTART;TZID=America/Los_Angeles:20250928T140000
DTEND;TZID=America/Los_Angeles:20250928T163000
DTSTAMP:20260425T072658
CREATED:20250813T201343Z
LAST-MODIFIED:20250813T201415Z
UID:10020044226-1759068000-1759077000@kidsguidemagazine.com
SUMMARY:Family Rave: Kandi Quest in Catch One Los Angeles
DESCRIPTION:September 28\, 2025 \nBring the kids to Family Rave: Kandi Quest at Catch One for a gamer-themed afternoon with bass drops\, glow sticks\, and boss-level bonding. \nEnjoy a multi-sensory dance floor\, baby chill zone\, crafts\, and music mixed at safe levels for little ears.
URL:https://kidsguidemagazine.com/event/family-rave-kandi-quest-in-catch-one-los-angeles/
LOCATION:Catch One\, 4067 W. Pico Blvd\, Los Angeles\, CA\, 90019
CATEGORIES:* Editor's Picks!
END:VEVENT
BEGIN:VEVENT
DTSTART;TZID=America/Los_Angeles:20250504T080000
DTEND;TZID=America/Los_Angeles:20250504T170000
DTSTAMP:20260425T072658
CREATED:20250424T213241Z
LAST-MODIFIED:20250424T213241Z
UID:10020042919-1746345600-1746378000@kidsguidemagazine.com
SUMMARY:Family Rave: Star Dance in Santa Ana
DESCRIPTION:Sunday\, May 4\, 2025 \nBlast off into an intergalactic dance party at this space-themed family rave! \nAll ages are welcome at this high-energy event featuring electronic music\, a multi-sensory dance floor with lasers\, balloons\, confetti\, and a parachute dance finale. \nKids can enjoy a craft zone while adults can grab a drink at the licensed bar. \nFancy dress is encouraged—come as your favorite alien or astronaut! \nNote: this is not a traditional kids’ party\, but a club-style experience made family-friendly\, with music played at safe volumes for little ears.
URL:https://kidsguidemagazine.com/event/family-rave-star-dance-in-santa-ana/
LOCATION:Yost Theater\, 307 N. Spurgeon St.\, Santa ANa\, CA\, 92701
CATEGORIES:* Editor's Picks!,05: May the 4th
END:VEVENT
BEGIN:VEVENT
DTSTART;VALUE=DATE:20250201
DTEND;VALUE=DATE:20250203
DTSTAMP:20260425T072658
CREATED:20250123T220319Z
LAST-MODIFIED:20250123T220319Z
UID:10020042669-1738368000-1738540799@kidsguidemagazine.com
SUMMARY:Heart Beats Family Club Experience in Hollywood
DESCRIPTION:February 1-2\, 2025 \nBring your little sweetheart to a family club experience featuring a multi-sensory dance floor filled with disco balls\, balloons\, and parachute dance finale. There’s a crafting area with multiple activities\, licensed bar\, and wood-fired pizza. \nAndrew Lux joins the Big Fish Little Fish family and has played at top venues and festivals such as Nocturnal Wonderland\, Echostage\, and more. \nAll ages welcome\, activities are designed with 0-8 year olds in mind.
URL:https://kidsguidemagazine.com/event/heart-beats-family-club-experience-in-hollywood/
LOCATION:SOUND Nightclub\, 1642 N. Las Palmas Ave.\, Los Angeles\, Ca\, 90028
END:VEVENT
END:VCALENDAR