BEGIN:VCALENDAR
VERSION:2.0
PRODID:-//Kidsguide - ECPv6.15.20//NONSGML v1.0//EN
CALSCALE:GREGORIAN
METHOD:PUBLISH
X-WR-CALNAME:Kidsguide
X-ORIGINAL-URL:https://kidsguidemagazine.com
X-WR-CALDESC:Events for Kidsguide
REFRESH-INTERVAL;VALUE=DURATION:PT1H
X-Robots-Tag:noindex
X-PUBLISHED-TTL:PT1H
BEGIN:VTIMEZONE
TZID:America/Los_Angeles
BEGIN:DAYLIGHT
TZOFFSETFROM:-0800
TZOFFSETTO:-0700
TZNAME:PDT
DTSTART:20240310T100000
END:DAYLIGHT
BEGIN:STANDARD
TZOFFSETFROM:-0700
TZOFFSETTO:-0800
TZNAME:PST
DTSTART:20241103T090000
END:STANDARD
BEGIN:DAYLIGHT
TZOFFSETFROM:-0800
TZOFFSETTO:-0700
TZNAME:PDT
DTSTART:20250309T100000
END:DAYLIGHT
BEGIN:STANDARD
TZOFFSETFROM:-0700
TZOFFSETTO:-0800
TZNAME:PST
DTSTART:20251102T090000
END:STANDARD
BEGIN:DAYLIGHT
TZOFFSETFROM:-0800
TZOFFSETTO:-0700
TZNAME:PDT
DTSTART:20260308T100000
END:DAYLIGHT
BEGIN:STANDARD
TZOFFSETFROM:-0700
TZOFFSETTO:-0800
TZNAME:PST
DTSTART:20261101T090000
END:STANDARD
END:VTIMEZONE
BEGIN:VEVENT
DTSTART;TZID=America/Los_Angeles:20251116T130000
DTEND;TZID=America/Los_Angeles:20251116T210000
DTSTAMP:20260424T150819
CREATED:20251111T192849Z
LAST-MODIFIED:20251111T192849Z
UID:10020044816-1763298000-1763326800@kidsguidemagazine.com
SUMMARY:Pasko Sa Baryo: A Christmas Celebration | Arts District\, Los Angeles
DESCRIPTION:Sunday\, November 16\, 2025 \nCelebrate the Filipino spirit of Christmas at Pasko Sa Baryo\, a festive day filled with music\, food\, and community. \nEnjoy live performances from VST & Company\, Jocelyn Enriquez\, One Voice\, Jesse Barrera & Albert Posis\, and more. \nExplore a lively marketplace featuring Filipino food\, crafts\, and cultural workshops\, plus traditional décor\, parols\, and family activities that bring the joy of the holidays to life. \nAdmission required.
URL:https://kidsguidemagazine.com/event/pasko-sa-baryo-a-christmas-celebration-arts-district-los-angeles/
LOCATION:930 Mateo St.\, 930 Mateo St.\, Los Angeles\, CA\, 90021
CATEGORIES:• Cultural Events,12: Holiday Events
END:VEVENT
END:VCALENDAR