BEGIN:VCALENDAR
VERSION:2.0
PRODID:-//Kidsguide - ECPv6.15.20//NONSGML v1.0//EN
CALSCALE:GREGORIAN
METHOD:PUBLISH
X-WR-CALNAME:Kidsguide
X-ORIGINAL-URL:https://kidsguidemagazine.com
X-WR-CALDESC:Events for Kidsguide
REFRESH-INTERVAL;VALUE=DURATION:PT1H
X-Robots-Tag:noindex
X-PUBLISHED-TTL:PT1H
BEGIN:VTIMEZONE
TZID:America/Los_Angeles
BEGIN:DAYLIGHT
TZOFFSETFROM:-0800
TZOFFSETTO:-0700
TZNAME:PDT
DTSTART:20250309T100000
END:DAYLIGHT
BEGIN:STANDARD
TZOFFSETFROM:-0700
TZOFFSETTO:-0800
TZNAME:PST
DTSTART:20251102T090000
END:STANDARD
BEGIN:DAYLIGHT
TZOFFSETFROM:-0800
TZOFFSETTO:-0700
TZNAME:PDT
DTSTART:20260308T100000
END:DAYLIGHT
BEGIN:STANDARD
TZOFFSETFROM:-0700
TZOFFSETTO:-0800
TZNAME:PST
DTSTART:20261101T090000
END:STANDARD
BEGIN:DAYLIGHT
TZOFFSETFROM:-0800
TZOFFSETTO:-0700
TZNAME:PDT
DTSTART:20270314T100000
END:DAYLIGHT
BEGIN:STANDARD
TZOFFSETFROM:-0700
TZOFFSETTO:-0800
TZNAME:PST
DTSTART:20271107T090000
END:STANDARD
END:VTIMEZONE
BEGIN:VEVENT
DTSTART;TZID=America/Los_Angeles:20260422T160000
DTEND;TZID=America/Los_Angeles:20260422T160000
DTSTAMP:20260422T114139
CREATED:20240313T204755Z
LAST-MODIFIED:20260305T002847Z
UID:10020046166-1776873600-1776873600@kidsguidemagazine.com
SUMMARY:One World\, One Sky: Big Bird's Adventure | OCC Planetarium\, Santa Ana
DESCRIPTION:Select Dates\, March 4 – April 25\, 2026 \nExplore the night sky with your favorite friends from Sesame Street in One World\, One Sky: Big Bird’s Adventure as they take you on a journey of discovery to learn about the Big Dipper\, the North Star\, the Sun\, and the Moon. \nAdmission required. \n 
URL:https://kidsguidemagazine.com/event/one-world-one-sky-big-birds-adventure-at-occ-planetarium-2/2026-04-22/
LOCATION:Orange Coast College – Planetarium\, 2701 Fairview Road\, Costa Mesa\, CA\, 92626\, United States
CATEGORIES:* Editor's Picks!,• STEM & Space Events
END:VEVENT
END:VCALENDAR