BEGIN:VCALENDAR
VERSION:2.0
PRODID:-//Kidsguide - ECPv6.15.20//NONSGML v1.0//EN
CALSCALE:GREGORIAN
METHOD:PUBLISH
X-WR-CALNAME:Kidsguide
X-ORIGINAL-URL:https://kidsguidemagazine.com
X-WR-CALDESC:Events for Kidsguide
REFRESH-INTERVAL;VALUE=DURATION:PT1H
X-Robots-Tag:noindex
X-PUBLISHED-TTL:PT1H
BEGIN:VTIMEZONE
TZID:America/Los_Angeles
BEGIN:DAYLIGHT
TZOFFSETFROM:-0800
TZOFFSETTO:-0700
TZNAME:PDT
DTSTART:20240310T100000
END:DAYLIGHT
BEGIN:STANDARD
TZOFFSETFROM:-0700
TZOFFSETTO:-0800
TZNAME:PST
DTSTART:20241103T090000
END:STANDARD
BEGIN:DAYLIGHT
TZOFFSETFROM:-0800
TZOFFSETTO:-0700
TZNAME:PDT
DTSTART:20250309T100000
END:DAYLIGHT
BEGIN:STANDARD
TZOFFSETFROM:-0700
TZOFFSETTO:-0800
TZNAME:PST
DTSTART:20251102T090000
END:STANDARD
BEGIN:DAYLIGHT
TZOFFSETFROM:-0800
TZOFFSETTO:-0700
TZNAME:PDT
DTSTART:20260308T100000
END:DAYLIGHT
BEGIN:STANDARD
TZOFFSETFROM:-0700
TZOFFSETTO:-0800
TZNAME:PST
DTSTART:20261101T090000
END:STANDARD
END:VTIMEZONE
BEGIN:VEVENT
DTSTART;TZID=America/Los_Angeles:20250817T100000
DTEND;TZID=America/Los_Angeles:20250818T170000
DTSTAMP:20260421T013853
CREATED:20250730T175059Z
LAST-MODIFIED:20250730T175059Z
UID:10020044006-1755424800-1755536400@kidsguidemagazine.com
SUMMARY:National Aviation Day at Discovery Cube OC
DESCRIPTION:August 17-18\, 2025 \nCelebrate National Aviation Day with a weekend of hands-on STEM fun for the whole family. Explore the science behind flight through interactive activities that highlight the four forces of flight—drag\, thrust\, lift\, and weight. Guests can build and launch paper airplanes and rockets\, experiment in a wind tunnel\, take a virtual helicopter tour\, and test hoop gliders and straw rockets in this high-flying educational experience.
URL:https://kidsguidemagazine.com/event/national-aviation-day-at-discovery-cube-oc/
LOCATION:Discovery Cube – Orange County\, 2500 N. Main Street\, Santa Ana\, CA\, 92705
CATEGORIES:• Immersive Experiences
END:VEVENT
BEGIN:VEVENT
DTSTART;TZID=America/Los_Angeles:20250817T100000
DTEND;TZID=America/Los_Angeles:20250818T170000
DTSTAMP:20260421T013853
CREATED:20250730T175501Z
LAST-MODIFIED:20250730T175501Z
UID:10020044007-1755424800-1755536400@kidsguidemagazine.com
SUMMARY:National Aviation Day at Discovery Cube LA
DESCRIPTION:August 17-18\, 2025 \nCelebrate National Aviation Day with a weekend of hands-on STEM fun for the whole family. Explore the science behind flight through interactive activities that highlight the four forces of flight—drag\, thrust\, lift\, and weight. Guests can build and launch paper airplanes and rockets\, experiment in a wind tunnel\, take a virtual helicopter tour\, and test hoop gliders and straw rockets in this high-flying educational experience.
URL:https://kidsguidemagazine.com/event/national-aviation-day-at-discovery-cube-la/
LOCATION:Discovery Cube – Los Angeles\, 11800 Foothill Blvd.\, Sylmar\, CA\, 91342\, United States
CATEGORIES:• Immersive Experiences
END:VEVENT
BEGIN:VEVENT
DTSTART;TZID=America/Los_Angeles:20250817T130000
DTEND;TZID=America/Los_Angeles:20250817T190000
DTSTAMP:20260421T013853
CREATED:20231004T030949Z
LAST-MODIFIED:20250807T203027Z
UID:10020041123-1755435600-1755457200@kidsguidemagazine.com
SUMMARY:Long Beach Kite Festival
DESCRIPTION:Sunday\, August 17\, 2025 \nThe 12th Annual Pacific Kite Festival at Granada Beach will feature giant show kites\, flying performances\, and family kite-building workshops. Visitors can enjoy local food trucks\, live music\, community booths\, and eco-education stations. Donation drives will support local shelters and youth programs\, highlighting the festival’s mission of environmental stewardship and community connection. Free admission for all ages. \n 
URL:https://kidsguidemagazine.com/event/long-beach-kite-festival/
LOCATION:Granada Beach in Long Beach\, 5100 E. Ocean Blvd.\, Long Beach\, CA\, 90803
CATEGORIES:* Free Events
END:VEVENT
BEGIN:VEVENT
DTSTART;TZID=America/Los_Angeles:20250817T140000
DTEND;TZID=America/Los_Angeles:20250817T170000
DTSTAMP:20260421T013853
CREATED:20250807T192100Z
LAST-MODIFIED:20250807T192250Z
UID:10020044172-1755439200-1755450000@kidsguidemagazine.com
SUMMARY:Family Day: Real Heroes Share Their Stories at Muzeo Museum
DESCRIPTION:Sunday\, August 17\, 2025  \nLocal heroes from the Anaheim Police Department\, Anaheim Fire & Rescue\, Teachers\, and Medical Personnel share their real life stories and career paths. This closing day event included crafts and free gallery admission.
URL:https://kidsguidemagazine.com/event/family-day-real-heroes-share-their-stories-at-muzeo-museum/
LOCATION:Muzeo Museum and Cultural Center\, 241 S. Anaheim Blvd.\, Anaheim\, 92805
ORGANIZER;CN="Muzeo Museum and Cultural Center":MAILTO:info@muzeo.org
END:VEVENT
BEGIN:VEVENT
DTSTART;TZID=America/Los_Angeles:20250817T150000
DTEND;TZID=America/Los_Angeles:20250817T190000
DTSTAMP:20260421T013853
CREATED:20250731T190423Z
LAST-MODIFIED:20250731T190423Z
UID:10020044142-1755442800-1755457200@kidsguidemagazine.com
SUMMARY:Silver Lake Jewish Festival in LA
DESCRIPTION:Sunday\, August 17\, 2025 \nCelebrate Jewish culture through music\, food\, and family fun at the LA Jewish Music and Culture Festival. Enjoy live performances headlined by Zusha and featuring Erez Safar\, Klezmer Trio\, Life No.9\, and more. Savor kosher eats from local food trucks\, shop unique vendors\, and let the kids explore a fun zone packed with games\, bungee jumping\, and live entertainment. Adults can unwind with outdoor bar games\, craft drinks\, and comedy by Tehran Von Ghasri.
URL:https://kidsguidemagazine.com/event/silver-lake-jewish-festival-in-la/
LOCATION:Sunset Triangle Plaza\, 3700 Sunset Blvd.\, Los Angeles\, 90026
CATEGORIES:• Cultural Events
END:VEVENT
BEGIN:VEVENT
DTSTART;TZID=America/Los_Angeles:20250817T150000
DTEND;TZID=America/Los_Angeles:20250817T210000
DTSTAMP:20260421T013853
CREATED:20250812T044356Z
LAST-MODIFIED:20250812T044356Z
UID:10020044201-1755442800-1755464400@kidsguidemagazine.com
SUMMARY:Family Night Sunday at The Ranch Saloon in Anaheim
DESCRIPTION:Sunday\, August 17\, 2025 \nThe Ranch Saloon opens early for Family Night Sunday\, welcoming guests ages 10 and up for an evening of country music and dancing. The night kicks off with beginner and intermediate line dance lessons plus a partner dance lesson\, followed by open dancing to DJ Lauren’s country hits until closing. \nSchedule: \n\n3:45pm – Line Dance: American Kids\n5:30pm – Partner Dance: Basic Two-Step\n7:00pm – Line Dance: Goin’ Hamm\n\nDoors open at 3pm. Ages 10+ with a parent or guardian. $15 cover charge per guest. Reservations required for guaranteed seating. \n 
URL:https://kidsguidemagazine.com/event/family-night-sunday-at-the-ranch-saloon-in-anaheim/
LOCATION:The Ranch Saloon\, Extron Building Ground Floor\, 1025 E. Ball Road\, Anaheim\, CA\, 92805
END:VEVENT
BEGIN:VEVENT
DTSTART;VALUE=DATE:20250819
DTEND;VALUE=DATE:20250923
DTSTAMP:20260421T013853
CREATED:20250812T040609Z
LAST-MODIFIED:20250812T040609Z
UID:10020044190-1755561600-1758585599@kidsguidemagazine.com
SUMMARY:Art Installation: Los Tompos at Victoria Gardens
DESCRIPTION:August 19 – September 22\, 2025 \nWho says you can’t touch art? Los Trompos is an interactive installation that invites you to sit\, spin\, and relax on colorful woven sculptures. Give them a whirl to bring the artwork to life\, or just kick back and enjoy the ride with friends and family. \nIt’s free\, open daily in the Townsquare\, and no tickets are needed. \n 
URL:https://kidsguidemagazine.com/event/art-installation-los-tompos-at-victoria-gardens/
LOCATION:Victoria Gardens\, 12505 N. Mainstreet\, Rancho Cucamonga\, CA\, 91730
CATEGORIES:* Free Events
END:VEVENT
BEGIN:VEVENT
DTSTART;VALUE=DATE:20250820
DTEND;VALUE=DATE:20250822
DTSTAMP:20260421T013853
CREATED:20250619T224656Z
LAST-MODIFIED:20250619T224656Z
UID:10020043688-1755648000-1755820799@kidsguidemagazine.com
SUMMARY:Belmont Shore Stroll & Savor in Long Beach
DESCRIPTION:3rd Wednesday & Thursday Summer \nEnjoy 50+ eateries\, activities\, live music and more.
URL:https://kidsguidemagazine.com/event/belmont-shore-stroll-savor-in-long-beach/2025-08-20/
LOCATION:Belmont Shore\, 2nd Street\, Belmont Shore\, 90803
END:VEVENT
BEGIN:VEVENT
DTSTART;TZID=America/Los_Angeles:20250821T183000
DTEND;TZID=America/Los_Angeles:20250821T203000
DTSTAMP:20260421T013853
CREATED:20250807T205657Z
LAST-MODIFIED:20250807T205657Z
UID:10020044174-1755801000-1755808200@kidsguidemagazine.com
SUMMARY:Movie Night: The Goonies at USS Iowa in San Pedro
DESCRIPTION:Thursday\, August 21\, 2025 \nEnjoy a summer movie night aboard the Battleship IOWA with a screening of The Goonies on the LED wall at the ship’s fantail. Vicky’s Doghouse Café will be open with food\, drinks\, and popcorn. No outside food or drinks permitted. \n 
URL:https://kidsguidemagazine.com/event/movie-night-the-goonies-at-uss-iowa-in-san-pedro/
LOCATION:Battleship USS Iowa\, 250 S. Harbor Blvd.\, Berth 87\, San Pedro\, CA
CATEGORIES:* Free Events
END:VEVENT
BEGIN:VEVENT
DTSTART;TZID=America/Los_Angeles:20250821T190000
DTEND;TZID=America/Los_Angeles:20250821T190000
DTSTAMP:20260421T013853
CREATED:20240515T222549Z
LAST-MODIFIED:20250730T201504Z
UID:10020041957-1755802800-1755802800@kidsguidemagazine.com
SUMMARY:Nixon Summer Nights: Le Polynesia at Nixon Library in Yorba Linda
DESCRIPTION:Thursday\, August 21\, 2025 \nEnjoy an evening of island culture\, music\, and dance. Presented by Le Polynesia Cultural Performing Arts Center. \nEvent is free. \n 
URL:https://kidsguidemagazine.com/event/nixon-summer-nights-an-evening-in-polynesia-at-nixon-library-in-yorba-linda/
LOCATION:Richard Nixon Presidential Library\, 18001 Yorba Linda Blvd.\, Yorba Linda\, CA\, 92886
CATEGORIES:* Free Events,• Shows & Performances
END:VEVENT
BEGIN:VEVENT
DTSTART;VALUE=DATE:20250822
DTEND;VALUE=DATE:20250825
DTSTAMP:20260421T013853
CREATED:20220801T173831Z
LAST-MODIFIED:20250731T171854Z
UID:10020039572-1755820800-1756079999@kidsguidemagazine.com
SUMMARY:Fiesta La Ballona in Culver City
DESCRIPTION:August 22-24\, 2025 \nTake your family to Fiesta La Ballona\, a Festival of the People! This event includes food vendors\, rides\, live performances\, karaoke\, and other sorts of entertainment! \n 
URL:https://kidsguidemagazine.com/event/fiesta-la-ballona-in-culver-city-2/
LOCATION:Veterans Memorial Park – Culver City\, 4117 Overland Ave.\, Culver City\, CA\, 90230\, United States
CATEGORIES:* Editor's Picks!,• Festivals
END:VEVENT
BEGIN:VEVENT
DTSTART;VALUE=DATE:20250822
DTEND;VALUE=DATE:20250825
DTSTAMP:20260421T013853
CREATED:20220801T221147Z
LAST-MODIFIED:20250731T172110Z
UID:10020039577-1755820800-1756079999@kidsguidemagazine.com
SUMMARY:Sea Country Festival in Laguna Niguel
DESCRIPTION:Friday – Sunday\, August 22-24\, 2025 \nBring your friends and family to experience this end-of-summer event with music\, rides\, games\, food\, and more. The festival is a free entry event\, with nominal fees for attractions and games. Food will be available for purchase. \nThe Sea Country Festival will be located on Dorine and El Lazo\, in between the Laguna Niguel Design Center and the Chet Holifield Federal Building. \n 
URL:https://kidsguidemagazine.com/event/sea-country-festival-in-laguna-niguel/
LOCATION:Dorine & El Lazo\, Laguna Niguel\, CA
CATEGORIES:* Editor's Picks!,* Free Events,• Festivals
END:VEVENT
BEGIN:VEVENT
DTSTART;VALUE=DATE:20250822
DTEND;VALUE=DATE:20250825
DTSTAMP:20260421T013853
CREATED:20220817T154729Z
LAST-MODIFIED:20250805T192306Z
UID:10020038363-1755820800-1756079999@kidsguidemagazine.com
SUMMARY:Monster Jam: Freestyle Mania at Crypto.com Arena
DESCRIPTION:August 22-24\, 2025 \nMonster Jam is going full-send with a brand-new twist! For the first time in Southern California\, Monster Jam trucks are teaming up with Freestyle Motocross bikes for an epic mashup of high-flying stunts and team competition. \nThis live show is all about next-level action. Watch eight teams go head-to-head in jaw-dropping Freestyle\, Racing\, 2-Wheel Skills\, Best Trick\, and Best Whip competitions. Fans even get to score the athletes in real time and help crown the Team Event Champion. \n\nMonster Jam trucks + FMX bikes in one show\nFirst-ever team freestyle event in SoCal\nGravity-defying stunts\, flips\, jumps\, and tricks\nReal-time fan voting for the Team Event Champion\nFive competitions across three days\n\n 
URL:https://kidsguidemagazine.com/event/monster-jam-crypto/
LOCATION:Crypto.com Arena\, 1111 S. Figueroa St.\, Los Angeles\, CA\, 90015\, United States
CATEGORIES:* Editor's Picks!
ATTACH;FMTTYPE=image/jpeg:https://kidsguidemagazine.com/wp-content/uploads/2022/08/monster-jam-aug2025.jpg
END:VEVENT
BEGIN:VEVENT
DTSTART;VALUE=DATE:20250822
DTEND;VALUE=DATE:20250825
DTSTAMP:20260421T013853
CREATED:20250701T203815Z
LAST-MODIFIED:20250701T203815Z
UID:10020043754-1755820800-1756079999@kidsguidemagazine.com
SUMMARY:626 Night Market at Santa Anita Park
DESCRIPTION:August 22-24\, 29-31 2025 \nFood lovers and families alike can head to Santa Anita Park for the iconic 626 Night Market—a massive outdoor festival inspired by the open-air night bazaars of Asia. Expect an evening packed with delicious eats\, shopping\, games\, and live entertainment. \nWith hundreds of food vendors\, artists\, crafters\, and performers\, there’s something for everyone—from adventurous snacks to handmade goods and interactive attractions. It’s a festive\, high-energy experience that brings the community together under the night sky. \nActivity highlights include: \n\nFood vendors from all cuisines\nArtists\, makers\, and pop-up shops\nGames and interactive experiences\nLive music and entertainment\n\n 
URL:https://kidsguidemagazine.com/event/626-night-market-at-santa-anita-park/2025-08-22/
LOCATION:Santa Anita Park\, 285 W. Huntington Drive\, Arcadia\, 91007
CATEGORIES:* Editor's Picks!,• Festivals
ORGANIZER;CN="626 Night Market":MAILTO:info@ocnightmarket.com
END:VEVENT
BEGIN:VEVENT
DTSTART;VALUE=DATE:20250822
DTEND;VALUE=DATE:20250825
DTSTAMP:20260421T013853
CREATED:20250717T222106Z
LAST-MODIFIED:20250717T222106Z
UID:10020043975-1755820800-1756079999@kidsguidemagazine.com
SUMMARY:Maestro of the Movies: Celebrating the Music of John Williams at Hollywood Bowl
DESCRIPTION:Friday – Sunday\, August 22-24\, 2025 \nJoin the Los Angeles Philharmonic and conductor David Newman for John Williams: Maestro of the Movies at the Hollywood Bowl. This cherished annual tradition features three performances of Williams’ iconic film scores\, including selections from E.T.\, Indiana Jones\, Star Wars\, Jaws\, Memoirs of a Geisha\, and more. The concert includes film clips shown on the Bowl’s big screens\, bringing these silver screen classics to life under the stars.
URL:https://kidsguidemagazine.com/event/maestro-of-the-movies-celebrating-the-music-of-john-williams-at-hollywood-bowl/
LOCATION:Hollywood Bowl\, 2301 N Highland Ave.\, Los Angeles\, CA\, 90068
CATEGORIES:* Editor's Picks!,• Shows & Performances
END:VEVENT
BEGIN:VEVENT
DTSTART;VALUE=DATE:20250822
DTEND;VALUE=DATE:20250825
DTSTAMP:20260421T013853
CREATED:20250724T230352Z
LAST-MODIFIED:20250724T230724Z
UID:10020043996-1755820800-1756079999@kidsguidemagazine.com
SUMMARY:La Habra Corn Festival
DESCRIPTION:August 22-24\, 2025 \nCelebrate La Habra’s 100th birthday at the annual La Habra Corn Festival\, a free community tradition hosted by the La Habra Host Lions Club. What started in 1947 as a neighborhood gathering has grown into a beloved weekend celebration filled with carnival rides\, food\, games\, and hometown pride. This year’s festival returns to its traditional August dates and features a parade\, live entertainment\, corn-eating contests\, and plenty of sweet corn on the cob.
URL:https://kidsguidemagazine.com/event/la-habra-corn-festival/
LOCATION:Portola Park\, 301 S. Euclid St.\, La Habra\, CA\, 90631
CATEGORIES:* Free Events,• Festivals
END:VEVENT
BEGIN:VEVENT
DTSTART;TZID=America/Los_Angeles:20250822T080000
DTEND;TZID=America/Los_Angeles:20250824T170000
DTSTAMP:20260421T013853
CREATED:20250807T224845Z
LAST-MODIFIED:20250807T224845Z
UID:10020044180-1755849600-1756054800@kidsguidemagazine.com
SUMMARY:Barnes & Noble: LEGO® Bluey Build Event - Various Locations
DESCRIPTION:Saturday\, August 22-24\, 2025  \nFamilies are invited to a free in-store LEGO® Bluey Build\, where kids can create their own LEGO® Duck Cake to take home. Designed for ages 4 and up\, the event also features a café special with cake pops BOGO 50% off all weekend. \nCall your local Barnes & Noble to check participation and to reserve your spot.
URL:https://kidsguidemagazine.com/event/barnes-noble-lego-bluey-build-event-various-locations/
LOCATION:Barnes & Noble
END:VEVENT
BEGIN:VEVENT
DTSTART;VALUE=DATE:20250823
DTEND;VALUE=DATE:20250825
DTSTAMP:20260421T013853
CREATED:20240731T034109Z
LAST-MODIFIED:20250821T202512Z
UID:10020040880-1755907200-1756079999@kidsguidemagazine.com
SUMMARY:Friendship Pow Wow in Hawaiian Gardens
DESCRIPTION:August 23-24\, 2025 \nCelebrate Native American culture and community at this years Friendship Pow Wow. \nGuests can enjoy cultural celebrations that include dancing\, singing\, Native American arts and crafts\, frybread\, and more. \nEvent is free and open to the public. \n 
URL:https://kidsguidemagazine.com/event/friendship-pow-wow-in-hawaiian-gardens/
LOCATION:Fedde Sports Complex\, 21409 Elaine Ave.\, Hawaiian Gardens\, CA\, 90716
CATEGORIES:* Free Events,• Cultural Events
END:VEVENT
BEGIN:VEVENT
DTSTART;VALUE=DATE:20250823
DTEND;VALUE=DATE:20250825
DTSTAMP:20260421T013853
CREATED:20250812T064536Z
LAST-MODIFIED:20250814T223311Z
UID:10020044209-1755907200-1756079999@kidsguidemagazine.com
SUMMARY:KPop Demon Hunters A Sing-Along Event at Movie Theatres
DESCRIPTION:August 23-24\, 2025 \nThe viral Netflix sensation KPop Demon Hunters  comes to the big screen for a special sing-along event\, letting fans join in on the music\, action\, and fun. \nThis fantasy-action film follows a world-famous K-pop girl group who secretly double as demon hunters\, using their talents to battle supernatural forces threatening humanity. \nAudiences can sing along to the movie’s biggest hits while reliving their favorite moments in an interactive setting. \n 
URL:https://kidsguidemagazine.com/event/kpop-demon-hunters-a-sing-along-event-at-movie-theatres/
LOCATION:CA
CATEGORIES:• Age: Older Kids & Teens
END:VEVENT
BEGIN:VEVENT
DTSTART;VALUE=DATE:20250823
DTEND;VALUE=DATE:20250825
DTSTAMP:20260421T013853
CREATED:20250821T223754Z
LAST-MODIFIED:20250821T224128Z
UID:10020044281-1755907200-1756079999@kidsguidemagazine.com
SUMMARY:Fierce! Catio Lounge at the Natural History Museum in LA
DESCRIPTION:Select Weekends\, August 23 – October 26\, 2025 \nSpend 15 minutes relaxing\, playing\, and discovering adoptable cats and kittens. This calm\, cozy lounge complements the Fierce! The Story of Cats exhibition and offers families a chance to connect with furry friends who may just become your new forever companion. \nAll cats are provided by a local rescue organization and are available for adoption the same day. Sessions are timed\, first-come\, first-served\, and available for onsite purchase only. \n 
URL:https://kidsguidemagazine.com/event/fierce-catio-lounge-at-the-natural-history-museum-in-la/
LOCATION:Natural History Museum\, 900 Exposition Blvd.\, Los Angeles\, CA\, 90007
CATEGORIES:* Editor's Picks!
ORGANIZER;CN="Natural History Museum":MAILTO:info@nhm.org
END:VEVENT
BEGIN:VEVENT
DTSTART;TZID=America/Los_Angeles:20250823T100000
DTEND;TZID=America/Los_Angeles:20250823T140000
DTSTAMP:20260421T013853
CREATED:20250811T221543Z
LAST-MODIFIED:20250811T221543Z
UID:10020044185-1755943200-1755957600@kidsguidemagazine.com
SUMMARY:Back 2 School Festival: Coastal Wellness & Fire Relief Edition in Venice
DESCRIPTION:Saturday\, August 23\, 2025 \nIt’s Bigger Than Us hosts a free community festival combining back-to-school support\, fire relief resources\, and family fun at Venice Beach. The event includes backpack giveaways\, wellness services\, performances\, games\, and activities for all ages. \nHighlights include: \n\nFree backpacks and school supplies\nFire relief resources for families\nYouth performances and skatepark activation\nWellness services and community resources\nGames\, raffles\, and family activities\n\nEvent runs 10am–2pm. Free and open to the public; special giveaways for pre-registered families. \n 
URL:https://kidsguidemagazine.com/event/back-2-school-festival-coastal-wellness-fire-relief-edition-in-venice/
LOCATION:Venice Beach Recreation Center & Ocean Front Walk\, 1800 Ocean Front Walk\, Venice Beach\, CA\, 90291
CATEGORIES:* Free Events
END:VEVENT
BEGIN:VEVENT
DTSTART;TZID=America/Los_Angeles:20250823T100000
DTEND;TZID=America/Los_Angeles:20250823T150000
DTSTAMP:20260421T013853
CREATED:20250821T174104Z
LAST-MODIFIED:20250821T174128Z
UID:10020044266-1755943200-1755961200@kidsguidemagazine.com
SUMMARY:Founder's Day at Ocean Institute in Dana Point
DESCRIPTION:Saturday\, August 23\, 2025 \nCelebrate Ocean Institute founder Stan Cummings and explore hands-on exhibits\, tide pool touch tanks\, and interactive activities highlighting marine science\, history\, and conservation. \nYou can also upgrade with a Whale & Marine Life Tour aboard the research vessel for wildlife sightings\, plankton tows\, and live microscope viewing. \nAdmission is free with option for paid upgrade.
URL:https://kidsguidemagazine.com/event/founders-day-at-ocean-institute-in-dana-point/
LOCATION:Ocean Institute\, 24200 Dana Point Harbor Drive\, Dana Point\, CA
CATEGORIES:* Editor's Picks!,* Free Events,• Nature & Outdoors
END:VEVENT
BEGIN:VEVENT
DTSTART;TZID=America/Los_Angeles:20250823T110000
DTEND;TZID=America/Los_Angeles:20250823T140000
DTSTAMP:20260421T013853
CREATED:20250811T210917Z
LAST-MODIFIED:20250811T211115Z
UID:10020044182-1755946800-1755957600@kidsguidemagazine.com
SUMMARY:Endless Summer C.A.M.P. at Tongva Park in Santa Monica
DESCRIPTION:Saturday\, August 23\, 2025 \nSanta Monica’s 150th Anniversary celebration continues with Endless Summer C.A.M.P. — a free\, family-friendly afternoon of community\, art\, music\, and play in the city’s eco-friendly urban oasis. Guests are encouraged to bring a picnic\, blankets\, and chairs to enjoy performances\, hands-on art\, and the park’s splash pad\, playground\, and ocean observation deck. \nThe day features live music\, interactive art-making\, and unique performances that reflect the city’s creative spirit. \nThe lineup includes: \n\n11:30 am. – Pacific Opera Project presents Cinderella Story\, an impossibly magical\, mash-up opera. This production is funded in part by a generous gift from Greater Los Angeles Education Foundation.\n1 pm – Masanga Marimba plays upbeat\, family-oriented music that everyone will enjoy! This unique 9-piece band plays Latin\, Pan African\, and American music on 7 Zimbabwean-style marimbas\, mbiras\, drums\, trombone\, and trumpet.\n11 am – 2 pm – Bubblemania and Company bubble party and hands-on workshop with Rediscover Center.\n\nFree and open to all ages. Runs 11am–2pm. Public transportation encouraged; parking available at Santa Monica Civic Center and nearby streets. \n 
URL:https://kidsguidemagazine.com/event/endless-summer-c-a-m-p-at-tongva-park-in-santa-monica/
LOCATION:Tongva Park (Santa Monica)\, 1615 Ocean Ave.\, Santa Monica\, CA\, 90401
CATEGORIES:* Free Events
END:VEVENT
BEGIN:VEVENT
DTSTART;TZID=America/Los_Angeles:20250823T110000
DTEND;TZID=America/Los_Angeles:20250823T150000
DTSTAMP:20260421T013853
CREATED:20250821T171723Z
LAST-MODIFIED:20250821T171723Z
UID:10020044264-1755946800-1755961200@kidsguidemagazine.com
SUMMARY:Big Blue Family Fun Day at Big Blue Swim School in Lakewood
DESCRIPTION:Saturday\, August 23\, 2025 \nCelebrate and get a first look at the opening of the Big Blue Swim School in Lakewood with entertainment\, kids activities\, food\, and more. \nEvent is free.
URL:https://kidsguidemagazine.com/event/big-blue-family-fun-day-at-big-blue-swim-school-in-lakewood/
LOCATION:Big Blue Swim School – Lakewood\, 4700 Candlewood St\, Lakewood\, CA\, 90712
CATEGORIES:* Free Events
END:VEVENT
BEGIN:VEVENT
DTSTART;TZID=America/Los_Angeles:20250823T110000
DTEND;TZID=America/Los_Angeles:20250823T190000
DTSTAMP:20260421T013853
CREATED:20240808T192048Z
LAST-MODIFIED:20250730T183516Z
UID:10020042330-1755946800-1755975600@kidsguidemagazine.com
SUMMARY:Back to School Carnival at Long Beach Exchange
DESCRIPTION:Saturday\, August 23\, 2025 \nJoin Angel City Market at the Long Beach Exchange for a Back-to-School Carnival featuring live DJ\, juggling and magic show\, balloon twisting\, 40+ vendors\, and more games and activities!
URL:https://kidsguidemagazine.com/event/back-to-school-carnival-at-long-beach-exchange/
LOCATION:Long Beach Exchange (LBX)\, Long Beach
CATEGORIES:* Free Events
END:VEVENT
BEGIN:VEVENT
DTSTART;TZID=America/Los_Angeles:20250823T110000
DTEND;TZID=America/Los_Angeles:20250823T210000
DTSTAMP:20260421T013853
CREATED:20250724T222519Z
LAST-MODIFIED:20250724T222519Z
UID:10020043993-1755946800-1755982800@kidsguidemagazine.com
SUMMARY:Summer Safari at SteelCraft Garden Grove
DESCRIPTION:Saturday\, August 23\, 2025 \nJoin SteelCraft Long Beach for a full day of family-friendly fun at the Summer Safari! The free event features animals\, crafts\, music\, and more from morning through evening. \nActivities include: \n\nBird & reptile show (11 AM – 1 PM)\nSafari Mickey meet & greet (1–2:30 PM)\nBalloon artist by (2–5:30 PM)\nLive music\nFree entry for all guests\n\n  \n 
URL:https://kidsguidemagazine.com/event/summer-safari-at-steelcraft-garden-grove/
LOCATION:SteelCraft – Garden Grove\, 12900 Euclid St.\, Garden Grove\, CA\, 92840\, United States
CATEGORIES:* Free Events
END:VEVENT
BEGIN:VEVENT
DTSTART;TZID=America/Los_Angeles:20250823T160000
DTEND;TZID=America/Los_Angeles:20250823T210000
DTSTAMP:20260421T013853
CREATED:20230815T221020Z
LAST-MODIFIED:20250731T180732Z
UID:10020040802-1755964800-1755982800@kidsguidemagazine.com
SUMMARY:Natsu Matsuri at Tanaka Farms
DESCRIPTION:Saturday\, August 23\, 2025 \nOCO Club holds Natsu Matsuri Festival at Tanaka Farms. Enjoy live entertainment like taiko and karaoke contest\, boutique\, food\, drinks\, parade\, beer garden\, Ondo Dancing\, and more. \nNo admission fee\, just pay for parking ($27/car). \n 
URL:https://kidsguidemagazine.com/event/natsu-matsuri-at-tanaka-farms/
LOCATION:Tanaka Farms\, 5380 3/4 University Drive\, Irvine\, 92612
CATEGORIES:* Editor's Picks!,• Cultural Events,• Festivals
END:VEVENT
BEGIN:VEVENT
DTSTART;TZID=America/Los_Angeles:20250823T170000
DTEND;TZID=America/Los_Angeles:20250823T200000
DTSTAMP:20260421T013853
CREATED:20250814T052517Z
LAST-MODIFIED:20250814T052517Z
UID:10020044260-1755968400-1755979200@kidsguidemagazine.com
SUMMARY:Chalk Art Festival in Yorba Linda
DESCRIPTION:Saturday\, August 23\, 2025 \nJoin the City of Yorba Linda for the annual Chalk Art Festival featuring creative displays from professional chalk artists\, a giant chalk mural to color\, music\, food trucks\, games and more. \n 
URL:https://kidsguidemagazine.com/event/chalk-art-festival-in-yorba-linda/
LOCATION:Yorba Linda Cultural Arts Center\, 4802 Lakeview Ave.\, Yorba Linda\, CA\, 92866
CATEGORIES:* Free Events
END:VEVENT
BEGIN:VEVENT
DTSTART;TZID=America/Los_Angeles:20250823T170000
DTEND;TZID=America/Los_Angeles:20250823T210000
DTSTAMP:20260421T013853
CREATED:20250821T181012Z
LAST-MODIFIED:20250821T181012Z
UID:10020044267-1755968400-1755982800@kidsguidemagazine.com
SUMMARY:India Independence Day Celebration at La Palma Park in Anaheim
DESCRIPTION:Saturday\, August 23\, 2025 \nCelebrate India’s Independence Day at La Palma Park with cultural performances\, traditional music\, authentic food\, and family activities. Experience the rich heritage of India in a lively community setting. \nEvent is free.
URL:https://kidsguidemagazine.com/event/india-independence-day-celebration-at-la-palma-park-in-anaheim/
LOCATION:La Palma Park – Anaheim\, 1151 N. La Palma Pkwy\, Anaheim\, CA\, 92801
CATEGORIES:* Free Events,• Cultural Events
END:VEVENT
BEGIN:VEVENT
DTSTART;TZID=America/Los_Angeles:20250823T170000
DTEND;TZID=America/Los_Angeles:20250823T220000
DTSTAMP:20260421T013853
CREATED:20250812T051014Z
LAST-MODIFIED:20250812T051014Z
UID:10020044202-1755968400-1755986400@kidsguidemagazine.com
SUMMARY:End of Summer Block Party & Parade in Downey
DESCRIPTION:Saturday\, August 23\, 2025 \nDowney’s end-of-summer celebration features a lively parade\, music\, activities\, and entertainment for all ages. The evening kicks off with a free parade down Downey Avenue\, followed by food\, shopping\, and family fun. \nHighlights include: \n\nParade at 6pm on Downey Avenue\nLive music performances\nVendor booths\nKids Zone\nPetting zoo\n\nEvent runs 5–10pm. Free and open to the public. \n 
URL:https://kidsguidemagazine.com/event/end-of-summer-block-party-parade-in-downey/
LOCATION:Downey Chamber of Commerce\, 11131 Brookshire Ave.\, Downey\, CA\, 90241
CATEGORIES:* Free Events
END:VEVENT
END:VCALENDAR