BEGIN:VCALENDAR
VERSION:2.0
PRODID:-//Kidsguide - ECPv6.15.20//NONSGML v1.0//EN
CALSCALE:GREGORIAN
METHOD:PUBLISH
X-ORIGINAL-URL:https://kidsguidemagazine.com
X-WR-CALDESC:Events for Kidsguide
REFRESH-INTERVAL;VALUE=DURATION:PT1H
X-Robots-Tag:noindex
X-PUBLISHED-TTL:PT1H
BEGIN:VTIMEZONE
TZID:America/Los_Angeles
BEGIN:DAYLIGHT
TZOFFSETFROM:-0800
TZOFFSETTO:-0700
TZNAME:PDT
DTSTART:20300310T100000
END:DAYLIGHT
BEGIN:STANDARD
TZOFFSETFROM:-0700
TZOFFSETTO:-0800
TZNAME:PST
DTSTART:20301103T090000
END:STANDARD
BEGIN:DAYLIGHT
TZOFFSETFROM:-0800
TZOFFSETTO:-0700
TZNAME:PDT
DTSTART:20310309T100000
END:DAYLIGHT
BEGIN:STANDARD
TZOFFSETFROM:-0700
TZOFFSETTO:-0800
TZNAME:PST
DTSTART:20311102T090000
END:STANDARD
BEGIN:DAYLIGHT
TZOFFSETFROM:-0800
TZOFFSETTO:-0700
TZNAME:PDT
DTSTART:20320314T100000
END:DAYLIGHT
BEGIN:STANDARD
TZOFFSETFROM:-0700
TZOFFSETTO:-0800
TZNAME:PST
DTSTART:20321107T090000
END:STANDARD
END:VTIMEZONE
BEGIN:VEVENT
DTSTART;TZID=America/Los_Angeles:20310215T103000
DTEND;TZID=America/Los_Angeles:20310215T120000
DTSTAMP:20260424T014358
CREATED:20260219T192242Z
LAST-MODIFIED:20260219T193142Z
UID:10020045998-1928917800-1928923200@kidsguidemagazine.com
SUMMARY:Discovery Zone | Madrona Marsh Nature Center\, Torrance
DESCRIPTION:3rd Saturday of Every Month\n10:30 a.m. – 12:00 p.m. \nDiscovery Zone at Madrona Marsh Nature Center is a hands-on space where young explorers learn about nature through play\, curiosity\, and discovery. Children can touch\, observe\, and investigate real objects from the marsh\, including feathers\, seeds\, animal tracks\, shells\, and plant samples. \nInteractive displays and simple science activities teach how plants and animals survive\, why wetlands are important\, and how people can help protect the environment. From using magnifiers to matching animal footprints or building a food web\, the Discovery Zone encourages creativity\, questions\, and respect for wildlife. \nEvent is free. This program takes place on the third Saturday of every month. \n\nIs the event free?\nYes. Event is free. \nWhere is the event located?\nMadrona Marsh Nature Center\, 3201 Plaza Del Amo\, Torrance\, CA 90503. \nDo tickets or reservations require advance booking?\nAdvance reservations are not specified. \n\nBefore You Go: Visit Madrona Marsh Nature Center for event details. Kidsguide is an independent community resource helping families discover fun events across Southern California. \nLooking for more family fun? Explore more family-friendly events on our blog\, browse our calendar\, check out limited-time exhibits and experiences\, or subscribe to our newsletter for weekly updates. \n 
URL:https://kidsguidemagazine.com/event/discovery-zone-madrona-marsh-nature-center-torrance/2031-02-15/
LOCATION:Madrona Marsh Preserve\, 3201 Plaza Del Amo\, Torrance\, CA\, 90503\, United States
CATEGORIES:* Free Events,• Nature & Outdoors
ATTACH;FMTTYPE=image/jpeg:https://kidsguidemagazine.com/wp-content/uploads/2026/02/Desert-Cottontail-courtesy-Lance-HIll-1024x683-1.webp
END:VEVENT
END:VCALENDAR